BEGIN:VCALENDAR
VERSION:2.0
PRODID:-//Sisters Oregon - ECPv6.15.20//NONSGML v1.0//EN
CALSCALE:GREGORIAN
METHOD:PUBLISH
X-ORIGINAL-URL:https://exploresisters.com
X-WR-CALDESC:Events for Sisters Oregon
REFRESH-INTERVAL;VALUE=DURATION:PT1H
X-Robots-Tag:noindex
X-PUBLISHED-TTL:PT1H
BEGIN:VTIMEZONE
TZID:America/Los_Angeles
BEGIN:DAYLIGHT
TZOFFSETFROM:-0800
TZOFFSETTO:-0700
TZNAME:PDT
DTSTART:20290311T100000
END:DAYLIGHT
BEGIN:STANDARD
TZOFFSETFROM:-0700
TZOFFSETTO:-0800
TZNAME:PST
DTSTART:20291104T090000
END:STANDARD
BEGIN:DAYLIGHT
TZOFFSETFROM:-0800
TZOFFSETTO:-0700
TZNAME:PDT
DTSTART:20300310T100000
END:DAYLIGHT
BEGIN:STANDARD
TZOFFSETFROM:-0700
TZOFFSETTO:-0800
TZNAME:PST
DTSTART:20301103T090000
END:STANDARD
BEGIN:DAYLIGHT
TZOFFSETFROM:-0800
TZOFFSETTO:-0700
TZNAME:PDT
DTSTART:20310309T100000
END:DAYLIGHT
BEGIN:STANDARD
TZOFFSETFROM:-0700
TZOFFSETTO:-0800
TZNAME:PST
DTSTART:20311102T090000
END:STANDARD
BEGIN:DAYLIGHT
TZOFFSETFROM:-0800
TZOFFSETTO:-0700
TZNAME:PDT
DTSTART:20320314T100000
END:DAYLIGHT
BEGIN:STANDARD
TZOFFSETFROM:-0700
TZOFFSETTO:-0800
TZNAME:PST
DTSTART:20321107T090000
END:STANDARD
END:VTIMEZONE
BEGIN:VEVENT
DTSTART;TZID=America/Los_Angeles:20300909T180000
DTEND;TZID=America/Los_Angeles:20300909T203000
DTSTAMP:20260423T035219
CREATED:20260217T033309Z
LAST-MODIFIED:20260220T035953Z
UID:10003912-1915207200-1915216200@exploresisters.com
SUMMARY:Open Mic @ Spoons
DESCRIPTION:Grab dinner and a drink\, bring your talent (or just come cheer)\, and enjoy a night of local music\, poetry\, comedy\, and more. Whether you’re taking the mic or soaking it all in\, it’s always a good time at Spoons! Hosted by Jordan Lewis Lee\, half of the roots music duo Lickety Split\, with Gabrielle Monia. This is an acoustic-instrument-only set up.
URL:https://exploresisters.com/event/spoons-open-mic/2030-09-09/
LOCATION:Spoons Restaurant\, 473 E Hood Ave\, Sisters\, 97759\, United States
CATEGORIES:Music
ATTACH;FMTTYPE=image/jpeg:https://exploresisters.com/wp-content/uploads/2025/10/just-duets-1.jpg
END:VEVENT
BEGIN:VEVENT
DTSTART;TZID=America/Los_Angeles:20300916T180000
DTEND;TZID=America/Los_Angeles:20300916T203000
DTSTAMP:20260423T035219
CREATED:20260217T033309Z
LAST-MODIFIED:20260220T035953Z
UID:10003913-1915812000-1915821000@exploresisters.com
SUMMARY:Open Mic @ Spoons
DESCRIPTION:Grab dinner and a drink\, bring your talent (or just come cheer)\, and enjoy a night of local music\, poetry\, comedy\, and more. Whether you’re taking the mic or soaking it all in\, it’s always a good time at Spoons! Hosted by Jordan Lewis Lee\, half of the roots music duo Lickety Split\, with Gabrielle Monia. This is an acoustic-instrument-only set up.
URL:https://exploresisters.com/event/spoons-open-mic/2030-09-16/
LOCATION:Spoons Restaurant\, 473 E Hood Ave\, Sisters\, 97759\, United States
CATEGORIES:Music
ATTACH;FMTTYPE=image/jpeg:https://exploresisters.com/wp-content/uploads/2025/10/just-duets-1.jpg
END:VEVENT
BEGIN:VEVENT
DTSTART;TZID=America/Los_Angeles:20300923T180000
DTEND;TZID=America/Los_Angeles:20300923T203000
DTSTAMP:20260423T035219
CREATED:20260217T033309Z
LAST-MODIFIED:20260220T035953Z
UID:10003914-1916416800-1916425800@exploresisters.com
SUMMARY:Open Mic @ Spoons
DESCRIPTION:Grab dinner and a drink\, bring your talent (or just come cheer)\, and enjoy a night of local music\, poetry\, comedy\, and more. Whether you’re taking the mic or soaking it all in\, it’s always a good time at Spoons! Hosted by Jordan Lewis Lee\, half of the roots music duo Lickety Split\, with Gabrielle Monia. This is an acoustic-instrument-only set up.
URL:https://exploresisters.com/event/spoons-open-mic/2030-09-23/
LOCATION:Spoons Restaurant\, 473 E Hood Ave\, Sisters\, 97759\, United States
CATEGORIES:Music
ATTACH;FMTTYPE=image/jpeg:https://exploresisters.com/wp-content/uploads/2025/10/just-duets-1.jpg
END:VEVENT
BEGIN:VEVENT
DTSTART;TZID=America/Los_Angeles:20300930T180000
DTEND;TZID=America/Los_Angeles:20300930T203000
DTSTAMP:20260423T035219
CREATED:20260217T033309Z
LAST-MODIFIED:20260220T035953Z
UID:10003915-1917021600-1917030600@exploresisters.com
SUMMARY:Open Mic @ Spoons
DESCRIPTION:Grab dinner and a drink\, bring your talent (or just come cheer)\, and enjoy a night of local music\, poetry\, comedy\, and more. Whether you’re taking the mic or soaking it all in\, it’s always a good time at Spoons! Hosted by Jordan Lewis Lee\, half of the roots music duo Lickety Split\, with Gabrielle Monia. This is an acoustic-instrument-only set up.
URL:https://exploresisters.com/event/spoons-open-mic/2030-09-30/
LOCATION:Spoons Restaurant\, 473 E Hood Ave\, Sisters\, 97759\, United States
CATEGORIES:Music
ATTACH;FMTTYPE=image/jpeg:https://exploresisters.com/wp-content/uploads/2025/10/just-duets-1.jpg
END:VEVENT
BEGIN:VEVENT
DTSTART;TZID=America/Los_Angeles:20301007T180000
DTEND;TZID=America/Los_Angeles:20301007T203000
DTSTAMP:20260423T035219
CREATED:20260217T033309Z
LAST-MODIFIED:20260220T035953Z
UID:10003916-1917626400-1917635400@exploresisters.com
SUMMARY:Open Mic @ Spoons
DESCRIPTION:Grab dinner and a drink\, bring your talent (or just come cheer)\, and enjoy a night of local music\, poetry\, comedy\, and more. Whether you’re taking the mic or soaking it all in\, it’s always a good time at Spoons! Hosted by Jordan Lewis Lee\, half of the roots music duo Lickety Split\, with Gabrielle Monia. This is an acoustic-instrument-only set up.
URL:https://exploresisters.com/event/spoons-open-mic/2030-10-07/
LOCATION:Spoons Restaurant\, 473 E Hood Ave\, Sisters\, 97759\, United States
CATEGORIES:Music
ATTACH;FMTTYPE=image/jpeg:https://exploresisters.com/wp-content/uploads/2025/10/just-duets-1.jpg
END:VEVENT
BEGIN:VEVENT
DTSTART;TZID=America/Los_Angeles:20301014T180000
DTEND;TZID=America/Los_Angeles:20301014T203000
DTSTAMP:20260423T035219
CREATED:20260217T033309Z
LAST-MODIFIED:20260220T035953Z
UID:10003917-1918231200-1918240200@exploresisters.com
SUMMARY:Open Mic @ Spoons
DESCRIPTION:Grab dinner and a drink\, bring your talent (or just come cheer)\, and enjoy a night of local music\, poetry\, comedy\, and more. Whether you’re taking the mic or soaking it all in\, it’s always a good time at Spoons! Hosted by Jordan Lewis Lee\, half of the roots music duo Lickety Split\, with Gabrielle Monia. This is an acoustic-instrument-only set up.
URL:https://exploresisters.com/event/spoons-open-mic/2030-10-14/
LOCATION:Spoons Restaurant\, 473 E Hood Ave\, Sisters\, 97759\, United States
CATEGORIES:Music
ATTACH;FMTTYPE=image/jpeg:https://exploresisters.com/wp-content/uploads/2025/10/just-duets-1.jpg
END:VEVENT
BEGIN:VEVENT
DTSTART;TZID=America/Los_Angeles:20301021T180000
DTEND;TZID=America/Los_Angeles:20301021T203000
DTSTAMP:20260423T035219
CREATED:20260217T033309Z
LAST-MODIFIED:20260220T035953Z
UID:10003918-1918836000-1918845000@exploresisters.com
SUMMARY:Open Mic @ Spoons
DESCRIPTION:Grab dinner and a drink\, bring your talent (or just come cheer)\, and enjoy a night of local music\, poetry\, comedy\, and more. Whether you’re taking the mic or soaking it all in\, it’s always a good time at Spoons! Hosted by Jordan Lewis Lee\, half of the roots music duo Lickety Split\, with Gabrielle Monia. This is an acoustic-instrument-only set up.
URL:https://exploresisters.com/event/spoons-open-mic/2030-10-21/
LOCATION:Spoons Restaurant\, 473 E Hood Ave\, Sisters\, 97759\, United States
CATEGORIES:Music
ATTACH;FMTTYPE=image/jpeg:https://exploresisters.com/wp-content/uploads/2025/10/just-duets-1.jpg
END:VEVENT
BEGIN:VEVENT
DTSTART;TZID=America/Los_Angeles:20301028T180000
DTEND;TZID=America/Los_Angeles:20301028T203000
DTSTAMP:20260423T035219
CREATED:20260217T033309Z
LAST-MODIFIED:20260220T035953Z
UID:10003919-1919440800-1919449800@exploresisters.com
SUMMARY:Open Mic @ Spoons
DESCRIPTION:Grab dinner and a drink\, bring your talent (or just come cheer)\, and enjoy a night of local music\, poetry\, comedy\, and more. Whether you’re taking the mic or soaking it all in\, it’s always a good time at Spoons! Hosted by Jordan Lewis Lee\, half of the roots music duo Lickety Split\, with Gabrielle Monia. This is an acoustic-instrument-only set up.
URL:https://exploresisters.com/event/spoons-open-mic/2030-10-28/
LOCATION:Spoons Restaurant\, 473 E Hood Ave\, Sisters\, 97759\, United States
CATEGORIES:Music
ATTACH;FMTTYPE=image/jpeg:https://exploresisters.com/wp-content/uploads/2025/10/just-duets-1.jpg
END:VEVENT
BEGIN:VEVENT
DTSTART;TZID=America/Los_Angeles:20301104T180000
DTEND;TZID=America/Los_Angeles:20301104T203000
DTSTAMP:20260423T035219
CREATED:20260217T033309Z
LAST-MODIFIED:20260220T035953Z
UID:10003920-1920045600-1920054600@exploresisters.com
SUMMARY:Open Mic @ Spoons
DESCRIPTION:Grab dinner and a drink\, bring your talent (or just come cheer)\, and enjoy a night of local music\, poetry\, comedy\, and more. Whether you’re taking the mic or soaking it all in\, it’s always a good time at Spoons! Hosted by Jordan Lewis Lee\, half of the roots music duo Lickety Split\, with Gabrielle Monia. This is an acoustic-instrument-only set up.
URL:https://exploresisters.com/event/spoons-open-mic/2030-11-04/
LOCATION:Spoons Restaurant\, 473 E Hood Ave\, Sisters\, 97759\, United States
CATEGORIES:Music
ATTACH;FMTTYPE=image/jpeg:https://exploresisters.com/wp-content/uploads/2025/10/just-duets-1.jpg
END:VEVENT
BEGIN:VEVENT
DTSTART;TZID=America/Los_Angeles:20301111T180000
DTEND;TZID=America/Los_Angeles:20301111T203000
DTSTAMP:20260423T035219
CREATED:20260217T033309Z
LAST-MODIFIED:20260220T035953Z
UID:10003921-1920650400-1920659400@exploresisters.com
SUMMARY:Open Mic @ Spoons
DESCRIPTION:Grab dinner and a drink\, bring your talent (or just come cheer)\, and enjoy a night of local music\, poetry\, comedy\, and more. Whether you’re taking the mic or soaking it all in\, it’s always a good time at Spoons! Hosted by Jordan Lewis Lee\, half of the roots music duo Lickety Split\, with Gabrielle Monia. This is an acoustic-instrument-only set up.
URL:https://exploresisters.com/event/spoons-open-mic/2030-11-11/
LOCATION:Spoons Restaurant\, 473 E Hood Ave\, Sisters\, 97759\, United States
CATEGORIES:Music
ATTACH;FMTTYPE=image/jpeg:https://exploresisters.com/wp-content/uploads/2025/10/just-duets-1.jpg
END:VEVENT
BEGIN:VEVENT
DTSTART;TZID=America/Los_Angeles:20301118T180000
DTEND;TZID=America/Los_Angeles:20301118T203000
DTSTAMP:20260423T035219
CREATED:20260217T033309Z
LAST-MODIFIED:20260220T035953Z
UID:10003922-1921255200-1921264200@exploresisters.com
SUMMARY:Open Mic @ Spoons
DESCRIPTION:Grab dinner and a drink\, bring your talent (or just come cheer)\, and enjoy a night of local music\, poetry\, comedy\, and more. Whether you’re taking the mic or soaking it all in\, it’s always a good time at Spoons! Hosted by Jordan Lewis Lee\, half of the roots music duo Lickety Split\, with Gabrielle Monia. This is an acoustic-instrument-only set up.
URL:https://exploresisters.com/event/spoons-open-mic/2030-11-18/
LOCATION:Spoons Restaurant\, 473 E Hood Ave\, Sisters\, 97759\, United States
CATEGORIES:Music
ATTACH;FMTTYPE=image/jpeg:https://exploresisters.com/wp-content/uploads/2025/10/just-duets-1.jpg
END:VEVENT
BEGIN:VEVENT
DTSTART;TZID=America/Los_Angeles:20301125T180000
DTEND;TZID=America/Los_Angeles:20301125T203000
DTSTAMP:20260423T035219
CREATED:20260217T033309Z
LAST-MODIFIED:20260220T035953Z
UID:10003923-1921860000-1921869000@exploresisters.com
SUMMARY:Open Mic @ Spoons
DESCRIPTION:Grab dinner and a drink\, bring your talent (or just come cheer)\, and enjoy a night of local music\, poetry\, comedy\, and more. Whether you’re taking the mic or soaking it all in\, it’s always a good time at Spoons! Hosted by Jordan Lewis Lee\, half of the roots music duo Lickety Split\, with Gabrielle Monia. This is an acoustic-instrument-only set up.
URL:https://exploresisters.com/event/spoons-open-mic/2030-11-25/
LOCATION:Spoons Restaurant\, 473 E Hood Ave\, Sisters\, 97759\, United States
CATEGORIES:Music
ATTACH;FMTTYPE=image/jpeg:https://exploresisters.com/wp-content/uploads/2025/10/just-duets-1.jpg
END:VEVENT
BEGIN:VEVENT
DTSTART;TZID=America/Los_Angeles:20301202T180000
DTEND;TZID=America/Los_Angeles:20301202T203000
DTSTAMP:20260423T035219
CREATED:20260217T033309Z
LAST-MODIFIED:20260220T035953Z
UID:10003924-1922464800-1922473800@exploresisters.com
SUMMARY:Open Mic @ Spoons
DESCRIPTION:Grab dinner and a drink\, bring your talent (or just come cheer)\, and enjoy a night of local music\, poetry\, comedy\, and more. Whether you’re taking the mic or soaking it all in\, it’s always a good time at Spoons! Hosted by Jordan Lewis Lee\, half of the roots music duo Lickety Split\, with Gabrielle Monia. This is an acoustic-instrument-only set up.
URL:https://exploresisters.com/event/spoons-open-mic/2030-12-02/
LOCATION:Spoons Restaurant\, 473 E Hood Ave\, Sisters\, 97759\, United States
CATEGORIES:Music
ATTACH;FMTTYPE=image/jpeg:https://exploresisters.com/wp-content/uploads/2025/10/just-duets-1.jpg
END:VEVENT
BEGIN:VEVENT
DTSTART;TZID=America/Los_Angeles:20301209T180000
DTEND;TZID=America/Los_Angeles:20301209T203000
DTSTAMP:20260423T035219
CREATED:20260217T033309Z
LAST-MODIFIED:20260220T035953Z
UID:10003925-1923069600-1923078600@exploresisters.com
SUMMARY:Open Mic @ Spoons
DESCRIPTION:Grab dinner and a drink\, bring your talent (or just come cheer)\, and enjoy a night of local music\, poetry\, comedy\, and more. Whether you’re taking the mic or soaking it all in\, it’s always a good time at Spoons! Hosted by Jordan Lewis Lee\, half of the roots music duo Lickety Split\, with Gabrielle Monia. This is an acoustic-instrument-only set up.
URL:https://exploresisters.com/event/spoons-open-mic/2030-12-09/
LOCATION:Spoons Restaurant\, 473 E Hood Ave\, Sisters\, 97759\, United States
CATEGORIES:Music
ATTACH;FMTTYPE=image/jpeg:https://exploresisters.com/wp-content/uploads/2025/10/just-duets-1.jpg
END:VEVENT
BEGIN:VEVENT
DTSTART;TZID=America/Los_Angeles:20301216T180000
DTEND;TZID=America/Los_Angeles:20301216T203000
DTSTAMP:20260423T035219
CREATED:20260217T033309Z
LAST-MODIFIED:20260220T035953Z
UID:10003926-1923674400-1923683400@exploresisters.com
SUMMARY:Open Mic @ Spoons
DESCRIPTION:Grab dinner and a drink\, bring your talent (or just come cheer)\, and enjoy a night of local music\, poetry\, comedy\, and more. Whether you’re taking the mic or soaking it all in\, it’s always a good time at Spoons! Hosted by Jordan Lewis Lee\, half of the roots music duo Lickety Split\, with Gabrielle Monia. This is an acoustic-instrument-only set up.
URL:https://exploresisters.com/event/spoons-open-mic/2030-12-16/
LOCATION:Spoons Restaurant\, 473 E Hood Ave\, Sisters\, 97759\, United States
CATEGORIES:Music
ATTACH;FMTTYPE=image/jpeg:https://exploresisters.com/wp-content/uploads/2025/10/just-duets-1.jpg
END:VEVENT
BEGIN:VEVENT
DTSTART;TZID=America/Los_Angeles:20301223T180000
DTEND;TZID=America/Los_Angeles:20301223T203000
DTSTAMP:20260423T035219
CREATED:20260217T033309Z
LAST-MODIFIED:20260220T035953Z
UID:10003927-1924279200-1924288200@exploresisters.com
SUMMARY:Open Mic @ Spoons
DESCRIPTION:Grab dinner and a drink\, bring your talent (or just come cheer)\, and enjoy a night of local music\, poetry\, comedy\, and more. Whether you’re taking the mic or soaking it all in\, it’s always a good time at Spoons! Hosted by Jordan Lewis Lee\, half of the roots music duo Lickety Split\, with Gabrielle Monia. This is an acoustic-instrument-only set up.
URL:https://exploresisters.com/event/spoons-open-mic/2030-12-23/
LOCATION:Spoons Restaurant\, 473 E Hood Ave\, Sisters\, 97759\, United States
CATEGORIES:Music
ATTACH;FMTTYPE=image/jpeg:https://exploresisters.com/wp-content/uploads/2025/10/just-duets-1.jpg
END:VEVENT
BEGIN:VEVENT
DTSTART;TZID=America/Los_Angeles:20301230T180000
DTEND;TZID=America/Los_Angeles:20301230T203000
DTSTAMP:20260423T035219
CREATED:20260217T033309Z
LAST-MODIFIED:20260220T035953Z
UID:10003928-1924884000-1924893000@exploresisters.com
SUMMARY:Open Mic @ Spoons
DESCRIPTION:Grab dinner and a drink\, bring your talent (or just come cheer)\, and enjoy a night of local music\, poetry\, comedy\, and more. Whether you’re taking the mic or soaking it all in\, it’s always a good time at Spoons! Hosted by Jordan Lewis Lee\, half of the roots music duo Lickety Split\, with Gabrielle Monia. This is an acoustic-instrument-only set up.
URL:https://exploresisters.com/event/spoons-open-mic/2030-12-30/
LOCATION:Spoons Restaurant\, 473 E Hood Ave\, Sisters\, 97759\, United States
CATEGORIES:Music
ATTACH;FMTTYPE=image/jpeg:https://exploresisters.com/wp-content/uploads/2025/10/just-duets-1.jpg
END:VEVENT
BEGIN:VEVENT
DTSTART;TZID=America/Los_Angeles:20310106T180000
DTEND;TZID=America/Los_Angeles:20310106T203000
DTSTAMP:20260423T035219
CREATED:20260217T033309Z
LAST-MODIFIED:20260220T035953Z
UID:10003929-1925488800-1925497800@exploresisters.com
SUMMARY:Open Mic @ Spoons
DESCRIPTION:Grab dinner and a drink\, bring your talent (or just come cheer)\, and enjoy a night of local music\, poetry\, comedy\, and more. Whether you’re taking the mic or soaking it all in\, it’s always a good time at Spoons! Hosted by Jordan Lewis Lee\, half of the roots music duo Lickety Split\, with Gabrielle Monia. This is an acoustic-instrument-only set up.
URL:https://exploresisters.com/event/spoons-open-mic/2031-01-06/
LOCATION:Spoons Restaurant\, 473 E Hood Ave\, Sisters\, 97759\, United States
CATEGORIES:Music
ATTACH;FMTTYPE=image/jpeg:https://exploresisters.com/wp-content/uploads/2025/10/just-duets-1.jpg
END:VEVENT
BEGIN:VEVENT
DTSTART;TZID=America/Los_Angeles:20310113T180000
DTEND;TZID=America/Los_Angeles:20310113T203000
DTSTAMP:20260423T035220
CREATED:20260217T033309Z
LAST-MODIFIED:20260220T035953Z
UID:10003930-1926093600-1926102600@exploresisters.com
SUMMARY:Open Mic @ Spoons
DESCRIPTION:Grab dinner and a drink\, bring your talent (or just come cheer)\, and enjoy a night of local music\, poetry\, comedy\, and more. Whether you’re taking the mic or soaking it all in\, it’s always a good time at Spoons! Hosted by Jordan Lewis Lee\, half of the roots music duo Lickety Split\, with Gabrielle Monia. This is an acoustic-instrument-only set up.
URL:https://exploresisters.com/event/spoons-open-mic/2031-01-13/
LOCATION:Spoons Restaurant\, 473 E Hood Ave\, Sisters\, 97759\, United States
CATEGORIES:Music
ATTACH;FMTTYPE=image/jpeg:https://exploresisters.com/wp-content/uploads/2025/10/just-duets-1.jpg
END:VEVENT
BEGIN:VEVENT
DTSTART;TZID=America/Los_Angeles:20310120T180000
DTEND;TZID=America/Los_Angeles:20310120T203000
DTSTAMP:20260423T035220
CREATED:20260217T033309Z
LAST-MODIFIED:20260220T035953Z
UID:10003931-1926698400-1926707400@exploresisters.com
SUMMARY:Open Mic @ Spoons
DESCRIPTION:Grab dinner and a drink\, bring your talent (or just come cheer)\, and enjoy a night of local music\, poetry\, comedy\, and more. Whether you’re taking the mic or soaking it all in\, it’s always a good time at Spoons! Hosted by Jordan Lewis Lee\, half of the roots music duo Lickety Split\, with Gabrielle Monia. This is an acoustic-instrument-only set up.
URL:https://exploresisters.com/event/spoons-open-mic/2031-01-20/
LOCATION:Spoons Restaurant\, 473 E Hood Ave\, Sisters\, 97759\, United States
CATEGORIES:Music
ATTACH;FMTTYPE=image/jpeg:https://exploresisters.com/wp-content/uploads/2025/10/just-duets-1.jpg
END:VEVENT
BEGIN:VEVENT
DTSTART;TZID=America/Los_Angeles:20310127T180000
DTEND;TZID=America/Los_Angeles:20310127T203000
DTSTAMP:20260423T035220
CREATED:20260217T033309Z
LAST-MODIFIED:20260220T035953Z
UID:10003932-1927303200-1927312200@exploresisters.com
SUMMARY:Open Mic @ Spoons
DESCRIPTION:Grab dinner and a drink\, bring your talent (or just come cheer)\, and enjoy a night of local music\, poetry\, comedy\, and more. Whether you’re taking the mic or soaking it all in\, it’s always a good time at Spoons! Hosted by Jordan Lewis Lee\, half of the roots music duo Lickety Split\, with Gabrielle Monia. This is an acoustic-instrument-only set up.
URL:https://exploresisters.com/event/spoons-open-mic/2031-01-27/
LOCATION:Spoons Restaurant\, 473 E Hood Ave\, Sisters\, 97759\, United States
CATEGORIES:Music
ATTACH;FMTTYPE=image/jpeg:https://exploresisters.com/wp-content/uploads/2025/10/just-duets-1.jpg
END:VEVENT
BEGIN:VEVENT
DTSTART;TZID=America/Los_Angeles:20310203T180000
DTEND;TZID=America/Los_Angeles:20310203T203000
DTSTAMP:20260423T035220
CREATED:20260217T033309Z
LAST-MODIFIED:20260220T035953Z
UID:10003933-1927908000-1927917000@exploresisters.com
SUMMARY:Open Mic @ Spoons
DESCRIPTION:Grab dinner and a drink\, bring your talent (or just come cheer)\, and enjoy a night of local music\, poetry\, comedy\, and more. Whether you’re taking the mic or soaking it all in\, it’s always a good time at Spoons! Hosted by Jordan Lewis Lee\, half of the roots music duo Lickety Split\, with Gabrielle Monia. This is an acoustic-instrument-only set up.
URL:https://exploresisters.com/event/spoons-open-mic/2031-02-03/
LOCATION:Spoons Restaurant\, 473 E Hood Ave\, Sisters\, 97759\, United States
CATEGORIES:Music
ATTACH;FMTTYPE=image/jpeg:https://exploresisters.com/wp-content/uploads/2025/10/just-duets-1.jpg
END:VEVENT
BEGIN:VEVENT
DTSTART;TZID=America/Los_Angeles:20310210T180000
DTEND;TZID=America/Los_Angeles:20310210T203000
DTSTAMP:20260423T035220
CREATED:20260217T033309Z
LAST-MODIFIED:20260220T035953Z
UID:10003934-1928512800-1928521800@exploresisters.com
SUMMARY:Open Mic @ Spoons
DESCRIPTION:Grab dinner and a drink\, bring your talent (or just come cheer)\, and enjoy a night of local music\, poetry\, comedy\, and more. Whether you’re taking the mic or soaking it all in\, it’s always a good time at Spoons! Hosted by Jordan Lewis Lee\, half of the roots music duo Lickety Split\, with Gabrielle Monia. This is an acoustic-instrument-only set up.
URL:https://exploresisters.com/event/spoons-open-mic/2031-02-10/
LOCATION:Spoons Restaurant\, 473 E Hood Ave\, Sisters\, 97759\, United States
CATEGORIES:Music
ATTACH;FMTTYPE=image/jpeg:https://exploresisters.com/wp-content/uploads/2025/10/just-duets-1.jpg
END:VEVENT
BEGIN:VEVENT
DTSTART;TZID=America/Los_Angeles:20310217T180000
DTEND;TZID=America/Los_Angeles:20310217T203000
DTSTAMP:20260423T035220
CREATED:20260217T033309Z
LAST-MODIFIED:20260220T035953Z
UID:10004342-1929117600-1929126600@exploresisters.com
SUMMARY:Open Mic @ Spoons
DESCRIPTION:Grab dinner and a drink\, bring your talent (or just come cheer)\, and enjoy a night of local music\, poetry\, comedy\, and more. Whether you’re taking the mic or soaking it all in\, it’s always a good time at Spoons! Hosted by Jordan Lewis Lee\, half of the roots music duo Lickety Split\, with Gabrielle Monia. This is an acoustic-instrument-only set up.
URL:https://exploresisters.com/event/spoons-open-mic/2031-02-17/
LOCATION:Spoons Restaurant\, 473 E Hood Ave\, Sisters\, 97759\, United States
CATEGORIES:Music
ATTACH;FMTTYPE=image/jpeg:https://exploresisters.com/wp-content/uploads/2025/10/just-duets-1.jpg
END:VEVENT
END:VCALENDAR