BEGIN:VCALENDAR
VERSION:2.0
PRODID:-//Sisters Oregon - ECPv6.15.20//NONSGML v1.0//EN
CALSCALE:GREGORIAN
METHOD:PUBLISH
X-WR-CALNAME:Sisters Oregon
X-ORIGINAL-URL:https://exploresisters.com
X-WR-CALDESC:Events for Sisters Oregon
REFRESH-INTERVAL;VALUE=DURATION:PT1H
X-Robots-Tag:noindex
X-PUBLISHED-TTL:PT1H
BEGIN:VTIMEZONE
TZID:America/Los_Angeles
BEGIN:DAYLIGHT
TZOFFSETFROM:-0800
TZOFFSETTO:-0700
TZNAME:PDT
DTSTART:20270314T100000
END:DAYLIGHT
BEGIN:STANDARD
TZOFFSETFROM:-0700
TZOFFSETTO:-0800
TZNAME:PST
DTSTART:20271107T090000
END:STANDARD
BEGIN:DAYLIGHT
TZOFFSETFROM:-0800
TZOFFSETTO:-0700
TZNAME:PDT
DTSTART:20280312T100000
END:DAYLIGHT
BEGIN:STANDARD
TZOFFSETFROM:-0700
TZOFFSETTO:-0800
TZNAME:PST
DTSTART:20281105T090000
END:STANDARD
BEGIN:DAYLIGHT
TZOFFSETFROM:-0800
TZOFFSETTO:-0700
TZNAME:PDT
DTSTART:20290311T100000
END:DAYLIGHT
BEGIN:STANDARD
TZOFFSETFROM:-0700
TZOFFSETTO:-0800
TZNAME:PST
DTSTART:20291104T090000
END:STANDARD
BEGIN:DAYLIGHT
TZOFFSETFROM:-0800
TZOFFSETTO:-0700
TZNAME:PDT
DTSTART:20300310T100000
END:DAYLIGHT
BEGIN:STANDARD
TZOFFSETFROM:-0700
TZOFFSETTO:-0800
TZNAME:PST
DTSTART:20301103T090000
END:STANDARD
END:VTIMEZONE
BEGIN:VEVENT
DTSTART;TZID=America/Los_Angeles:20280807T180000
DTEND;TZID=America/Los_Angeles:20280807T203000
DTSTAMP:20260419T205327
CREATED:20260217T033309Z
LAST-MODIFIED:20260220T035953Z
UID:10003803-1849284000-1849293000@exploresisters.com
SUMMARY:Open Mic @ Spoons
DESCRIPTION:Grab dinner and a drink\, bring your talent (or just come cheer)\, and enjoy a night of local music\, poetry\, comedy\, and more. Whether you’re taking the mic or soaking it all in\, it’s always a good time at Spoons! Hosted by Jordan Lewis Lee\, half of the roots music duo Lickety Split\, with Gabrielle Monia. This is an acoustic-instrument-only set up.
URL:https://exploresisters.com/event/spoons-open-mic/2028-08-07/
LOCATION:Spoons Restaurant\, 473 E Hood Ave\, Sisters\, 97759\, United States
CATEGORIES:Music
ATTACH;FMTTYPE=image/jpeg:https://exploresisters.com/wp-content/uploads/2025/10/just-duets-1.jpg
END:VEVENT
BEGIN:VEVENT
DTSTART;TZID=America/Los_Angeles:20280814T180000
DTEND;TZID=America/Los_Angeles:20280814T203000
DTSTAMP:20260419T205327
CREATED:20260217T033309Z
LAST-MODIFIED:20260220T035953Z
UID:10003804-1849888800-1849897800@exploresisters.com
SUMMARY:Open Mic @ Spoons
DESCRIPTION:Grab dinner and a drink\, bring your talent (or just come cheer)\, and enjoy a night of local music\, poetry\, comedy\, and more. Whether you’re taking the mic or soaking it all in\, it’s always a good time at Spoons! Hosted by Jordan Lewis Lee\, half of the roots music duo Lickety Split\, with Gabrielle Monia. This is an acoustic-instrument-only set up.
URL:https://exploresisters.com/event/spoons-open-mic/2028-08-14/
LOCATION:Spoons Restaurant\, 473 E Hood Ave\, Sisters\, 97759\, United States
CATEGORIES:Music
ATTACH;FMTTYPE=image/jpeg:https://exploresisters.com/wp-content/uploads/2025/10/just-duets-1.jpg
END:VEVENT
BEGIN:VEVENT
DTSTART;TZID=America/Los_Angeles:20280821T180000
DTEND;TZID=America/Los_Angeles:20280821T203000
DTSTAMP:20260419T205327
CREATED:20260217T033309Z
LAST-MODIFIED:20260220T035953Z
UID:10003805-1850493600-1850502600@exploresisters.com
SUMMARY:Open Mic @ Spoons
DESCRIPTION:Grab dinner and a drink\, bring your talent (or just come cheer)\, and enjoy a night of local music\, poetry\, comedy\, and more. Whether you’re taking the mic or soaking it all in\, it’s always a good time at Spoons! Hosted by Jordan Lewis Lee\, half of the roots music duo Lickety Split\, with Gabrielle Monia. This is an acoustic-instrument-only set up.
URL:https://exploresisters.com/event/spoons-open-mic/2028-08-21/
LOCATION:Spoons Restaurant\, 473 E Hood Ave\, Sisters\, 97759\, United States
CATEGORIES:Music
ATTACH;FMTTYPE=image/jpeg:https://exploresisters.com/wp-content/uploads/2025/10/just-duets-1.jpg
END:VEVENT
BEGIN:VEVENT
DTSTART;TZID=America/Los_Angeles:20280828T180000
DTEND;TZID=America/Los_Angeles:20280828T203000
DTSTAMP:20260419T205327
CREATED:20260217T033309Z
LAST-MODIFIED:20260220T035953Z
UID:10003806-1851098400-1851107400@exploresisters.com
SUMMARY:Open Mic @ Spoons
DESCRIPTION:Grab dinner and a drink\, bring your talent (or just come cheer)\, and enjoy a night of local music\, poetry\, comedy\, and more. Whether you’re taking the mic or soaking it all in\, it’s always a good time at Spoons! Hosted by Jordan Lewis Lee\, half of the roots music duo Lickety Split\, with Gabrielle Monia. This is an acoustic-instrument-only set up.
URL:https://exploresisters.com/event/spoons-open-mic/2028-08-28/
LOCATION:Spoons Restaurant\, 473 E Hood Ave\, Sisters\, 97759\, United States
CATEGORIES:Music
ATTACH;FMTTYPE=image/jpeg:https://exploresisters.com/wp-content/uploads/2025/10/just-duets-1.jpg
END:VEVENT
BEGIN:VEVENT
DTSTART;TZID=America/Los_Angeles:20280904T180000
DTEND;TZID=America/Los_Angeles:20280904T203000
DTSTAMP:20260419T205327
CREATED:20260217T033309Z
LAST-MODIFIED:20260220T035953Z
UID:10003807-1851703200-1851712200@exploresisters.com
SUMMARY:Open Mic @ Spoons
DESCRIPTION:Grab dinner and a drink\, bring your talent (or just come cheer)\, and enjoy a night of local music\, poetry\, comedy\, and more. Whether you’re taking the mic or soaking it all in\, it’s always a good time at Spoons! Hosted by Jordan Lewis Lee\, half of the roots music duo Lickety Split\, with Gabrielle Monia. This is an acoustic-instrument-only set up.
URL:https://exploresisters.com/event/spoons-open-mic/2028-09-04/
LOCATION:Spoons Restaurant\, 473 E Hood Ave\, Sisters\, 97759\, United States
CATEGORIES:Music
ATTACH;FMTTYPE=image/jpeg:https://exploresisters.com/wp-content/uploads/2025/10/just-duets-1.jpg
END:VEVENT
BEGIN:VEVENT
DTSTART;TZID=America/Los_Angeles:20280911T180000
DTEND;TZID=America/Los_Angeles:20280911T203000
DTSTAMP:20260419T205327
CREATED:20260217T033309Z
LAST-MODIFIED:20260220T035953Z
UID:10003808-1852308000-1852317000@exploresisters.com
SUMMARY:Open Mic @ Spoons
DESCRIPTION:Grab dinner and a drink\, bring your talent (or just come cheer)\, and enjoy a night of local music\, poetry\, comedy\, and more. Whether you’re taking the mic or soaking it all in\, it’s always a good time at Spoons! Hosted by Jordan Lewis Lee\, half of the roots music duo Lickety Split\, with Gabrielle Monia. This is an acoustic-instrument-only set up.
URL:https://exploresisters.com/event/spoons-open-mic/2028-09-11/
LOCATION:Spoons Restaurant\, 473 E Hood Ave\, Sisters\, 97759\, United States
CATEGORIES:Music
ATTACH;FMTTYPE=image/jpeg:https://exploresisters.com/wp-content/uploads/2025/10/just-duets-1.jpg
END:VEVENT
BEGIN:VEVENT
DTSTART;TZID=America/Los_Angeles:20280918T180000
DTEND;TZID=America/Los_Angeles:20280918T203000
DTSTAMP:20260419T205327
CREATED:20260217T033309Z
LAST-MODIFIED:20260220T035953Z
UID:10003809-1852912800-1852921800@exploresisters.com
SUMMARY:Open Mic @ Spoons
DESCRIPTION:Grab dinner and a drink\, bring your talent (or just come cheer)\, and enjoy a night of local music\, poetry\, comedy\, and more. Whether you’re taking the mic or soaking it all in\, it’s always a good time at Spoons! Hosted by Jordan Lewis Lee\, half of the roots music duo Lickety Split\, with Gabrielle Monia. This is an acoustic-instrument-only set up.
URL:https://exploresisters.com/event/spoons-open-mic/2028-09-18/
LOCATION:Spoons Restaurant\, 473 E Hood Ave\, Sisters\, 97759\, United States
CATEGORIES:Music
ATTACH;FMTTYPE=image/jpeg:https://exploresisters.com/wp-content/uploads/2025/10/just-duets-1.jpg
END:VEVENT
BEGIN:VEVENT
DTSTART;TZID=America/Los_Angeles:20280925T180000
DTEND;TZID=America/Los_Angeles:20280925T203000
DTSTAMP:20260419T205327
CREATED:20260217T033309Z
LAST-MODIFIED:20260220T035953Z
UID:10003810-1853517600-1853526600@exploresisters.com
SUMMARY:Open Mic @ Spoons
DESCRIPTION:Grab dinner and a drink\, bring your talent (or just come cheer)\, and enjoy a night of local music\, poetry\, comedy\, and more. Whether you’re taking the mic or soaking it all in\, it’s always a good time at Spoons! Hosted by Jordan Lewis Lee\, half of the roots music duo Lickety Split\, with Gabrielle Monia. This is an acoustic-instrument-only set up.
URL:https://exploresisters.com/event/spoons-open-mic/2028-09-25/
LOCATION:Spoons Restaurant\, 473 E Hood Ave\, Sisters\, 97759\, United States
CATEGORIES:Music
ATTACH;FMTTYPE=image/jpeg:https://exploresisters.com/wp-content/uploads/2025/10/just-duets-1.jpg
END:VEVENT
BEGIN:VEVENT
DTSTART;TZID=America/Los_Angeles:20281002T180000
DTEND;TZID=America/Los_Angeles:20281002T203000
DTSTAMP:20260419T205327
CREATED:20260217T033309Z
LAST-MODIFIED:20260220T035953Z
UID:10003811-1854122400-1854131400@exploresisters.com
SUMMARY:Open Mic @ Spoons
DESCRIPTION:Grab dinner and a drink\, bring your talent (or just come cheer)\, and enjoy a night of local music\, poetry\, comedy\, and more. Whether you’re taking the mic or soaking it all in\, it’s always a good time at Spoons! Hosted by Jordan Lewis Lee\, half of the roots music duo Lickety Split\, with Gabrielle Monia. This is an acoustic-instrument-only set up.
URL:https://exploresisters.com/event/spoons-open-mic/2028-10-02/
LOCATION:Spoons Restaurant\, 473 E Hood Ave\, Sisters\, 97759\, United States
CATEGORIES:Music
ATTACH;FMTTYPE=image/jpeg:https://exploresisters.com/wp-content/uploads/2025/10/just-duets-1.jpg
END:VEVENT
BEGIN:VEVENT
DTSTART;TZID=America/Los_Angeles:20281009T180000
DTEND;TZID=America/Los_Angeles:20281009T203000
DTSTAMP:20260419T205327
CREATED:20260217T033309Z
LAST-MODIFIED:20260220T035953Z
UID:10003812-1854727200-1854736200@exploresisters.com
SUMMARY:Open Mic @ Spoons
DESCRIPTION:Grab dinner and a drink\, bring your talent (or just come cheer)\, and enjoy a night of local music\, poetry\, comedy\, and more. Whether you’re taking the mic or soaking it all in\, it’s always a good time at Spoons! Hosted by Jordan Lewis Lee\, half of the roots music duo Lickety Split\, with Gabrielle Monia. This is an acoustic-instrument-only set up.
URL:https://exploresisters.com/event/spoons-open-mic/2028-10-09/
LOCATION:Spoons Restaurant\, 473 E Hood Ave\, Sisters\, 97759\, United States
CATEGORIES:Music
ATTACH;FMTTYPE=image/jpeg:https://exploresisters.com/wp-content/uploads/2025/10/just-duets-1.jpg
END:VEVENT
BEGIN:VEVENT
DTSTART;TZID=America/Los_Angeles:20281016T180000
DTEND;TZID=America/Los_Angeles:20281016T203000
DTSTAMP:20260419T205327
CREATED:20260217T033309Z
LAST-MODIFIED:20260220T035953Z
UID:10003813-1855332000-1855341000@exploresisters.com
SUMMARY:Open Mic @ Spoons
DESCRIPTION:Grab dinner and a drink\, bring your talent (or just come cheer)\, and enjoy a night of local music\, poetry\, comedy\, and more. Whether you’re taking the mic or soaking it all in\, it’s always a good time at Spoons! Hosted by Jordan Lewis Lee\, half of the roots music duo Lickety Split\, with Gabrielle Monia. This is an acoustic-instrument-only set up.
URL:https://exploresisters.com/event/spoons-open-mic/2028-10-16/
LOCATION:Spoons Restaurant\, 473 E Hood Ave\, Sisters\, 97759\, United States
CATEGORIES:Music
ATTACH;FMTTYPE=image/jpeg:https://exploresisters.com/wp-content/uploads/2025/10/just-duets-1.jpg
END:VEVENT
BEGIN:VEVENT
DTSTART;TZID=America/Los_Angeles:20281023T180000
DTEND;TZID=America/Los_Angeles:20281023T203000
DTSTAMP:20260419T205327
CREATED:20260217T033309Z
LAST-MODIFIED:20260220T035953Z
UID:10003814-1855936800-1855945800@exploresisters.com
SUMMARY:Open Mic @ Spoons
DESCRIPTION:Grab dinner and a drink\, bring your talent (or just come cheer)\, and enjoy a night of local music\, poetry\, comedy\, and more. Whether you’re taking the mic or soaking it all in\, it’s always a good time at Spoons! Hosted by Jordan Lewis Lee\, half of the roots music duo Lickety Split\, with Gabrielle Monia. This is an acoustic-instrument-only set up.
URL:https://exploresisters.com/event/spoons-open-mic/2028-10-23/
LOCATION:Spoons Restaurant\, 473 E Hood Ave\, Sisters\, 97759\, United States
CATEGORIES:Music
ATTACH;FMTTYPE=image/jpeg:https://exploresisters.com/wp-content/uploads/2025/10/just-duets-1.jpg
END:VEVENT
BEGIN:VEVENT
DTSTART;TZID=America/Los_Angeles:20281030T180000
DTEND;TZID=America/Los_Angeles:20281030T203000
DTSTAMP:20260419T205327
CREATED:20260217T033309Z
LAST-MODIFIED:20260220T035953Z
UID:10003815-1856541600-1856550600@exploresisters.com
SUMMARY:Open Mic @ Spoons
DESCRIPTION:Grab dinner and a drink\, bring your talent (or just come cheer)\, and enjoy a night of local music\, poetry\, comedy\, and more. Whether you’re taking the mic or soaking it all in\, it’s always a good time at Spoons! Hosted by Jordan Lewis Lee\, half of the roots music duo Lickety Split\, with Gabrielle Monia. This is an acoustic-instrument-only set up.
URL:https://exploresisters.com/event/spoons-open-mic/2028-10-30/
LOCATION:Spoons Restaurant\, 473 E Hood Ave\, Sisters\, 97759\, United States
CATEGORIES:Music
ATTACH;FMTTYPE=image/jpeg:https://exploresisters.com/wp-content/uploads/2025/10/just-duets-1.jpg
END:VEVENT
BEGIN:VEVENT
DTSTART;TZID=America/Los_Angeles:20281106T180000
DTEND;TZID=America/Los_Angeles:20281106T203000
DTSTAMP:20260419T205327
CREATED:20260217T033309Z
LAST-MODIFIED:20260220T035953Z
UID:10003816-1857146400-1857155400@exploresisters.com
SUMMARY:Open Mic @ Spoons
DESCRIPTION:Grab dinner and a drink\, bring your talent (or just come cheer)\, and enjoy a night of local music\, poetry\, comedy\, and more. Whether you’re taking the mic or soaking it all in\, it’s always a good time at Spoons! Hosted by Jordan Lewis Lee\, half of the roots music duo Lickety Split\, with Gabrielle Monia. This is an acoustic-instrument-only set up.
URL:https://exploresisters.com/event/spoons-open-mic/2028-11-06/
LOCATION:Spoons Restaurant\, 473 E Hood Ave\, Sisters\, 97759\, United States
CATEGORIES:Music
ATTACH;FMTTYPE=image/jpeg:https://exploresisters.com/wp-content/uploads/2025/10/just-duets-1.jpg
END:VEVENT
BEGIN:VEVENT
DTSTART;TZID=America/Los_Angeles:20281113T180000
DTEND;TZID=America/Los_Angeles:20281113T203000
DTSTAMP:20260419T205327
CREATED:20260217T033309Z
LAST-MODIFIED:20260220T035953Z
UID:10003817-1857751200-1857760200@exploresisters.com
SUMMARY:Open Mic @ Spoons
DESCRIPTION:Grab dinner and a drink\, bring your talent (or just come cheer)\, and enjoy a night of local music\, poetry\, comedy\, and more. Whether you’re taking the mic or soaking it all in\, it’s always a good time at Spoons! Hosted by Jordan Lewis Lee\, half of the roots music duo Lickety Split\, with Gabrielle Monia. This is an acoustic-instrument-only set up.
URL:https://exploresisters.com/event/spoons-open-mic/2028-11-13/
LOCATION:Spoons Restaurant\, 473 E Hood Ave\, Sisters\, 97759\, United States
CATEGORIES:Music
ATTACH;FMTTYPE=image/jpeg:https://exploresisters.com/wp-content/uploads/2025/10/just-duets-1.jpg
END:VEVENT
BEGIN:VEVENT
DTSTART;TZID=America/Los_Angeles:20281120T180000
DTEND;TZID=America/Los_Angeles:20281120T203000
DTSTAMP:20260419T205327
CREATED:20260217T033309Z
LAST-MODIFIED:20260220T035953Z
UID:10003818-1858356000-1858365000@exploresisters.com
SUMMARY:Open Mic @ Spoons
DESCRIPTION:Grab dinner and a drink\, bring your talent (or just come cheer)\, and enjoy a night of local music\, poetry\, comedy\, and more. Whether you’re taking the mic or soaking it all in\, it’s always a good time at Spoons! Hosted by Jordan Lewis Lee\, half of the roots music duo Lickety Split\, with Gabrielle Monia. This is an acoustic-instrument-only set up.
URL:https://exploresisters.com/event/spoons-open-mic/2028-11-20/
LOCATION:Spoons Restaurant\, 473 E Hood Ave\, Sisters\, 97759\, United States
CATEGORIES:Music
ATTACH;FMTTYPE=image/jpeg:https://exploresisters.com/wp-content/uploads/2025/10/just-duets-1.jpg
END:VEVENT
BEGIN:VEVENT
DTSTART;TZID=America/Los_Angeles:20281127T180000
DTEND;TZID=America/Los_Angeles:20281127T203000
DTSTAMP:20260419T205327
CREATED:20260217T033309Z
LAST-MODIFIED:20260220T035953Z
UID:10003819-1858960800-1858969800@exploresisters.com
SUMMARY:Open Mic @ Spoons
DESCRIPTION:Grab dinner and a drink\, bring your talent (or just come cheer)\, and enjoy a night of local music\, poetry\, comedy\, and more. Whether you’re taking the mic or soaking it all in\, it’s always a good time at Spoons! Hosted by Jordan Lewis Lee\, half of the roots music duo Lickety Split\, with Gabrielle Monia. This is an acoustic-instrument-only set up.
URL:https://exploresisters.com/event/spoons-open-mic/2028-11-27/
LOCATION:Spoons Restaurant\, 473 E Hood Ave\, Sisters\, 97759\, United States
CATEGORIES:Music
ATTACH;FMTTYPE=image/jpeg:https://exploresisters.com/wp-content/uploads/2025/10/just-duets-1.jpg
END:VEVENT
BEGIN:VEVENT
DTSTART;TZID=America/Los_Angeles:20281204T180000
DTEND;TZID=America/Los_Angeles:20281204T203000
DTSTAMP:20260419T205327
CREATED:20260217T033309Z
LAST-MODIFIED:20260220T035953Z
UID:10003820-1859565600-1859574600@exploresisters.com
SUMMARY:Open Mic @ Spoons
DESCRIPTION:Grab dinner and a drink\, bring your talent (or just come cheer)\, and enjoy a night of local music\, poetry\, comedy\, and more. Whether you’re taking the mic or soaking it all in\, it’s always a good time at Spoons! Hosted by Jordan Lewis Lee\, half of the roots music duo Lickety Split\, with Gabrielle Monia. This is an acoustic-instrument-only set up.
URL:https://exploresisters.com/event/spoons-open-mic/2028-12-04/
LOCATION:Spoons Restaurant\, 473 E Hood Ave\, Sisters\, 97759\, United States
CATEGORIES:Music
ATTACH;FMTTYPE=image/jpeg:https://exploresisters.com/wp-content/uploads/2025/10/just-duets-1.jpg
END:VEVENT
BEGIN:VEVENT
DTSTART;TZID=America/Los_Angeles:20281211T180000
DTEND;TZID=America/Los_Angeles:20281211T203000
DTSTAMP:20260419T205327
CREATED:20260217T033309Z
LAST-MODIFIED:20260220T035953Z
UID:10003821-1860170400-1860179400@exploresisters.com
SUMMARY:Open Mic @ Spoons
DESCRIPTION:Grab dinner and a drink\, bring your talent (or just come cheer)\, and enjoy a night of local music\, poetry\, comedy\, and more. Whether you’re taking the mic or soaking it all in\, it’s always a good time at Spoons! Hosted by Jordan Lewis Lee\, half of the roots music duo Lickety Split\, with Gabrielle Monia. This is an acoustic-instrument-only set up.
URL:https://exploresisters.com/event/spoons-open-mic/2028-12-11/
LOCATION:Spoons Restaurant\, 473 E Hood Ave\, Sisters\, 97759\, United States
CATEGORIES:Music
ATTACH;FMTTYPE=image/jpeg:https://exploresisters.com/wp-content/uploads/2025/10/just-duets-1.jpg
END:VEVENT
BEGIN:VEVENT
DTSTART;TZID=America/Los_Angeles:20281218T180000
DTEND;TZID=America/Los_Angeles:20281218T203000
DTSTAMP:20260419T205327
CREATED:20260217T033309Z
LAST-MODIFIED:20260220T035953Z
UID:10003822-1860775200-1860784200@exploresisters.com
SUMMARY:Open Mic @ Spoons
DESCRIPTION:Grab dinner and a drink\, bring your talent (or just come cheer)\, and enjoy a night of local music\, poetry\, comedy\, and more. Whether you’re taking the mic or soaking it all in\, it’s always a good time at Spoons! Hosted by Jordan Lewis Lee\, half of the roots music duo Lickety Split\, with Gabrielle Monia. This is an acoustic-instrument-only set up.
URL:https://exploresisters.com/event/spoons-open-mic/2028-12-18/
LOCATION:Spoons Restaurant\, 473 E Hood Ave\, Sisters\, 97759\, United States
CATEGORIES:Music
ATTACH;FMTTYPE=image/jpeg:https://exploresisters.com/wp-content/uploads/2025/10/just-duets-1.jpg
END:VEVENT
BEGIN:VEVENT
DTSTART;TZID=America/Los_Angeles:20281225T180000
DTEND;TZID=America/Los_Angeles:20281225T203000
DTSTAMP:20260419T205327
CREATED:20260217T033309Z
LAST-MODIFIED:20260220T035953Z
UID:10003823-1861380000-1861389000@exploresisters.com
SUMMARY:Open Mic @ Spoons
DESCRIPTION:Grab dinner and a drink\, bring your talent (or just come cheer)\, and enjoy a night of local music\, poetry\, comedy\, and more. Whether you’re taking the mic or soaking it all in\, it’s always a good time at Spoons! Hosted by Jordan Lewis Lee\, half of the roots music duo Lickety Split\, with Gabrielle Monia. This is an acoustic-instrument-only set up.
URL:https://exploresisters.com/event/spoons-open-mic/2028-12-25/
LOCATION:Spoons Restaurant\, 473 E Hood Ave\, Sisters\, 97759\, United States
CATEGORIES:Music
ATTACH;FMTTYPE=image/jpeg:https://exploresisters.com/wp-content/uploads/2025/10/just-duets-1.jpg
END:VEVENT
BEGIN:VEVENT
DTSTART;TZID=America/Los_Angeles:20290101T180000
DTEND;TZID=America/Los_Angeles:20290101T203000
DTSTAMP:20260419T205327
CREATED:20260217T033309Z
LAST-MODIFIED:20260220T035953Z
UID:10003824-1861984800-1861993800@exploresisters.com
SUMMARY:Open Mic @ Spoons
DESCRIPTION:Grab dinner and a drink\, bring your talent (or just come cheer)\, and enjoy a night of local music\, poetry\, comedy\, and more. Whether you’re taking the mic or soaking it all in\, it’s always a good time at Spoons! Hosted by Jordan Lewis Lee\, half of the roots music duo Lickety Split\, with Gabrielle Monia. This is an acoustic-instrument-only set up.
URL:https://exploresisters.com/event/spoons-open-mic/2029-01-01/
LOCATION:Spoons Restaurant\, 473 E Hood Ave\, Sisters\, 97759\, United States
CATEGORIES:Music
ATTACH;FMTTYPE=image/jpeg:https://exploresisters.com/wp-content/uploads/2025/10/just-duets-1.jpg
END:VEVENT
BEGIN:VEVENT
DTSTART;TZID=America/Los_Angeles:20290108T180000
DTEND;TZID=America/Los_Angeles:20290108T203000
DTSTAMP:20260419T205327
CREATED:20260217T033309Z
LAST-MODIFIED:20260220T035953Z
UID:10003825-1862589600-1862598600@exploresisters.com
SUMMARY:Open Mic @ Spoons
DESCRIPTION:Grab dinner and a drink\, bring your talent (or just come cheer)\, and enjoy a night of local music\, poetry\, comedy\, and more. Whether you’re taking the mic or soaking it all in\, it’s always a good time at Spoons! Hosted by Jordan Lewis Lee\, half of the roots music duo Lickety Split\, with Gabrielle Monia. This is an acoustic-instrument-only set up.
URL:https://exploresisters.com/event/spoons-open-mic/2029-01-08/
LOCATION:Spoons Restaurant\, 473 E Hood Ave\, Sisters\, 97759\, United States
CATEGORIES:Music
ATTACH;FMTTYPE=image/jpeg:https://exploresisters.com/wp-content/uploads/2025/10/just-duets-1.jpg
END:VEVENT
BEGIN:VEVENT
DTSTART;TZID=America/Los_Angeles:20290115T180000
DTEND;TZID=America/Los_Angeles:20290115T203000
DTSTAMP:20260419T205327
CREATED:20260217T033309Z
LAST-MODIFIED:20260220T035953Z
UID:10003826-1863194400-1863203400@exploresisters.com
SUMMARY:Open Mic @ Spoons
DESCRIPTION:Grab dinner and a drink\, bring your talent (or just come cheer)\, and enjoy a night of local music\, poetry\, comedy\, and more. Whether you’re taking the mic or soaking it all in\, it’s always a good time at Spoons! Hosted by Jordan Lewis Lee\, half of the roots music duo Lickety Split\, with Gabrielle Monia. This is an acoustic-instrument-only set up.
URL:https://exploresisters.com/event/spoons-open-mic/2029-01-15/
LOCATION:Spoons Restaurant\, 473 E Hood Ave\, Sisters\, 97759\, United States
CATEGORIES:Music
ATTACH;FMTTYPE=image/jpeg:https://exploresisters.com/wp-content/uploads/2025/10/just-duets-1.jpg
END:VEVENT
BEGIN:VEVENT
DTSTART;TZID=America/Los_Angeles:20290122T180000
DTEND;TZID=America/Los_Angeles:20290122T203000
DTSTAMP:20260419T205327
CREATED:20260217T033309Z
LAST-MODIFIED:20260220T035953Z
UID:10003827-1863799200-1863808200@exploresisters.com
SUMMARY:Open Mic @ Spoons
DESCRIPTION:Grab dinner and a drink\, bring your talent (or just come cheer)\, and enjoy a night of local music\, poetry\, comedy\, and more. Whether you’re taking the mic or soaking it all in\, it’s always a good time at Spoons! Hosted by Jordan Lewis Lee\, half of the roots music duo Lickety Split\, with Gabrielle Monia. This is an acoustic-instrument-only set up.
URL:https://exploresisters.com/event/spoons-open-mic/2029-01-22/
LOCATION:Spoons Restaurant\, 473 E Hood Ave\, Sisters\, 97759\, United States
CATEGORIES:Music
ATTACH;FMTTYPE=image/jpeg:https://exploresisters.com/wp-content/uploads/2025/10/just-duets-1.jpg
END:VEVENT
BEGIN:VEVENT
DTSTART;TZID=America/Los_Angeles:20290129T180000
DTEND;TZID=America/Los_Angeles:20290129T203000
DTSTAMP:20260419T205327
CREATED:20260217T033309Z
LAST-MODIFIED:20260220T035953Z
UID:10003828-1864404000-1864413000@exploresisters.com
SUMMARY:Open Mic @ Spoons
DESCRIPTION:Grab dinner and a drink\, bring your talent (or just come cheer)\, and enjoy a night of local music\, poetry\, comedy\, and more. Whether you’re taking the mic or soaking it all in\, it’s always a good time at Spoons! Hosted by Jordan Lewis Lee\, half of the roots music duo Lickety Split\, with Gabrielle Monia. This is an acoustic-instrument-only set up.
URL:https://exploresisters.com/event/spoons-open-mic/2029-01-29/
LOCATION:Spoons Restaurant\, 473 E Hood Ave\, Sisters\, 97759\, United States
CATEGORIES:Music
ATTACH;FMTTYPE=image/jpeg:https://exploresisters.com/wp-content/uploads/2025/10/just-duets-1.jpg
END:VEVENT
BEGIN:VEVENT
DTSTART;TZID=America/Los_Angeles:20290205T180000
DTEND;TZID=America/Los_Angeles:20290205T203000
DTSTAMP:20260419T205327
CREATED:20260217T033309Z
LAST-MODIFIED:20260220T035953Z
UID:10003829-1865008800-1865017800@exploresisters.com
SUMMARY:Open Mic @ Spoons
DESCRIPTION:Grab dinner and a drink\, bring your talent (or just come cheer)\, and enjoy a night of local music\, poetry\, comedy\, and more. Whether you’re taking the mic or soaking it all in\, it’s always a good time at Spoons! Hosted by Jordan Lewis Lee\, half of the roots music duo Lickety Split\, with Gabrielle Monia. This is an acoustic-instrument-only set up.
URL:https://exploresisters.com/event/spoons-open-mic/2029-02-05/
LOCATION:Spoons Restaurant\, 473 E Hood Ave\, Sisters\, 97759\, United States
CATEGORIES:Music
ATTACH;FMTTYPE=image/jpeg:https://exploresisters.com/wp-content/uploads/2025/10/just-duets-1.jpg
END:VEVENT
BEGIN:VEVENT
DTSTART;TZID=America/Los_Angeles:20290212T180000
DTEND;TZID=America/Los_Angeles:20290212T203000
DTSTAMP:20260419T205327
CREATED:20260217T033309Z
LAST-MODIFIED:20260220T035953Z
UID:10003830-1865613600-1865622600@exploresisters.com
SUMMARY:Open Mic @ Spoons
DESCRIPTION:Grab dinner and a drink\, bring your talent (or just come cheer)\, and enjoy a night of local music\, poetry\, comedy\, and more. Whether you’re taking the mic or soaking it all in\, it’s always a good time at Spoons! Hosted by Jordan Lewis Lee\, half of the roots music duo Lickety Split\, with Gabrielle Monia. This is an acoustic-instrument-only set up.
URL:https://exploresisters.com/event/spoons-open-mic/2029-02-12/
LOCATION:Spoons Restaurant\, 473 E Hood Ave\, Sisters\, 97759\, United States
CATEGORIES:Music
ATTACH;FMTTYPE=image/jpeg:https://exploresisters.com/wp-content/uploads/2025/10/just-duets-1.jpg
END:VEVENT
BEGIN:VEVENT
DTSTART;TZID=America/Los_Angeles:20290219T180000
DTEND;TZID=America/Los_Angeles:20290219T203000
DTSTAMP:20260419T205327
CREATED:20260217T033309Z
LAST-MODIFIED:20260220T035953Z
UID:10003831-1866218400-1866227400@exploresisters.com
SUMMARY:Open Mic @ Spoons
DESCRIPTION:Grab dinner and a drink\, bring your talent (or just come cheer)\, and enjoy a night of local music\, poetry\, comedy\, and more. Whether you’re taking the mic or soaking it all in\, it’s always a good time at Spoons! Hosted by Jordan Lewis Lee\, half of the roots music duo Lickety Split\, with Gabrielle Monia. This is an acoustic-instrument-only set up.
URL:https://exploresisters.com/event/spoons-open-mic/2029-02-19/
LOCATION:Spoons Restaurant\, 473 E Hood Ave\, Sisters\, 97759\, United States
CATEGORIES:Music
ATTACH;FMTTYPE=image/jpeg:https://exploresisters.com/wp-content/uploads/2025/10/just-duets-1.jpg
END:VEVENT
BEGIN:VEVENT
DTSTART;TZID=America/Los_Angeles:20290226T180000
DTEND;TZID=America/Los_Angeles:20290226T203000
DTSTAMP:20260419T205327
CREATED:20260217T033309Z
LAST-MODIFIED:20260220T035953Z
UID:10003832-1866823200-1866832200@exploresisters.com
SUMMARY:Open Mic @ Spoons
DESCRIPTION:Grab dinner and a drink\, bring your talent (or just come cheer)\, and enjoy a night of local music\, poetry\, comedy\, and more. Whether you’re taking the mic or soaking it all in\, it’s always a good time at Spoons! Hosted by Jordan Lewis Lee\, half of the roots music duo Lickety Split\, with Gabrielle Monia. This is an acoustic-instrument-only set up.
URL:https://exploresisters.com/event/spoons-open-mic/2029-02-26/
LOCATION:Spoons Restaurant\, 473 E Hood Ave\, Sisters\, 97759\, United States
CATEGORIES:Music
ATTACH;FMTTYPE=image/jpeg:https://exploresisters.com/wp-content/uploads/2025/10/just-duets-1.jpg
END:VEVENT
END:VCALENDAR