BEGIN:VCALENDAR
VERSION:2.0
PRODID:-//Sisters Oregon - ECPv6.15.20//NONSGML v1.0//EN
CALSCALE:GREGORIAN
METHOD:PUBLISH
X-WR-CALNAME:Sisters Oregon
X-ORIGINAL-URL:https://exploresisters.com
X-WR-CALDESC:Events for Sisters Oregon
REFRESH-INTERVAL;VALUE=DURATION:PT1H
X-Robots-Tag:noindex
X-PUBLISHED-TTL:PT1H
BEGIN:VTIMEZONE
TZID:America/Los_Angeles
BEGIN:DAYLIGHT
TZOFFSETFROM:-0800
TZOFFSETTO:-0700
TZNAME:PDT
DTSTART:20270314T100000
END:DAYLIGHT
BEGIN:STANDARD
TZOFFSETFROM:-0700
TZOFFSETTO:-0800
TZNAME:PST
DTSTART:20271107T090000
END:STANDARD
BEGIN:DAYLIGHT
TZOFFSETFROM:-0800
TZOFFSETTO:-0700
TZNAME:PDT
DTSTART:20280312T100000
END:DAYLIGHT
BEGIN:STANDARD
TZOFFSETFROM:-0700
TZOFFSETTO:-0800
TZNAME:PST
DTSTART:20281105T090000
END:STANDARD
BEGIN:DAYLIGHT
TZOFFSETFROM:-0800
TZOFFSETTO:-0700
TZNAME:PDT
DTSTART:20290311T100000
END:DAYLIGHT
BEGIN:STANDARD
TZOFFSETFROM:-0700
TZOFFSETTO:-0800
TZNAME:PST
DTSTART:20291104T090000
END:STANDARD
END:VTIMEZONE
BEGIN:VEVENT
DTSTART;TZID=America/Los_Angeles:20280221T180000
DTEND;TZID=America/Los_Angeles:20280221T203000
DTSTAMP:20260419T140701
CREATED:20260217T033309Z
LAST-MODIFIED:20260220T035953Z
UID:10003779-1834768800-1834777800@exploresisters.com
SUMMARY:Open Mic @ Spoons
DESCRIPTION:Grab dinner and a drink\, bring your talent (or just come cheer)\, and enjoy a night of local music\, poetry\, comedy\, and more. Whether you’re taking the mic or soaking it all in\, it’s always a good time at Spoons! Hosted by Jordan Lewis Lee\, half of the roots music duo Lickety Split\, with Gabrielle Monia. This is an acoustic-instrument-only set up.
URL:https://exploresisters.com/event/spoons-open-mic/2028-02-21/
LOCATION:Spoons Restaurant\, 473 E Hood Ave\, Sisters\, 97759\, United States
CATEGORIES:Music
ATTACH;FMTTYPE=image/jpeg:https://exploresisters.com/wp-content/uploads/2025/10/just-duets-1.jpg
END:VEVENT
BEGIN:VEVENT
DTSTART;TZID=America/Los_Angeles:20280228T180000
DTEND;TZID=America/Los_Angeles:20280228T203000
DTSTAMP:20260419T140701
CREATED:20260217T033309Z
LAST-MODIFIED:20260220T035953Z
UID:10003780-1835373600-1835382600@exploresisters.com
SUMMARY:Open Mic @ Spoons
DESCRIPTION:Grab dinner and a drink\, bring your talent (or just come cheer)\, and enjoy a night of local music\, poetry\, comedy\, and more. Whether you’re taking the mic or soaking it all in\, it’s always a good time at Spoons! Hosted by Jordan Lewis Lee\, half of the roots music duo Lickety Split\, with Gabrielle Monia. This is an acoustic-instrument-only set up.
URL:https://exploresisters.com/event/spoons-open-mic/2028-02-28/
LOCATION:Spoons Restaurant\, 473 E Hood Ave\, Sisters\, 97759\, United States
CATEGORIES:Music
ATTACH;FMTTYPE=image/jpeg:https://exploresisters.com/wp-content/uploads/2025/10/just-duets-1.jpg
END:VEVENT
BEGIN:VEVENT
DTSTART;TZID=America/Los_Angeles:20280306T180000
DTEND;TZID=America/Los_Angeles:20280306T203000
DTSTAMP:20260419T140701
CREATED:20260217T033309Z
LAST-MODIFIED:20260220T035953Z
UID:10003781-1835978400-1835987400@exploresisters.com
SUMMARY:Open Mic @ Spoons
DESCRIPTION:Grab dinner and a drink\, bring your talent (or just come cheer)\, and enjoy a night of local music\, poetry\, comedy\, and more. Whether you’re taking the mic or soaking it all in\, it’s always a good time at Spoons! Hosted by Jordan Lewis Lee\, half of the roots music duo Lickety Split\, with Gabrielle Monia. This is an acoustic-instrument-only set up.
URL:https://exploresisters.com/event/spoons-open-mic/2028-03-06/
LOCATION:Spoons Restaurant\, 473 E Hood Ave\, Sisters\, 97759\, United States
CATEGORIES:Music
ATTACH;FMTTYPE=image/jpeg:https://exploresisters.com/wp-content/uploads/2025/10/just-duets-1.jpg
END:VEVENT
BEGIN:VEVENT
DTSTART;TZID=America/Los_Angeles:20280313T180000
DTEND;TZID=America/Los_Angeles:20280313T203000
DTSTAMP:20260419T140701
CREATED:20260217T033309Z
LAST-MODIFIED:20260220T035953Z
UID:10003782-1836583200-1836592200@exploresisters.com
SUMMARY:Open Mic @ Spoons
DESCRIPTION:Grab dinner and a drink\, bring your talent (or just come cheer)\, and enjoy a night of local music\, poetry\, comedy\, and more. Whether you’re taking the mic or soaking it all in\, it’s always a good time at Spoons! Hosted by Jordan Lewis Lee\, half of the roots music duo Lickety Split\, with Gabrielle Monia. This is an acoustic-instrument-only set up.
URL:https://exploresisters.com/event/spoons-open-mic/2028-03-13/
LOCATION:Spoons Restaurant\, 473 E Hood Ave\, Sisters\, 97759\, United States
CATEGORIES:Music
ATTACH;FMTTYPE=image/jpeg:https://exploresisters.com/wp-content/uploads/2025/10/just-duets-1.jpg
END:VEVENT
BEGIN:VEVENT
DTSTART;TZID=America/Los_Angeles:20280320T180000
DTEND;TZID=America/Los_Angeles:20280320T203000
DTSTAMP:20260419T140701
CREATED:20260217T033309Z
LAST-MODIFIED:20260220T035953Z
UID:10003783-1837188000-1837197000@exploresisters.com
SUMMARY:Open Mic @ Spoons
DESCRIPTION:Grab dinner and a drink\, bring your talent (or just come cheer)\, and enjoy a night of local music\, poetry\, comedy\, and more. Whether you’re taking the mic or soaking it all in\, it’s always a good time at Spoons! Hosted by Jordan Lewis Lee\, half of the roots music duo Lickety Split\, with Gabrielle Monia. This is an acoustic-instrument-only set up.
URL:https://exploresisters.com/event/spoons-open-mic/2028-03-20/
LOCATION:Spoons Restaurant\, 473 E Hood Ave\, Sisters\, 97759\, United States
CATEGORIES:Music
ATTACH;FMTTYPE=image/jpeg:https://exploresisters.com/wp-content/uploads/2025/10/just-duets-1.jpg
END:VEVENT
BEGIN:VEVENT
DTSTART;TZID=America/Los_Angeles:20280327T180000
DTEND;TZID=America/Los_Angeles:20280327T203000
DTSTAMP:20260419T140701
CREATED:20260217T033309Z
LAST-MODIFIED:20260220T035953Z
UID:10003784-1837792800-1837801800@exploresisters.com
SUMMARY:Open Mic @ Spoons
DESCRIPTION:Grab dinner and a drink\, bring your talent (or just come cheer)\, and enjoy a night of local music\, poetry\, comedy\, and more. Whether you’re taking the mic or soaking it all in\, it’s always a good time at Spoons! Hosted by Jordan Lewis Lee\, half of the roots music duo Lickety Split\, with Gabrielle Monia. This is an acoustic-instrument-only set up.
URL:https://exploresisters.com/event/spoons-open-mic/2028-03-27/
LOCATION:Spoons Restaurant\, 473 E Hood Ave\, Sisters\, 97759\, United States
CATEGORIES:Music
ATTACH;FMTTYPE=image/jpeg:https://exploresisters.com/wp-content/uploads/2025/10/just-duets-1.jpg
END:VEVENT
BEGIN:VEVENT
DTSTART;TZID=America/Los_Angeles:20280403T180000
DTEND;TZID=America/Los_Angeles:20280403T203000
DTSTAMP:20260419T140701
CREATED:20260217T033309Z
LAST-MODIFIED:20260220T035953Z
UID:10003785-1838397600-1838406600@exploresisters.com
SUMMARY:Open Mic @ Spoons
DESCRIPTION:Grab dinner and a drink\, bring your talent (or just come cheer)\, and enjoy a night of local music\, poetry\, comedy\, and more. Whether you’re taking the mic or soaking it all in\, it’s always a good time at Spoons! Hosted by Jordan Lewis Lee\, half of the roots music duo Lickety Split\, with Gabrielle Monia. This is an acoustic-instrument-only set up.
URL:https://exploresisters.com/event/spoons-open-mic/2028-04-03/
LOCATION:Spoons Restaurant\, 473 E Hood Ave\, Sisters\, 97759\, United States
CATEGORIES:Music
ATTACH;FMTTYPE=image/jpeg:https://exploresisters.com/wp-content/uploads/2025/10/just-duets-1.jpg
END:VEVENT
BEGIN:VEVENT
DTSTART;TZID=America/Los_Angeles:20280410T180000
DTEND;TZID=America/Los_Angeles:20280410T203000
DTSTAMP:20260419T140701
CREATED:20260217T033309Z
LAST-MODIFIED:20260220T035953Z
UID:10003786-1839002400-1839011400@exploresisters.com
SUMMARY:Open Mic @ Spoons
DESCRIPTION:Grab dinner and a drink\, bring your talent (or just come cheer)\, and enjoy a night of local music\, poetry\, comedy\, and more. Whether you’re taking the mic or soaking it all in\, it’s always a good time at Spoons! Hosted by Jordan Lewis Lee\, half of the roots music duo Lickety Split\, with Gabrielle Monia. This is an acoustic-instrument-only set up.
URL:https://exploresisters.com/event/spoons-open-mic/2028-04-10/
LOCATION:Spoons Restaurant\, 473 E Hood Ave\, Sisters\, 97759\, United States
CATEGORIES:Music
ATTACH;FMTTYPE=image/jpeg:https://exploresisters.com/wp-content/uploads/2025/10/just-duets-1.jpg
END:VEVENT
BEGIN:VEVENT
DTSTART;TZID=America/Los_Angeles:20280417T180000
DTEND;TZID=America/Los_Angeles:20280417T203000
DTSTAMP:20260419T140701
CREATED:20260217T033309Z
LAST-MODIFIED:20260220T035953Z
UID:10003787-1839607200-1839616200@exploresisters.com
SUMMARY:Open Mic @ Spoons
DESCRIPTION:Grab dinner and a drink\, bring your talent (or just come cheer)\, and enjoy a night of local music\, poetry\, comedy\, and more. Whether you’re taking the mic or soaking it all in\, it’s always a good time at Spoons! Hosted by Jordan Lewis Lee\, half of the roots music duo Lickety Split\, with Gabrielle Monia. This is an acoustic-instrument-only set up.
URL:https://exploresisters.com/event/spoons-open-mic/2028-04-17/
LOCATION:Spoons Restaurant\, 473 E Hood Ave\, Sisters\, 97759\, United States
CATEGORIES:Music
ATTACH;FMTTYPE=image/jpeg:https://exploresisters.com/wp-content/uploads/2025/10/just-duets-1.jpg
END:VEVENT
BEGIN:VEVENT
DTSTART;TZID=America/Los_Angeles:20280424T180000
DTEND;TZID=America/Los_Angeles:20280424T203000
DTSTAMP:20260419T140701
CREATED:20260217T033309Z
LAST-MODIFIED:20260220T035953Z
UID:10003788-1840212000-1840221000@exploresisters.com
SUMMARY:Open Mic @ Spoons
DESCRIPTION:Grab dinner and a drink\, bring your talent (or just come cheer)\, and enjoy a night of local music\, poetry\, comedy\, and more. Whether you’re taking the mic or soaking it all in\, it’s always a good time at Spoons! Hosted by Jordan Lewis Lee\, half of the roots music duo Lickety Split\, with Gabrielle Monia. This is an acoustic-instrument-only set up.
URL:https://exploresisters.com/event/spoons-open-mic/2028-04-24/
LOCATION:Spoons Restaurant\, 473 E Hood Ave\, Sisters\, 97759\, United States
CATEGORIES:Music
ATTACH;FMTTYPE=image/jpeg:https://exploresisters.com/wp-content/uploads/2025/10/just-duets-1.jpg
END:VEVENT
BEGIN:VEVENT
DTSTART;TZID=America/Los_Angeles:20280501T180000
DTEND;TZID=America/Los_Angeles:20280501T203000
DTSTAMP:20260419T140701
CREATED:20260217T033309Z
LAST-MODIFIED:20260220T035953Z
UID:10003789-1840816800-1840825800@exploresisters.com
SUMMARY:Open Mic @ Spoons
DESCRIPTION:Grab dinner and a drink\, bring your talent (or just come cheer)\, and enjoy a night of local music\, poetry\, comedy\, and more. Whether you’re taking the mic or soaking it all in\, it’s always a good time at Spoons! Hosted by Jordan Lewis Lee\, half of the roots music duo Lickety Split\, with Gabrielle Monia. This is an acoustic-instrument-only set up.
URL:https://exploresisters.com/event/spoons-open-mic/2028-05-01/
LOCATION:Spoons Restaurant\, 473 E Hood Ave\, Sisters\, 97759\, United States
CATEGORIES:Music
ATTACH;FMTTYPE=image/jpeg:https://exploresisters.com/wp-content/uploads/2025/10/just-duets-1.jpg
END:VEVENT
BEGIN:VEVENT
DTSTART;TZID=America/Los_Angeles:20280508T180000
DTEND;TZID=America/Los_Angeles:20280508T203000
DTSTAMP:20260419T140701
CREATED:20260217T033309Z
LAST-MODIFIED:20260220T035953Z
UID:10003790-1841421600-1841430600@exploresisters.com
SUMMARY:Open Mic @ Spoons
DESCRIPTION:Grab dinner and a drink\, bring your talent (or just come cheer)\, and enjoy a night of local music\, poetry\, comedy\, and more. Whether you’re taking the mic or soaking it all in\, it’s always a good time at Spoons! Hosted by Jordan Lewis Lee\, half of the roots music duo Lickety Split\, with Gabrielle Monia. This is an acoustic-instrument-only set up.
URL:https://exploresisters.com/event/spoons-open-mic/2028-05-08/
LOCATION:Spoons Restaurant\, 473 E Hood Ave\, Sisters\, 97759\, United States
CATEGORIES:Music
ATTACH;FMTTYPE=image/jpeg:https://exploresisters.com/wp-content/uploads/2025/10/just-duets-1.jpg
END:VEVENT
BEGIN:VEVENT
DTSTART;TZID=America/Los_Angeles:20280515T180000
DTEND;TZID=America/Los_Angeles:20280515T203000
DTSTAMP:20260419T140701
CREATED:20260217T033309Z
LAST-MODIFIED:20260220T035953Z
UID:10003791-1842026400-1842035400@exploresisters.com
SUMMARY:Open Mic @ Spoons
DESCRIPTION:Grab dinner and a drink\, bring your talent (or just come cheer)\, and enjoy a night of local music\, poetry\, comedy\, and more. Whether you’re taking the mic or soaking it all in\, it’s always a good time at Spoons! Hosted by Jordan Lewis Lee\, half of the roots music duo Lickety Split\, with Gabrielle Monia. This is an acoustic-instrument-only set up.
URL:https://exploresisters.com/event/spoons-open-mic/2028-05-15/
LOCATION:Spoons Restaurant\, 473 E Hood Ave\, Sisters\, 97759\, United States
CATEGORIES:Music
ATTACH;FMTTYPE=image/jpeg:https://exploresisters.com/wp-content/uploads/2025/10/just-duets-1.jpg
END:VEVENT
BEGIN:VEVENT
DTSTART;TZID=America/Los_Angeles:20280522T180000
DTEND;TZID=America/Los_Angeles:20280522T203000
DTSTAMP:20260419T140701
CREATED:20260217T033309Z
LAST-MODIFIED:20260220T035953Z
UID:10003792-1842631200-1842640200@exploresisters.com
SUMMARY:Open Mic @ Spoons
DESCRIPTION:Grab dinner and a drink\, bring your talent (or just come cheer)\, and enjoy a night of local music\, poetry\, comedy\, and more. Whether you’re taking the mic or soaking it all in\, it’s always a good time at Spoons! Hosted by Jordan Lewis Lee\, half of the roots music duo Lickety Split\, with Gabrielle Monia. This is an acoustic-instrument-only set up.
URL:https://exploresisters.com/event/spoons-open-mic/2028-05-22/
LOCATION:Spoons Restaurant\, 473 E Hood Ave\, Sisters\, 97759\, United States
CATEGORIES:Music
ATTACH;FMTTYPE=image/jpeg:https://exploresisters.com/wp-content/uploads/2025/10/just-duets-1.jpg
END:VEVENT
BEGIN:VEVENT
DTSTART;TZID=America/Los_Angeles:20280529T180000
DTEND;TZID=America/Los_Angeles:20280529T203000
DTSTAMP:20260419T140701
CREATED:20260217T033309Z
LAST-MODIFIED:20260220T035953Z
UID:10003793-1843236000-1843245000@exploresisters.com
SUMMARY:Open Mic @ Spoons
DESCRIPTION:Grab dinner and a drink\, bring your talent (or just come cheer)\, and enjoy a night of local music\, poetry\, comedy\, and more. Whether you’re taking the mic or soaking it all in\, it’s always a good time at Spoons! Hosted by Jordan Lewis Lee\, half of the roots music duo Lickety Split\, with Gabrielle Monia. This is an acoustic-instrument-only set up.
URL:https://exploresisters.com/event/spoons-open-mic/2028-05-29/
LOCATION:Spoons Restaurant\, 473 E Hood Ave\, Sisters\, 97759\, United States
CATEGORIES:Music
ATTACH;FMTTYPE=image/jpeg:https://exploresisters.com/wp-content/uploads/2025/10/just-duets-1.jpg
END:VEVENT
BEGIN:VEVENT
DTSTART;TZID=America/Los_Angeles:20280605T180000
DTEND;TZID=America/Los_Angeles:20280605T203000
DTSTAMP:20260419T140701
CREATED:20260217T033309Z
LAST-MODIFIED:20260220T035953Z
UID:10003794-1843840800-1843849800@exploresisters.com
SUMMARY:Open Mic @ Spoons
DESCRIPTION:Grab dinner and a drink\, bring your talent (or just come cheer)\, and enjoy a night of local music\, poetry\, comedy\, and more. Whether you’re taking the mic or soaking it all in\, it’s always a good time at Spoons! Hosted by Jordan Lewis Lee\, half of the roots music duo Lickety Split\, with Gabrielle Monia. This is an acoustic-instrument-only set up.
URL:https://exploresisters.com/event/spoons-open-mic/2028-06-05/
LOCATION:Spoons Restaurant\, 473 E Hood Ave\, Sisters\, 97759\, United States
CATEGORIES:Music
ATTACH;FMTTYPE=image/jpeg:https://exploresisters.com/wp-content/uploads/2025/10/just-duets-1.jpg
END:VEVENT
BEGIN:VEVENT
DTSTART;TZID=America/Los_Angeles:20280612T180000
DTEND;TZID=America/Los_Angeles:20280612T203000
DTSTAMP:20260419T140701
CREATED:20260217T033309Z
LAST-MODIFIED:20260220T035953Z
UID:10003795-1844445600-1844454600@exploresisters.com
SUMMARY:Open Mic @ Spoons
DESCRIPTION:Grab dinner and a drink\, bring your talent (or just come cheer)\, and enjoy a night of local music\, poetry\, comedy\, and more. Whether you’re taking the mic or soaking it all in\, it’s always a good time at Spoons! Hosted by Jordan Lewis Lee\, half of the roots music duo Lickety Split\, with Gabrielle Monia. This is an acoustic-instrument-only set up.
URL:https://exploresisters.com/event/spoons-open-mic/2028-06-12/
LOCATION:Spoons Restaurant\, 473 E Hood Ave\, Sisters\, 97759\, United States
CATEGORIES:Music
ATTACH;FMTTYPE=image/jpeg:https://exploresisters.com/wp-content/uploads/2025/10/just-duets-1.jpg
END:VEVENT
BEGIN:VEVENT
DTSTART;TZID=America/Los_Angeles:20280619T180000
DTEND;TZID=America/Los_Angeles:20280619T203000
DTSTAMP:20260419T140701
CREATED:20260217T033309Z
LAST-MODIFIED:20260220T035953Z
UID:10003796-1845050400-1845059400@exploresisters.com
SUMMARY:Open Mic @ Spoons
DESCRIPTION:Grab dinner and a drink\, bring your talent (or just come cheer)\, and enjoy a night of local music\, poetry\, comedy\, and more. Whether you’re taking the mic or soaking it all in\, it’s always a good time at Spoons! Hosted by Jordan Lewis Lee\, half of the roots music duo Lickety Split\, with Gabrielle Monia. This is an acoustic-instrument-only set up.
URL:https://exploresisters.com/event/spoons-open-mic/2028-06-19/
LOCATION:Spoons Restaurant\, 473 E Hood Ave\, Sisters\, 97759\, United States
CATEGORIES:Music
ATTACH;FMTTYPE=image/jpeg:https://exploresisters.com/wp-content/uploads/2025/10/just-duets-1.jpg
END:VEVENT
BEGIN:VEVENT
DTSTART;TZID=America/Los_Angeles:20280626T180000
DTEND;TZID=America/Los_Angeles:20280626T203000
DTSTAMP:20260419T140701
CREATED:20260217T033309Z
LAST-MODIFIED:20260220T035953Z
UID:10003797-1845655200-1845664200@exploresisters.com
SUMMARY:Open Mic @ Spoons
DESCRIPTION:Grab dinner and a drink\, bring your talent (or just come cheer)\, and enjoy a night of local music\, poetry\, comedy\, and more. Whether you’re taking the mic or soaking it all in\, it’s always a good time at Spoons! Hosted by Jordan Lewis Lee\, half of the roots music duo Lickety Split\, with Gabrielle Monia. This is an acoustic-instrument-only set up.
URL:https://exploresisters.com/event/spoons-open-mic/2028-06-26/
LOCATION:Spoons Restaurant\, 473 E Hood Ave\, Sisters\, 97759\, United States
CATEGORIES:Music
ATTACH;FMTTYPE=image/jpeg:https://exploresisters.com/wp-content/uploads/2025/10/just-duets-1.jpg
END:VEVENT
BEGIN:VEVENT
DTSTART;TZID=America/Los_Angeles:20280703T180000
DTEND;TZID=America/Los_Angeles:20280703T203000
DTSTAMP:20260419T140701
CREATED:20260217T033309Z
LAST-MODIFIED:20260220T035953Z
UID:10003798-1846260000-1846269000@exploresisters.com
SUMMARY:Open Mic @ Spoons
DESCRIPTION:Grab dinner and a drink\, bring your talent (or just come cheer)\, and enjoy a night of local music\, poetry\, comedy\, and more. Whether you’re taking the mic or soaking it all in\, it’s always a good time at Spoons! Hosted by Jordan Lewis Lee\, half of the roots music duo Lickety Split\, with Gabrielle Monia. This is an acoustic-instrument-only set up.
URL:https://exploresisters.com/event/spoons-open-mic/2028-07-03/
LOCATION:Spoons Restaurant\, 473 E Hood Ave\, Sisters\, 97759\, United States
CATEGORIES:Music
ATTACH;FMTTYPE=image/jpeg:https://exploresisters.com/wp-content/uploads/2025/10/just-duets-1.jpg
END:VEVENT
BEGIN:VEVENT
DTSTART;TZID=America/Los_Angeles:20280710T180000
DTEND;TZID=America/Los_Angeles:20280710T203000
DTSTAMP:20260419T140701
CREATED:20260217T033309Z
LAST-MODIFIED:20260220T035953Z
UID:10003799-1846864800-1846873800@exploresisters.com
SUMMARY:Open Mic @ Spoons
DESCRIPTION:Grab dinner and a drink\, bring your talent (or just come cheer)\, and enjoy a night of local music\, poetry\, comedy\, and more. Whether you’re taking the mic or soaking it all in\, it’s always a good time at Spoons! Hosted by Jordan Lewis Lee\, half of the roots music duo Lickety Split\, with Gabrielle Monia. This is an acoustic-instrument-only set up.
URL:https://exploresisters.com/event/spoons-open-mic/2028-07-10/
LOCATION:Spoons Restaurant\, 473 E Hood Ave\, Sisters\, 97759\, United States
CATEGORIES:Music
ATTACH;FMTTYPE=image/jpeg:https://exploresisters.com/wp-content/uploads/2025/10/just-duets-1.jpg
END:VEVENT
BEGIN:VEVENT
DTSTART;TZID=America/Los_Angeles:20280717T180000
DTEND;TZID=America/Los_Angeles:20280717T203000
DTSTAMP:20260419T140701
CREATED:20260217T033309Z
LAST-MODIFIED:20260220T035953Z
UID:10003800-1847469600-1847478600@exploresisters.com
SUMMARY:Open Mic @ Spoons
DESCRIPTION:Grab dinner and a drink\, bring your talent (or just come cheer)\, and enjoy a night of local music\, poetry\, comedy\, and more. Whether you’re taking the mic or soaking it all in\, it’s always a good time at Spoons! Hosted by Jordan Lewis Lee\, half of the roots music duo Lickety Split\, with Gabrielle Monia. This is an acoustic-instrument-only set up.
URL:https://exploresisters.com/event/spoons-open-mic/2028-07-17/
LOCATION:Spoons Restaurant\, 473 E Hood Ave\, Sisters\, 97759\, United States
CATEGORIES:Music
ATTACH;FMTTYPE=image/jpeg:https://exploresisters.com/wp-content/uploads/2025/10/just-duets-1.jpg
END:VEVENT
BEGIN:VEVENT
DTSTART;TZID=America/Los_Angeles:20280724T180000
DTEND;TZID=America/Los_Angeles:20280724T203000
DTSTAMP:20260419T140701
CREATED:20260217T033309Z
LAST-MODIFIED:20260220T035953Z
UID:10003801-1848074400-1848083400@exploresisters.com
SUMMARY:Open Mic @ Spoons
DESCRIPTION:Grab dinner and a drink\, bring your talent (or just come cheer)\, and enjoy a night of local music\, poetry\, comedy\, and more. Whether you’re taking the mic or soaking it all in\, it’s always a good time at Spoons! Hosted by Jordan Lewis Lee\, half of the roots music duo Lickety Split\, with Gabrielle Monia. This is an acoustic-instrument-only set up.
URL:https://exploresisters.com/event/spoons-open-mic/2028-07-24/
LOCATION:Spoons Restaurant\, 473 E Hood Ave\, Sisters\, 97759\, United States
CATEGORIES:Music
ATTACH;FMTTYPE=image/jpeg:https://exploresisters.com/wp-content/uploads/2025/10/just-duets-1.jpg
END:VEVENT
BEGIN:VEVENT
DTSTART;TZID=America/Los_Angeles:20280731T180000
DTEND;TZID=America/Los_Angeles:20280731T203000
DTSTAMP:20260419T140701
CREATED:20260217T033309Z
LAST-MODIFIED:20260220T035953Z
UID:10003802-1848679200-1848688200@exploresisters.com
SUMMARY:Open Mic @ Spoons
DESCRIPTION:Grab dinner and a drink\, bring your talent (or just come cheer)\, and enjoy a night of local music\, poetry\, comedy\, and more. Whether you’re taking the mic or soaking it all in\, it’s always a good time at Spoons! Hosted by Jordan Lewis Lee\, half of the roots music duo Lickety Split\, with Gabrielle Monia. This is an acoustic-instrument-only set up.
URL:https://exploresisters.com/event/spoons-open-mic/2028-07-31/
LOCATION:Spoons Restaurant\, 473 E Hood Ave\, Sisters\, 97759\, United States
CATEGORIES:Music
ATTACH;FMTTYPE=image/jpeg:https://exploresisters.com/wp-content/uploads/2025/10/just-duets-1.jpg
END:VEVENT
BEGIN:VEVENT
DTSTART;TZID=America/Los_Angeles:20280807T180000
DTEND;TZID=America/Los_Angeles:20280807T203000
DTSTAMP:20260419T140701
CREATED:20260217T033309Z
LAST-MODIFIED:20260220T035953Z
UID:10003803-1849284000-1849293000@exploresisters.com
SUMMARY:Open Mic @ Spoons
DESCRIPTION:Grab dinner and a drink\, bring your talent (or just come cheer)\, and enjoy a night of local music\, poetry\, comedy\, and more. Whether you’re taking the mic or soaking it all in\, it’s always a good time at Spoons! Hosted by Jordan Lewis Lee\, half of the roots music duo Lickety Split\, with Gabrielle Monia. This is an acoustic-instrument-only set up.
URL:https://exploresisters.com/event/spoons-open-mic/2028-08-07/
LOCATION:Spoons Restaurant\, 473 E Hood Ave\, Sisters\, 97759\, United States
CATEGORIES:Music
ATTACH;FMTTYPE=image/jpeg:https://exploresisters.com/wp-content/uploads/2025/10/just-duets-1.jpg
END:VEVENT
BEGIN:VEVENT
DTSTART;TZID=America/Los_Angeles:20280814T180000
DTEND;TZID=America/Los_Angeles:20280814T203000
DTSTAMP:20260419T140701
CREATED:20260217T033309Z
LAST-MODIFIED:20260220T035953Z
UID:10003804-1849888800-1849897800@exploresisters.com
SUMMARY:Open Mic @ Spoons
DESCRIPTION:Grab dinner and a drink\, bring your talent (or just come cheer)\, and enjoy a night of local music\, poetry\, comedy\, and more. Whether you’re taking the mic or soaking it all in\, it’s always a good time at Spoons! Hosted by Jordan Lewis Lee\, half of the roots music duo Lickety Split\, with Gabrielle Monia. This is an acoustic-instrument-only set up.
URL:https://exploresisters.com/event/spoons-open-mic/2028-08-14/
LOCATION:Spoons Restaurant\, 473 E Hood Ave\, Sisters\, 97759\, United States
CATEGORIES:Music
ATTACH;FMTTYPE=image/jpeg:https://exploresisters.com/wp-content/uploads/2025/10/just-duets-1.jpg
END:VEVENT
BEGIN:VEVENT
DTSTART;TZID=America/Los_Angeles:20280821T180000
DTEND;TZID=America/Los_Angeles:20280821T203000
DTSTAMP:20260419T140701
CREATED:20260217T033309Z
LAST-MODIFIED:20260220T035953Z
UID:10003805-1850493600-1850502600@exploresisters.com
SUMMARY:Open Mic @ Spoons
DESCRIPTION:Grab dinner and a drink\, bring your talent (or just come cheer)\, and enjoy a night of local music\, poetry\, comedy\, and more. Whether you’re taking the mic or soaking it all in\, it’s always a good time at Spoons! Hosted by Jordan Lewis Lee\, half of the roots music duo Lickety Split\, with Gabrielle Monia. This is an acoustic-instrument-only set up.
URL:https://exploresisters.com/event/spoons-open-mic/2028-08-21/
LOCATION:Spoons Restaurant\, 473 E Hood Ave\, Sisters\, 97759\, United States
CATEGORIES:Music
ATTACH;FMTTYPE=image/jpeg:https://exploresisters.com/wp-content/uploads/2025/10/just-duets-1.jpg
END:VEVENT
BEGIN:VEVENT
DTSTART;TZID=America/Los_Angeles:20280828T180000
DTEND;TZID=America/Los_Angeles:20280828T203000
DTSTAMP:20260419T140701
CREATED:20260217T033309Z
LAST-MODIFIED:20260220T035953Z
UID:10003806-1851098400-1851107400@exploresisters.com
SUMMARY:Open Mic @ Spoons
DESCRIPTION:Grab dinner and a drink\, bring your talent (or just come cheer)\, and enjoy a night of local music\, poetry\, comedy\, and more. Whether you’re taking the mic or soaking it all in\, it’s always a good time at Spoons! Hosted by Jordan Lewis Lee\, half of the roots music duo Lickety Split\, with Gabrielle Monia. This is an acoustic-instrument-only set up.
URL:https://exploresisters.com/event/spoons-open-mic/2028-08-28/
LOCATION:Spoons Restaurant\, 473 E Hood Ave\, Sisters\, 97759\, United States
CATEGORIES:Music
ATTACH;FMTTYPE=image/jpeg:https://exploresisters.com/wp-content/uploads/2025/10/just-duets-1.jpg
END:VEVENT
BEGIN:VEVENT
DTSTART;TZID=America/Los_Angeles:20280904T180000
DTEND;TZID=America/Los_Angeles:20280904T203000
DTSTAMP:20260419T140701
CREATED:20260217T033309Z
LAST-MODIFIED:20260220T035953Z
UID:10003807-1851703200-1851712200@exploresisters.com
SUMMARY:Open Mic @ Spoons
DESCRIPTION:Grab dinner and a drink\, bring your talent (or just come cheer)\, and enjoy a night of local music\, poetry\, comedy\, and more. Whether you’re taking the mic or soaking it all in\, it’s always a good time at Spoons! Hosted by Jordan Lewis Lee\, half of the roots music duo Lickety Split\, with Gabrielle Monia. This is an acoustic-instrument-only set up.
URL:https://exploresisters.com/event/spoons-open-mic/2028-09-04/
LOCATION:Spoons Restaurant\, 473 E Hood Ave\, Sisters\, 97759\, United States
CATEGORIES:Music
ATTACH;FMTTYPE=image/jpeg:https://exploresisters.com/wp-content/uploads/2025/10/just-duets-1.jpg
END:VEVENT
BEGIN:VEVENT
DTSTART;TZID=America/Los_Angeles:20280911T180000
DTEND;TZID=America/Los_Angeles:20280911T203000
DTSTAMP:20260419T140701
CREATED:20260217T033309Z
LAST-MODIFIED:20260220T035953Z
UID:10003808-1852308000-1852317000@exploresisters.com
SUMMARY:Open Mic @ Spoons
DESCRIPTION:Grab dinner and a drink\, bring your talent (or just come cheer)\, and enjoy a night of local music\, poetry\, comedy\, and more. Whether you’re taking the mic or soaking it all in\, it’s always a good time at Spoons! Hosted by Jordan Lewis Lee\, half of the roots music duo Lickety Split\, with Gabrielle Monia. This is an acoustic-instrument-only set up.
URL:https://exploresisters.com/event/spoons-open-mic/2028-09-11/
LOCATION:Spoons Restaurant\, 473 E Hood Ave\, Sisters\, 97759\, United States
CATEGORIES:Music
ATTACH;FMTTYPE=image/jpeg:https://exploresisters.com/wp-content/uploads/2025/10/just-duets-1.jpg
END:VEVENT
END:VCALENDAR