BEGIN:VCALENDAR
VERSION:2.0
PRODID:-//Sisters Oregon - ECPv6.15.20//NONSGML v1.0//EN
CALSCALE:GREGORIAN
METHOD:PUBLISH
X-ORIGINAL-URL:https://exploresisters.com
X-WR-CALDESC:Events for Sisters Oregon
REFRESH-INTERVAL;VALUE=DURATION:PT1H
X-Robots-Tag:noindex
X-PUBLISHED-TTL:PT1H
BEGIN:VTIMEZONE
TZID:America/Los_Angeles
BEGIN:DAYLIGHT
TZOFFSETFROM:-0800
TZOFFSETTO:-0700
TZNAME:PDT
DTSTART:20290311T100000
END:DAYLIGHT
BEGIN:STANDARD
TZOFFSETFROM:-0700
TZOFFSETTO:-0800
TZNAME:PST
DTSTART:20291104T090000
END:STANDARD
BEGIN:DAYLIGHT
TZOFFSETFROM:-0800
TZOFFSETTO:-0700
TZNAME:PDT
DTSTART:20300310T100000
END:DAYLIGHT
BEGIN:STANDARD
TZOFFSETFROM:-0700
TZOFFSETTO:-0800
TZNAME:PST
DTSTART:20301103T090000
END:STANDARD
BEGIN:DAYLIGHT
TZOFFSETFROM:-0800
TZOFFSETTO:-0700
TZNAME:PDT
DTSTART:20310309T100000
END:DAYLIGHT
BEGIN:STANDARD
TZOFFSETFROM:-0700
TZOFFSETTO:-0800
TZNAME:PST
DTSTART:20311102T090000
END:STANDARD
END:VTIMEZONE
BEGIN:VEVENT
DTSTART;TZID=America/Los_Angeles:20300828T173000
DTEND;TZID=America/Los_Angeles:20300828T203000
DTSTAMP:20260424T143931
CREATED:20251028T014709Z
LAST-MODIFIED:20251028T014709Z
UID:10002743-1914168600-1914179400@exploresisters.com
SUMMARY:Saloon Poker Tournament
DESCRIPTION:This weekly No-Limit Texas Hold ’em tournament has been going on upstairs at the Saloon since 2010. Players should show up Wednesdays between 5:15 and 5:25 to sign up with Pat upstairs before the dealing starts at 5:30. If you arrive late\, you can still buy in until 6:30. \nIt’s a $20 buy-in every Wednesday\, but to keep things interesting\, they go through the following rotation of different tournament rules: \n1st Wednesday of the month: Just one rebuy allowed before the 6:30 break. \n2nd Wednesday of the month: Unlimited rebuys until 6:30\, so the tournament might go a little later\, but usually there’s more prize money. \n3rd Wednesday of the month: Just one rebuy allowed before the 6:30 break. \nLast Wednesday of the month: It’s an additional $5 for “Bounty” play. You keep the $5 bounty from each player you knock out of the tournament.
URL:https://exploresisters.com/event/saloon-poker-tournament/2030-08-28/
LOCATION:Sisters Saloon & Ranch Grill\, 190 E Cascade Ave\, Sisters\, 97759\, United States
CATEGORIES:Games
ATTACH;FMTTYPE=image/jpeg:https://exploresisters.com/wp-content/uploads/2025/10/saloon-poker-tournament-1.jpg
END:VEVENT
BEGIN:VEVENT
DTSTART;TZID=America/Los_Angeles:20300904T173000
DTEND;TZID=America/Los_Angeles:20300904T203000
DTSTAMP:20260424T143931
CREATED:20251028T014709Z
LAST-MODIFIED:20251028T014709Z
UID:10002744-1914773400-1914784200@exploresisters.com
SUMMARY:Saloon Poker Tournament
DESCRIPTION:This weekly No-Limit Texas Hold ’em tournament has been going on upstairs at the Saloon since 2010. Players should show up Wednesdays between 5:15 and 5:25 to sign up with Pat upstairs before the dealing starts at 5:30. If you arrive late\, you can still buy in until 6:30. \nIt’s a $20 buy-in every Wednesday\, but to keep things interesting\, they go through the following rotation of different tournament rules: \n1st Wednesday of the month: Just one rebuy allowed before the 6:30 break. \n2nd Wednesday of the month: Unlimited rebuys until 6:30\, so the tournament might go a little later\, but usually there’s more prize money. \n3rd Wednesday of the month: Just one rebuy allowed before the 6:30 break. \nLast Wednesday of the month: It’s an additional $5 for “Bounty” play. You keep the $5 bounty from each player you knock out of the tournament.
URL:https://exploresisters.com/event/saloon-poker-tournament/2030-09-04/
LOCATION:Sisters Saloon & Ranch Grill\, 190 E Cascade Ave\, Sisters\, 97759\, United States
CATEGORIES:Games
ATTACH;FMTTYPE=image/jpeg:https://exploresisters.com/wp-content/uploads/2025/10/saloon-poker-tournament-1.jpg
END:VEVENT
BEGIN:VEVENT
DTSTART;TZID=America/Los_Angeles:20300911T173000
DTEND;TZID=America/Los_Angeles:20300911T203000
DTSTAMP:20260424T143931
CREATED:20251028T014709Z
LAST-MODIFIED:20251028T014709Z
UID:10002745-1915378200-1915389000@exploresisters.com
SUMMARY:Saloon Poker Tournament
DESCRIPTION:This weekly No-Limit Texas Hold ’em tournament has been going on upstairs at the Saloon since 2010. Players should show up Wednesdays between 5:15 and 5:25 to sign up with Pat upstairs before the dealing starts at 5:30. If you arrive late\, you can still buy in until 6:30. \nIt’s a $20 buy-in every Wednesday\, but to keep things interesting\, they go through the following rotation of different tournament rules: \n1st Wednesday of the month: Just one rebuy allowed before the 6:30 break. \n2nd Wednesday of the month: Unlimited rebuys until 6:30\, so the tournament might go a little later\, but usually there’s more prize money. \n3rd Wednesday of the month: Just one rebuy allowed before the 6:30 break. \nLast Wednesday of the month: It’s an additional $5 for “Bounty” play. You keep the $5 bounty from each player you knock out of the tournament.
URL:https://exploresisters.com/event/saloon-poker-tournament/2030-09-11/
LOCATION:Sisters Saloon & Ranch Grill\, 190 E Cascade Ave\, Sisters\, 97759\, United States
CATEGORIES:Games
ATTACH;FMTTYPE=image/jpeg:https://exploresisters.com/wp-content/uploads/2025/10/saloon-poker-tournament-1.jpg
END:VEVENT
BEGIN:VEVENT
DTSTART;TZID=America/Los_Angeles:20300918T173000
DTEND;TZID=America/Los_Angeles:20300918T203000
DTSTAMP:20260424T143931
CREATED:20251028T014709Z
LAST-MODIFIED:20251028T014709Z
UID:10002746-1915983000-1915993800@exploresisters.com
SUMMARY:Saloon Poker Tournament
DESCRIPTION:This weekly No-Limit Texas Hold ’em tournament has been going on upstairs at the Saloon since 2010. Players should show up Wednesdays between 5:15 and 5:25 to sign up with Pat upstairs before the dealing starts at 5:30. If you arrive late\, you can still buy in until 6:30. \nIt’s a $20 buy-in every Wednesday\, but to keep things interesting\, they go through the following rotation of different tournament rules: \n1st Wednesday of the month: Just one rebuy allowed before the 6:30 break. \n2nd Wednesday of the month: Unlimited rebuys until 6:30\, so the tournament might go a little later\, but usually there’s more prize money. \n3rd Wednesday of the month: Just one rebuy allowed before the 6:30 break. \nLast Wednesday of the month: It’s an additional $5 for “Bounty” play. You keep the $5 bounty from each player you knock out of the tournament.
URL:https://exploresisters.com/event/saloon-poker-tournament/2030-09-18/
LOCATION:Sisters Saloon & Ranch Grill\, 190 E Cascade Ave\, Sisters\, 97759\, United States
CATEGORIES:Games
ATTACH;FMTTYPE=image/jpeg:https://exploresisters.com/wp-content/uploads/2025/10/saloon-poker-tournament-1.jpg
END:VEVENT
BEGIN:VEVENT
DTSTART;TZID=America/Los_Angeles:20300925T173000
DTEND;TZID=America/Los_Angeles:20300925T203000
DTSTAMP:20260424T143931
CREATED:20251028T014709Z
LAST-MODIFIED:20251028T014709Z
UID:10002747-1916587800-1916598600@exploresisters.com
SUMMARY:Saloon Poker Tournament
DESCRIPTION:This weekly No-Limit Texas Hold ’em tournament has been going on upstairs at the Saloon since 2010. Players should show up Wednesdays between 5:15 and 5:25 to sign up with Pat upstairs before the dealing starts at 5:30. If you arrive late\, you can still buy in until 6:30. \nIt’s a $20 buy-in every Wednesday\, but to keep things interesting\, they go through the following rotation of different tournament rules: \n1st Wednesday of the month: Just one rebuy allowed before the 6:30 break. \n2nd Wednesday of the month: Unlimited rebuys until 6:30\, so the tournament might go a little later\, but usually there’s more prize money. \n3rd Wednesday of the month: Just one rebuy allowed before the 6:30 break. \nLast Wednesday of the month: It’s an additional $5 for “Bounty” play. You keep the $5 bounty from each player you knock out of the tournament.
URL:https://exploresisters.com/event/saloon-poker-tournament/2030-09-25/
LOCATION:Sisters Saloon & Ranch Grill\, 190 E Cascade Ave\, Sisters\, 97759\, United States
CATEGORIES:Games
ATTACH;FMTTYPE=image/jpeg:https://exploresisters.com/wp-content/uploads/2025/10/saloon-poker-tournament-1.jpg
END:VEVENT
BEGIN:VEVENT
DTSTART;TZID=America/Los_Angeles:20301002T173000
DTEND;TZID=America/Los_Angeles:20301002T203000
DTSTAMP:20260424T143931
CREATED:20251028T014709Z
LAST-MODIFIED:20251028T014709Z
UID:10002748-1917192600-1917203400@exploresisters.com
SUMMARY:Saloon Poker Tournament
DESCRIPTION:This weekly No-Limit Texas Hold ’em tournament has been going on upstairs at the Saloon since 2010. Players should show up Wednesdays between 5:15 and 5:25 to sign up with Pat upstairs before the dealing starts at 5:30. If you arrive late\, you can still buy in until 6:30. \nIt’s a $20 buy-in every Wednesday\, but to keep things interesting\, they go through the following rotation of different tournament rules: \n1st Wednesday of the month: Just one rebuy allowed before the 6:30 break. \n2nd Wednesday of the month: Unlimited rebuys until 6:30\, so the tournament might go a little later\, but usually there’s more prize money. \n3rd Wednesday of the month: Just one rebuy allowed before the 6:30 break. \nLast Wednesday of the month: It’s an additional $5 for “Bounty” play. You keep the $5 bounty from each player you knock out of the tournament.
URL:https://exploresisters.com/event/saloon-poker-tournament/2030-10-02/
LOCATION:Sisters Saloon & Ranch Grill\, 190 E Cascade Ave\, Sisters\, 97759\, United States
CATEGORIES:Games
ATTACH;FMTTYPE=image/jpeg:https://exploresisters.com/wp-content/uploads/2025/10/saloon-poker-tournament-1.jpg
END:VEVENT
BEGIN:VEVENT
DTSTART;TZID=America/Los_Angeles:20301009T173000
DTEND;TZID=America/Los_Angeles:20301009T203000
DTSTAMP:20260424T143931
CREATED:20251028T014709Z
LAST-MODIFIED:20251028T014709Z
UID:10002749-1917797400-1917808200@exploresisters.com
SUMMARY:Saloon Poker Tournament
DESCRIPTION:This weekly No-Limit Texas Hold ’em tournament has been going on upstairs at the Saloon since 2010. Players should show up Wednesdays between 5:15 and 5:25 to sign up with Pat upstairs before the dealing starts at 5:30. If you arrive late\, you can still buy in until 6:30. \nIt’s a $20 buy-in every Wednesday\, but to keep things interesting\, they go through the following rotation of different tournament rules: \n1st Wednesday of the month: Just one rebuy allowed before the 6:30 break. \n2nd Wednesday of the month: Unlimited rebuys until 6:30\, so the tournament might go a little later\, but usually there’s more prize money. \n3rd Wednesday of the month: Just one rebuy allowed before the 6:30 break. \nLast Wednesday of the month: It’s an additional $5 for “Bounty” play. You keep the $5 bounty from each player you knock out of the tournament.
URL:https://exploresisters.com/event/saloon-poker-tournament/2030-10-09/
LOCATION:Sisters Saloon & Ranch Grill\, 190 E Cascade Ave\, Sisters\, 97759\, United States
CATEGORIES:Games
ATTACH;FMTTYPE=image/jpeg:https://exploresisters.com/wp-content/uploads/2025/10/saloon-poker-tournament-1.jpg
END:VEVENT
BEGIN:VEVENT
DTSTART;TZID=America/Los_Angeles:20301016T173000
DTEND;TZID=America/Los_Angeles:20301016T203000
DTSTAMP:20260424T143931
CREATED:20251028T014709Z
LAST-MODIFIED:20251028T014709Z
UID:10002750-1918402200-1918413000@exploresisters.com
SUMMARY:Saloon Poker Tournament
DESCRIPTION:This weekly No-Limit Texas Hold ’em tournament has been going on upstairs at the Saloon since 2010. Players should show up Wednesdays between 5:15 and 5:25 to sign up with Pat upstairs before the dealing starts at 5:30. If you arrive late\, you can still buy in until 6:30. \nIt’s a $20 buy-in every Wednesday\, but to keep things interesting\, they go through the following rotation of different tournament rules: \n1st Wednesday of the month: Just one rebuy allowed before the 6:30 break. \n2nd Wednesday of the month: Unlimited rebuys until 6:30\, so the tournament might go a little later\, but usually there’s more prize money. \n3rd Wednesday of the month: Just one rebuy allowed before the 6:30 break. \nLast Wednesday of the month: It’s an additional $5 for “Bounty” play. You keep the $5 bounty from each player you knock out of the tournament.
URL:https://exploresisters.com/event/saloon-poker-tournament/2030-10-16/
LOCATION:Sisters Saloon & Ranch Grill\, 190 E Cascade Ave\, Sisters\, 97759\, United States
CATEGORIES:Games
ATTACH;FMTTYPE=image/jpeg:https://exploresisters.com/wp-content/uploads/2025/10/saloon-poker-tournament-1.jpg
END:VEVENT
BEGIN:VEVENT
DTSTART;TZID=America/Los_Angeles:20301023T173000
DTEND;TZID=America/Los_Angeles:20301023T203000
DTSTAMP:20260424T143931
CREATED:20251028T014709Z
LAST-MODIFIED:20251028T014709Z
UID:10002751-1919007000-1919017800@exploresisters.com
SUMMARY:Saloon Poker Tournament
DESCRIPTION:This weekly No-Limit Texas Hold ’em tournament has been going on upstairs at the Saloon since 2010. Players should show up Wednesdays between 5:15 and 5:25 to sign up with Pat upstairs before the dealing starts at 5:30. If you arrive late\, you can still buy in until 6:30. \nIt’s a $20 buy-in every Wednesday\, but to keep things interesting\, they go through the following rotation of different tournament rules: \n1st Wednesday of the month: Just one rebuy allowed before the 6:30 break. \n2nd Wednesday of the month: Unlimited rebuys until 6:30\, so the tournament might go a little later\, but usually there’s more prize money. \n3rd Wednesday of the month: Just one rebuy allowed before the 6:30 break. \nLast Wednesday of the month: It’s an additional $5 for “Bounty” play. You keep the $5 bounty from each player you knock out of the tournament.
URL:https://exploresisters.com/event/saloon-poker-tournament/2030-10-23/
LOCATION:Sisters Saloon & Ranch Grill\, 190 E Cascade Ave\, Sisters\, 97759\, United States
CATEGORIES:Games
ATTACH;FMTTYPE=image/jpeg:https://exploresisters.com/wp-content/uploads/2025/10/saloon-poker-tournament-1.jpg
END:VEVENT
END:VCALENDAR