BEGIN:VCALENDAR
VERSION:2.0
PRODID:-//Sisters Oregon - ECPv6.15.20//NONSGML v1.0//EN
CALSCALE:GREGORIAN
METHOD:PUBLISH
X-WR-CALNAME:Sisters Oregon
X-ORIGINAL-URL:https://exploresisters.com
X-WR-CALDESC:Events for Sisters Oregon
REFRESH-INTERVAL;VALUE=DURATION:PT1H
X-Robots-Tag:noindex
X-PUBLISHED-TTL:PT1H
BEGIN:VTIMEZONE
TZID:America/Los_Angeles
BEGIN:DAYLIGHT
TZOFFSETFROM:-0800
TZOFFSETTO:-0700
TZNAME:PDT
DTSTART:20290311T100000
END:DAYLIGHT
BEGIN:STANDARD
TZOFFSETFROM:-0700
TZOFFSETTO:-0800
TZNAME:PST
DTSTART:20291104T090000
END:STANDARD
BEGIN:DAYLIGHT
TZOFFSETFROM:-0800
TZOFFSETTO:-0700
TZNAME:PDT
DTSTART:20300310T100000
END:DAYLIGHT
BEGIN:STANDARD
TZOFFSETFROM:-0700
TZOFFSETTO:-0800
TZNAME:PST
DTSTART:20301103T090000
END:STANDARD
BEGIN:DAYLIGHT
TZOFFSETFROM:-0800
TZOFFSETTO:-0700
TZNAME:PDT
DTSTART:20310309T100000
END:DAYLIGHT
BEGIN:STANDARD
TZOFFSETFROM:-0700
TZOFFSETTO:-0800
TZNAME:PST
DTSTART:20311102T090000
END:STANDARD
BEGIN:DAYLIGHT
TZOFFSETFROM:-0800
TZOFFSETTO:-0700
TZNAME:PDT
DTSTART:20320314T100000
END:DAYLIGHT
BEGIN:STANDARD
TZOFFSETFROM:-0700
TZOFFSETTO:-0800
TZNAME:PST
DTSTART:20321107T090000
END:STANDARD
END:VTIMEZONE
BEGIN:VEVENT
DTSTART;TZID=America/Los_Angeles:20300725T170000
DTEND;TZID=America/Los_Angeles:20300725T180000
DTSTAMP:20260423T012831
CREATED:20260416T040746Z
LAST-MODIFIED:20260416T040746Z
UID:10004814-1911229200-1911232800@exploresisters.com
SUMMARY:Bees & Brews (+MEAD)
DESCRIPTION:Join Lazy Z Ranch Wines for Bees & Brews (and Mead!)—a casual monthly meet-up for local beekeepers and those interested in bees to connect\, swap stories\, and talk shop. Grab a drink\, pull up a chair\, and enjoy an easy evening of beekeeping conversation at Lazy Z.
URL:https://exploresisters.com/event/bees-brews-mead/2030-07-25/
LOCATION:Lazy Z Ranch Wines Tasting Room\, 68540 E Hwy 20\, Sisters\, 97759\, United States
CATEGORIES:Food & Drink
ATTACH;FMTTYPE=image/jpeg:https://exploresisters.com/wp-content/uploads/2026/04/lazy-z-bees-and-brews-1.jpg
END:VEVENT
BEGIN:VEVENT
DTSTART;TZID=America/Los_Angeles:20300822T170000
DTEND;TZID=America/Los_Angeles:20300822T180000
DTSTAMP:20260423T012831
CREATED:20260416T040746Z
LAST-MODIFIED:20260416T040746Z
UID:10004815-1913648400-1913652000@exploresisters.com
SUMMARY:Bees & Brews (+MEAD)
DESCRIPTION:Join Lazy Z Ranch Wines for Bees & Brews (and Mead!)—a casual monthly meet-up for local beekeepers and those interested in bees to connect\, swap stories\, and talk shop. Grab a drink\, pull up a chair\, and enjoy an easy evening of beekeeping conversation at Lazy Z.
URL:https://exploresisters.com/event/bees-brews-mead/2030-08-22/
LOCATION:Lazy Z Ranch Wines Tasting Room\, 68540 E Hwy 20\, Sisters\, 97759\, United States
CATEGORIES:Food & Drink
ATTACH;FMTTYPE=image/jpeg:https://exploresisters.com/wp-content/uploads/2026/04/lazy-z-bees-and-brews-1.jpg
END:VEVENT
BEGIN:VEVENT
DTSTART;TZID=America/Los_Angeles:20300926T170000
DTEND;TZID=America/Los_Angeles:20300926T180000
DTSTAMP:20260423T012831
CREATED:20260416T040746Z
LAST-MODIFIED:20260416T040746Z
UID:10004816-1916672400-1916676000@exploresisters.com
SUMMARY:Bees & Brews (+MEAD)
DESCRIPTION:Join Lazy Z Ranch Wines for Bees & Brews (and Mead!)—a casual monthly meet-up for local beekeepers and those interested in bees to connect\, swap stories\, and talk shop. Grab a drink\, pull up a chair\, and enjoy an easy evening of beekeeping conversation at Lazy Z.
URL:https://exploresisters.com/event/bees-brews-mead/2030-09-26/
LOCATION:Lazy Z Ranch Wines Tasting Room\, 68540 E Hwy 20\, Sisters\, 97759\, United States
CATEGORIES:Food & Drink
ATTACH;FMTTYPE=image/jpeg:https://exploresisters.com/wp-content/uploads/2026/04/lazy-z-bees-and-brews-1.jpg
END:VEVENT
BEGIN:VEVENT
DTSTART;TZID=America/Los_Angeles:20301024T170000
DTEND;TZID=America/Los_Angeles:20301024T180000
DTSTAMP:20260423T012831
CREATED:20260416T040746Z
LAST-MODIFIED:20260416T040746Z
UID:10004817-1919091600-1919095200@exploresisters.com
SUMMARY:Bees & Brews (+MEAD)
DESCRIPTION:Join Lazy Z Ranch Wines for Bees & Brews (and Mead!)—a casual monthly meet-up for local beekeepers and those interested in bees to connect\, swap stories\, and talk shop. Grab a drink\, pull up a chair\, and enjoy an easy evening of beekeeping conversation at Lazy Z.
URL:https://exploresisters.com/event/bees-brews-mead/2030-10-24/
LOCATION:Lazy Z Ranch Wines Tasting Room\, 68540 E Hwy 20\, Sisters\, 97759\, United States
CATEGORIES:Food & Drink
ATTACH;FMTTYPE=image/jpeg:https://exploresisters.com/wp-content/uploads/2026/04/lazy-z-bees-and-brews-1.jpg
END:VEVENT
BEGIN:VEVENT
DTSTART;TZID=America/Los_Angeles:20301128T170000
DTEND;TZID=America/Los_Angeles:20301128T180000
DTSTAMP:20260423T012831
CREATED:20260416T040746Z
LAST-MODIFIED:20260416T040746Z
UID:10004818-1922115600-1922119200@exploresisters.com
SUMMARY:Bees & Brews (+MEAD)
DESCRIPTION:Join Lazy Z Ranch Wines for Bees & Brews (and Mead!)—a casual monthly meet-up for local beekeepers and those interested in bees to connect\, swap stories\, and talk shop. Grab a drink\, pull up a chair\, and enjoy an easy evening of beekeeping conversation at Lazy Z.
URL:https://exploresisters.com/event/bees-brews-mead/2030-11-28/
LOCATION:Lazy Z Ranch Wines Tasting Room\, 68540 E Hwy 20\, Sisters\, 97759\, United States
CATEGORIES:Food & Drink
ATTACH;FMTTYPE=image/jpeg:https://exploresisters.com/wp-content/uploads/2026/04/lazy-z-bees-and-brews-1.jpg
END:VEVENT
BEGIN:VEVENT
DTSTART;TZID=America/Los_Angeles:20301226T170000
DTEND;TZID=America/Los_Angeles:20301226T180000
DTSTAMP:20260423T012831
CREATED:20260416T040746Z
LAST-MODIFIED:20260416T040746Z
UID:10004819-1924534800-1924538400@exploresisters.com
SUMMARY:Bees & Brews (+MEAD)
DESCRIPTION:Join Lazy Z Ranch Wines for Bees & Brews (and Mead!)—a casual monthly meet-up for local beekeepers and those interested in bees to connect\, swap stories\, and talk shop. Grab a drink\, pull up a chair\, and enjoy an easy evening of beekeeping conversation at Lazy Z.
URL:https://exploresisters.com/event/bees-brews-mead/2030-12-26/
LOCATION:Lazy Z Ranch Wines Tasting Room\, 68540 E Hwy 20\, Sisters\, 97759\, United States
CATEGORIES:Food & Drink
ATTACH;FMTTYPE=image/jpeg:https://exploresisters.com/wp-content/uploads/2026/04/lazy-z-bees-and-brews-1.jpg
END:VEVENT
BEGIN:VEVENT
DTSTART;TZID=America/Los_Angeles:20310123T170000
DTEND;TZID=America/Los_Angeles:20310123T180000
DTSTAMP:20260423T012831
CREATED:20260416T040746Z
LAST-MODIFIED:20260416T040746Z
UID:10004820-1926954000-1926957600@exploresisters.com
SUMMARY:Bees & Brews (+MEAD)
DESCRIPTION:Join Lazy Z Ranch Wines for Bees & Brews (and Mead!)—a casual monthly meet-up for local beekeepers and those interested in bees to connect\, swap stories\, and talk shop. Grab a drink\, pull up a chair\, and enjoy an easy evening of beekeeping conversation at Lazy Z.
URL:https://exploresisters.com/event/bees-brews-mead/2031-01-23/
LOCATION:Lazy Z Ranch Wines Tasting Room\, 68540 E Hwy 20\, Sisters\, 97759\, United States
CATEGORIES:Food & Drink
ATTACH;FMTTYPE=image/jpeg:https://exploresisters.com/wp-content/uploads/2026/04/lazy-z-bees-and-brews-1.jpg
END:VEVENT
BEGIN:VEVENT
DTSTART;TZID=America/Los_Angeles:20310227T170000
DTEND;TZID=America/Los_Angeles:20310227T180000
DTSTAMP:20260423T012831
CREATED:20260416T040746Z
LAST-MODIFIED:20260416T040746Z
UID:10004821-1929978000-1929981600@exploresisters.com
SUMMARY:Bees & Brews (+MEAD)
DESCRIPTION:Join Lazy Z Ranch Wines for Bees & Brews (and Mead!)—a casual monthly meet-up for local beekeepers and those interested in bees to connect\, swap stories\, and talk shop. Grab a drink\, pull up a chair\, and enjoy an easy evening of beekeeping conversation at Lazy Z.
URL:https://exploresisters.com/event/bees-brews-mead/2031-02-27/
LOCATION:Lazy Z Ranch Wines Tasting Room\, 68540 E Hwy 20\, Sisters\, 97759\, United States
CATEGORIES:Food & Drink
ATTACH;FMTTYPE=image/jpeg:https://exploresisters.com/wp-content/uploads/2026/04/lazy-z-bees-and-brews-1.jpg
END:VEVENT
BEGIN:VEVENT
DTSTART;TZID=America/Los_Angeles:20310327T170000
DTEND;TZID=America/Los_Angeles:20310327T180000
DTSTAMP:20260423T012831
CREATED:20260416T040746Z
LAST-MODIFIED:20260416T040746Z
UID:10004822-1932397200-1932400800@exploresisters.com
SUMMARY:Bees & Brews (+MEAD)
DESCRIPTION:Join Lazy Z Ranch Wines for Bees & Brews (and Mead!)—a casual monthly meet-up for local beekeepers and those interested in bees to connect\, swap stories\, and talk shop. Grab a drink\, pull up a chair\, and enjoy an easy evening of beekeeping conversation at Lazy Z.
URL:https://exploresisters.com/event/bees-brews-mead/2031-03-27/
LOCATION:Lazy Z Ranch Wines Tasting Room\, 68540 E Hwy 20\, Sisters\, 97759\, United States
CATEGORIES:Food & Drink
ATTACH;FMTTYPE=image/jpeg:https://exploresisters.com/wp-content/uploads/2026/04/lazy-z-bees-and-brews-1.jpg
END:VEVENT
END:VCALENDAR