BEGIN:VCALENDAR
VERSION:2.0
PRODID:-//Sisters Oregon - ECPv6.15.20//NONSGML v1.0//EN
CALSCALE:GREGORIAN
METHOD:PUBLISH
X-WR-CALNAME:Sisters Oregon
X-ORIGINAL-URL:https://exploresisters.com
X-WR-CALDESC:Events for Sisters Oregon
REFRESH-INTERVAL;VALUE=DURATION:PT1H
X-Robots-Tag:noindex
X-PUBLISHED-TTL:PT1H
BEGIN:VTIMEZONE
TZID:America/Los_Angeles
BEGIN:DAYLIGHT
TZOFFSETFROM:-0800
TZOFFSETTO:-0700
TZNAME:PDT
DTSTART:20260308T100000
END:DAYLIGHT
BEGIN:STANDARD
TZOFFSETFROM:-0700
TZOFFSETTO:-0800
TZNAME:PST
DTSTART:20261101T090000
END:STANDARD
BEGIN:DAYLIGHT
TZOFFSETFROM:-0800
TZOFFSETTO:-0700
TZNAME:PDT
DTSTART:20270314T100000
END:DAYLIGHT
BEGIN:STANDARD
TZOFFSETFROM:-0700
TZOFFSETTO:-0800
TZNAME:PST
DTSTART:20271107T090000
END:STANDARD
BEGIN:DAYLIGHT
TZOFFSETFROM:-0800
TZOFFSETTO:-0700
TZNAME:PDT
DTSTART:20280312T100000
END:DAYLIGHT
BEGIN:STANDARD
TZOFFSETFROM:-0700
TZOFFSETTO:-0800
TZNAME:PST
DTSTART:20281105T090000
END:STANDARD
BEGIN:DAYLIGHT
TZOFFSETFROM:-0800
TZOFFSETTO:-0700
TZNAME:PDT
DTSTART:20290311T100000
END:DAYLIGHT
BEGIN:STANDARD
TZOFFSETFROM:-0700
TZOFFSETTO:-0800
TZNAME:PST
DTSTART:20291104T090000
END:STANDARD
BEGIN:DAYLIGHT
TZOFFSETFROM:-0800
TZOFFSETTO:-0700
TZNAME:PDT
DTSTART:20300310T100000
END:DAYLIGHT
BEGIN:STANDARD
TZOFFSETFROM:-0700
TZOFFSETTO:-0800
TZNAME:PST
DTSTART:20301103T090000
END:STANDARD
END:VTIMEZONE
BEGIN:VEVENT
DTSTART;TZID=America/Los_Angeles:20270411T120000
DTEND;TZID=America/Los_Angeles:20270411T180000
DTSTAMP:20260422T142251
CREATED:20260416T035553Z
LAST-MODIFIED:20260416T035553Z
UID:10004760-1807444800-1807466400@exploresisters.com
SUMMARY:Lazy Zunday
DESCRIPTION:Lazy Zunday is your Sunday reset. Settle in with a mead-mosa\, relax on a couch or by the firepits\, and take in the views. They’ll have mellow ambient music playing\, so it’s easy to slow down—whether you’re coming solo\, meeting friends\, or making it a low-key date. \nBring a book (or a journal/sketchbook\, or nothing at all). Claim a cozy corner\, sip something delicious\, and stay awhile. Hungry? They have gourmet charcuterie or you can order food delivery from Luckey’s while you’re here.
URL:https://exploresisters.com/event/lazy-zunday-2/2027-04-11/
LOCATION:Lazy Z Ranch Wines Tasting Room\, 68540 E Hwy 20\, Sisters\, 97759\, United States
CATEGORIES:Food & Drink
ATTACH;FMTTYPE=image/jpeg:https://exploresisters.com/wp-content/uploads/2026/04/lazy-z-lazy-zunday-1.jpg
END:VEVENT
BEGIN:VEVENT
DTSTART;TZID=America/Los_Angeles:20270418T120000
DTEND;TZID=America/Los_Angeles:20270418T180000
DTSTAMP:20260422T142251
CREATED:20260416T035553Z
LAST-MODIFIED:20260416T035553Z
UID:10004761-1808049600-1808071200@exploresisters.com
SUMMARY:Lazy Zunday
DESCRIPTION:Lazy Zunday is your Sunday reset. Settle in with a mead-mosa\, relax on a couch or by the firepits\, and take in the views. They’ll have mellow ambient music playing\, so it’s easy to slow down—whether you’re coming solo\, meeting friends\, or making it a low-key date. \nBring a book (or a journal/sketchbook\, or nothing at all). Claim a cozy corner\, sip something delicious\, and stay awhile. Hungry? They have gourmet charcuterie or you can order food delivery from Luckey’s while you’re here.
URL:https://exploresisters.com/event/lazy-zunday-2/2027-04-18/
LOCATION:Lazy Z Ranch Wines Tasting Room\, 68540 E Hwy 20\, Sisters\, 97759\, United States
CATEGORIES:Food & Drink
ATTACH;FMTTYPE=image/jpeg:https://exploresisters.com/wp-content/uploads/2026/04/lazy-z-lazy-zunday-1.jpg
END:VEVENT
BEGIN:VEVENT
DTSTART;TZID=America/Los_Angeles:20270422T170000
DTEND;TZID=America/Los_Angeles:20270422T180000
DTSTAMP:20260422T142251
CREATED:20260416T040746Z
LAST-MODIFIED:20260416T040746Z
UID:10004775-1808413200-1808416800@exploresisters.com
SUMMARY:Bees & Brews (+MEAD)
DESCRIPTION:Join Lazy Z Ranch Wines for Bees & Brews (and Mead!)—a casual monthly meet-up for local beekeepers and those interested in bees to connect\, swap stories\, and talk shop. Grab a drink\, pull up a chair\, and enjoy an easy evening of beekeeping conversation at Lazy Z.
URL:https://exploresisters.com/event/bees-brews-mead/2027-04-22/
LOCATION:Lazy Z Ranch Wines Tasting Room\, 68540 E Hwy 20\, Sisters\, 97759\, United States
CATEGORIES:Food & Drink
ATTACH;FMTTYPE=image/jpeg:https://exploresisters.com/wp-content/uploads/2026/04/lazy-z-bees-and-brews-1.jpg
END:VEVENT
BEGIN:VEVENT
DTSTART;TZID=America/Los_Angeles:20270425T120000
DTEND;TZID=America/Los_Angeles:20270425T180000
DTSTAMP:20260422T142251
CREATED:20260416T035553Z
LAST-MODIFIED:20260416T035553Z
UID:10004762-1808654400-1808676000@exploresisters.com
SUMMARY:Lazy Zunday
DESCRIPTION:Lazy Zunday is your Sunday reset. Settle in with a mead-mosa\, relax on a couch or by the firepits\, and take in the views. They’ll have mellow ambient music playing\, so it’s easy to slow down—whether you’re coming solo\, meeting friends\, or making it a low-key date. \nBring a book (or a journal/sketchbook\, or nothing at all). Claim a cozy corner\, sip something delicious\, and stay awhile. Hungry? They have gourmet charcuterie or you can order food delivery from Luckey’s while you’re here.
URL:https://exploresisters.com/event/lazy-zunday-2/2027-04-25/
LOCATION:Lazy Z Ranch Wines Tasting Room\, 68540 E Hwy 20\, Sisters\, 97759\, United States
CATEGORIES:Food & Drink
ATTACH;FMTTYPE=image/jpeg:https://exploresisters.com/wp-content/uploads/2026/04/lazy-z-lazy-zunday-1.jpg
END:VEVENT
BEGIN:VEVENT
DTSTART;TZID=America/Los_Angeles:20270527T170000
DTEND;TZID=America/Los_Angeles:20270527T180000
DTSTAMP:20260422T142251
CREATED:20260416T040746Z
LAST-MODIFIED:20260416T040746Z
UID:10004776-1811437200-1811440800@exploresisters.com
SUMMARY:Bees & Brews (+MEAD)
DESCRIPTION:Join Lazy Z Ranch Wines for Bees & Brews (and Mead!)—a casual monthly meet-up for local beekeepers and those interested in bees to connect\, swap stories\, and talk shop. Grab a drink\, pull up a chair\, and enjoy an easy evening of beekeeping conversation at Lazy Z.
URL:https://exploresisters.com/event/bees-brews-mead/2027-05-27/
LOCATION:Lazy Z Ranch Wines Tasting Room\, 68540 E Hwy 20\, Sisters\, 97759\, United States
CATEGORIES:Food & Drink
ATTACH;FMTTYPE=image/jpeg:https://exploresisters.com/wp-content/uploads/2026/04/lazy-z-bees-and-brews-1.jpg
END:VEVENT
BEGIN:VEVENT
DTSTART;TZID=America/Los_Angeles:20270624T170000
DTEND;TZID=America/Los_Angeles:20270624T180000
DTSTAMP:20260422T142251
CREATED:20260416T040746Z
LAST-MODIFIED:20260416T040746Z
UID:10004777-1813856400-1813860000@exploresisters.com
SUMMARY:Bees & Brews (+MEAD)
DESCRIPTION:Join Lazy Z Ranch Wines for Bees & Brews (and Mead!)—a casual monthly meet-up for local beekeepers and those interested in bees to connect\, swap stories\, and talk shop. Grab a drink\, pull up a chair\, and enjoy an easy evening of beekeeping conversation at Lazy Z.
URL:https://exploresisters.com/event/bees-brews-mead/2027-06-24/
LOCATION:Lazy Z Ranch Wines Tasting Room\, 68540 E Hwy 20\, Sisters\, 97759\, United States
CATEGORIES:Food & Drink
ATTACH;FMTTYPE=image/jpeg:https://exploresisters.com/wp-content/uploads/2026/04/lazy-z-bees-and-brews-1.jpg
END:VEVENT
BEGIN:VEVENT
DTSTART;TZID=America/Los_Angeles:20270722T170000
DTEND;TZID=America/Los_Angeles:20270722T180000
DTSTAMP:20260422T142251
CREATED:20260416T040746Z
LAST-MODIFIED:20260416T040746Z
UID:10004778-1816275600-1816279200@exploresisters.com
SUMMARY:Bees & Brews (+MEAD)
DESCRIPTION:Join Lazy Z Ranch Wines for Bees & Brews (and Mead!)—a casual monthly meet-up for local beekeepers and those interested in bees to connect\, swap stories\, and talk shop. Grab a drink\, pull up a chair\, and enjoy an easy evening of beekeeping conversation at Lazy Z.
URL:https://exploresisters.com/event/bees-brews-mead/2027-07-22/
LOCATION:Lazy Z Ranch Wines Tasting Room\, 68540 E Hwy 20\, Sisters\, 97759\, United States
CATEGORIES:Food & Drink
ATTACH;FMTTYPE=image/jpeg:https://exploresisters.com/wp-content/uploads/2026/04/lazy-z-bees-and-brews-1.jpg
END:VEVENT
BEGIN:VEVENT
DTSTART;TZID=America/Los_Angeles:20270826T170000
DTEND;TZID=America/Los_Angeles:20270826T180000
DTSTAMP:20260422T142251
CREATED:20260416T040746Z
LAST-MODIFIED:20260416T040746Z
UID:10004779-1819299600-1819303200@exploresisters.com
SUMMARY:Bees & Brews (+MEAD)
DESCRIPTION:Join Lazy Z Ranch Wines for Bees & Brews (and Mead!)—a casual monthly meet-up for local beekeepers and those interested in bees to connect\, swap stories\, and talk shop. Grab a drink\, pull up a chair\, and enjoy an easy evening of beekeeping conversation at Lazy Z.
URL:https://exploresisters.com/event/bees-brews-mead/2027-08-26/
LOCATION:Lazy Z Ranch Wines Tasting Room\, 68540 E Hwy 20\, Sisters\, 97759\, United States
CATEGORIES:Food & Drink
ATTACH;FMTTYPE=image/jpeg:https://exploresisters.com/wp-content/uploads/2026/04/lazy-z-bees-and-brews-1.jpg
END:VEVENT
BEGIN:VEVENT
DTSTART;TZID=America/Los_Angeles:20270923T170000
DTEND;TZID=America/Los_Angeles:20270923T180000
DTSTAMP:20260422T142251
CREATED:20260416T040746Z
LAST-MODIFIED:20260416T040746Z
UID:10004780-1821718800-1821722400@exploresisters.com
SUMMARY:Bees & Brews (+MEAD)
DESCRIPTION:Join Lazy Z Ranch Wines for Bees & Brews (and Mead!)—a casual monthly meet-up for local beekeepers and those interested in bees to connect\, swap stories\, and talk shop. Grab a drink\, pull up a chair\, and enjoy an easy evening of beekeeping conversation at Lazy Z.
URL:https://exploresisters.com/event/bees-brews-mead/2027-09-23/
LOCATION:Lazy Z Ranch Wines Tasting Room\, 68540 E Hwy 20\, Sisters\, 97759\, United States
CATEGORIES:Food & Drink
ATTACH;FMTTYPE=image/jpeg:https://exploresisters.com/wp-content/uploads/2026/04/lazy-z-bees-and-brews-1.jpg
END:VEVENT
BEGIN:VEVENT
DTSTART;TZID=America/Los_Angeles:20271028T170000
DTEND;TZID=America/Los_Angeles:20271028T180000
DTSTAMP:20260422T142251
CREATED:20260416T040746Z
LAST-MODIFIED:20260416T040746Z
UID:10004781-1824742800-1824746400@exploresisters.com
SUMMARY:Bees & Brews (+MEAD)
DESCRIPTION:Join Lazy Z Ranch Wines for Bees & Brews (and Mead!)—a casual monthly meet-up for local beekeepers and those interested in bees to connect\, swap stories\, and talk shop. Grab a drink\, pull up a chair\, and enjoy an easy evening of beekeeping conversation at Lazy Z.
URL:https://exploresisters.com/event/bees-brews-mead/2027-10-28/
LOCATION:Lazy Z Ranch Wines Tasting Room\, 68540 E Hwy 20\, Sisters\, 97759\, United States
CATEGORIES:Food & Drink
ATTACH;FMTTYPE=image/jpeg:https://exploresisters.com/wp-content/uploads/2026/04/lazy-z-bees-and-brews-1.jpg
END:VEVENT
BEGIN:VEVENT
DTSTART;TZID=America/Los_Angeles:20271125T170000
DTEND;TZID=America/Los_Angeles:20271125T180000
DTSTAMP:20260422T142251
CREATED:20260416T040746Z
LAST-MODIFIED:20260416T040746Z
UID:10004782-1827162000-1827165600@exploresisters.com
SUMMARY:Bees & Brews (+MEAD)
DESCRIPTION:Join Lazy Z Ranch Wines for Bees & Brews (and Mead!)—a casual monthly meet-up for local beekeepers and those interested in bees to connect\, swap stories\, and talk shop. Grab a drink\, pull up a chair\, and enjoy an easy evening of beekeeping conversation at Lazy Z.
URL:https://exploresisters.com/event/bees-brews-mead/2027-11-25/
LOCATION:Lazy Z Ranch Wines Tasting Room\, 68540 E Hwy 20\, Sisters\, 97759\, United States
CATEGORIES:Food & Drink
ATTACH;FMTTYPE=image/jpeg:https://exploresisters.com/wp-content/uploads/2026/04/lazy-z-bees-and-brews-1.jpg
END:VEVENT
BEGIN:VEVENT
DTSTART;TZID=America/Los_Angeles:20271223T170000
DTEND;TZID=America/Los_Angeles:20271223T180000
DTSTAMP:20260422T142251
CREATED:20260416T040746Z
LAST-MODIFIED:20260416T040746Z
UID:10004783-1829581200-1829584800@exploresisters.com
SUMMARY:Bees & Brews (+MEAD)
DESCRIPTION:Join Lazy Z Ranch Wines for Bees & Brews (and Mead!)—a casual monthly meet-up for local beekeepers and those interested in bees to connect\, swap stories\, and talk shop. Grab a drink\, pull up a chair\, and enjoy an easy evening of beekeeping conversation at Lazy Z.
URL:https://exploresisters.com/event/bees-brews-mead/2027-12-23/
LOCATION:Lazy Z Ranch Wines Tasting Room\, 68540 E Hwy 20\, Sisters\, 97759\, United States
CATEGORIES:Food & Drink
ATTACH;FMTTYPE=image/jpeg:https://exploresisters.com/wp-content/uploads/2026/04/lazy-z-bees-and-brews-1.jpg
END:VEVENT
BEGIN:VEVENT
DTSTART;TZID=America/Los_Angeles:20280127T170000
DTEND;TZID=America/Los_Angeles:20280127T180000
DTSTAMP:20260422T142251
CREATED:20260416T040746Z
LAST-MODIFIED:20260416T040746Z
UID:10004784-1832605200-1832608800@exploresisters.com
SUMMARY:Bees & Brews (+MEAD)
DESCRIPTION:Join Lazy Z Ranch Wines for Bees & Brews (and Mead!)—a casual monthly meet-up for local beekeepers and those interested in bees to connect\, swap stories\, and talk shop. Grab a drink\, pull up a chair\, and enjoy an easy evening of beekeeping conversation at Lazy Z.
URL:https://exploresisters.com/event/bees-brews-mead/2028-01-27/
LOCATION:Lazy Z Ranch Wines Tasting Room\, 68540 E Hwy 20\, Sisters\, 97759\, United States
CATEGORIES:Food & Drink
ATTACH;FMTTYPE=image/jpeg:https://exploresisters.com/wp-content/uploads/2026/04/lazy-z-bees-and-brews-1.jpg
END:VEVENT
BEGIN:VEVENT
DTSTART;TZID=America/Los_Angeles:20280224T170000
DTEND;TZID=America/Los_Angeles:20280224T180000
DTSTAMP:20260422T142251
CREATED:20260416T040746Z
LAST-MODIFIED:20260416T040746Z
UID:10004785-1835024400-1835028000@exploresisters.com
SUMMARY:Bees & Brews (+MEAD)
DESCRIPTION:Join Lazy Z Ranch Wines for Bees & Brews (and Mead!)—a casual monthly meet-up for local beekeepers and those interested in bees to connect\, swap stories\, and talk shop. Grab a drink\, pull up a chair\, and enjoy an easy evening of beekeeping conversation at Lazy Z.
URL:https://exploresisters.com/event/bees-brews-mead/2028-02-24/
LOCATION:Lazy Z Ranch Wines Tasting Room\, 68540 E Hwy 20\, Sisters\, 97759\, United States
CATEGORIES:Food & Drink
ATTACH;FMTTYPE=image/jpeg:https://exploresisters.com/wp-content/uploads/2026/04/lazy-z-bees-and-brews-1.jpg
END:VEVENT
BEGIN:VEVENT
DTSTART;TZID=America/Los_Angeles:20280323T170000
DTEND;TZID=America/Los_Angeles:20280323T180000
DTSTAMP:20260422T142251
CREATED:20260416T040746Z
LAST-MODIFIED:20260416T040746Z
UID:10004786-1837443600-1837447200@exploresisters.com
SUMMARY:Bees & Brews (+MEAD)
DESCRIPTION:Join Lazy Z Ranch Wines for Bees & Brews (and Mead!)—a casual monthly meet-up for local beekeepers and those interested in bees to connect\, swap stories\, and talk shop. Grab a drink\, pull up a chair\, and enjoy an easy evening of beekeeping conversation at Lazy Z.
URL:https://exploresisters.com/event/bees-brews-mead/2028-03-23/
LOCATION:Lazy Z Ranch Wines Tasting Room\, 68540 E Hwy 20\, Sisters\, 97759\, United States
CATEGORIES:Food & Drink
ATTACH;FMTTYPE=image/jpeg:https://exploresisters.com/wp-content/uploads/2026/04/lazy-z-bees-and-brews-1.jpg
END:VEVENT
BEGIN:VEVENT
DTSTART;TZID=America/Los_Angeles:20280427T170000
DTEND;TZID=America/Los_Angeles:20280427T180000
DTSTAMP:20260422T142251
CREATED:20260416T040746Z
LAST-MODIFIED:20260416T040746Z
UID:10004787-1840467600-1840471200@exploresisters.com
SUMMARY:Bees & Brews (+MEAD)
DESCRIPTION:Join Lazy Z Ranch Wines for Bees & Brews (and Mead!)—a casual monthly meet-up for local beekeepers and those interested in bees to connect\, swap stories\, and talk shop. Grab a drink\, pull up a chair\, and enjoy an easy evening of beekeeping conversation at Lazy Z.
URL:https://exploresisters.com/event/bees-brews-mead/2028-04-27/
LOCATION:Lazy Z Ranch Wines Tasting Room\, 68540 E Hwy 20\, Sisters\, 97759\, United States
CATEGORIES:Food & Drink
ATTACH;FMTTYPE=image/jpeg:https://exploresisters.com/wp-content/uploads/2026/04/lazy-z-bees-and-brews-1.jpg
END:VEVENT
BEGIN:VEVENT
DTSTART;TZID=America/Los_Angeles:20280525T170000
DTEND;TZID=America/Los_Angeles:20280525T180000
DTSTAMP:20260422T142251
CREATED:20260416T040746Z
LAST-MODIFIED:20260416T040746Z
UID:10004788-1842886800-1842890400@exploresisters.com
SUMMARY:Bees & Brews (+MEAD)
DESCRIPTION:Join Lazy Z Ranch Wines for Bees & Brews (and Mead!)—a casual monthly meet-up for local beekeepers and those interested in bees to connect\, swap stories\, and talk shop. Grab a drink\, pull up a chair\, and enjoy an easy evening of beekeeping conversation at Lazy Z.
URL:https://exploresisters.com/event/bees-brews-mead/2028-05-25/
LOCATION:Lazy Z Ranch Wines Tasting Room\, 68540 E Hwy 20\, Sisters\, 97759\, United States
CATEGORIES:Food & Drink
ATTACH;FMTTYPE=image/jpeg:https://exploresisters.com/wp-content/uploads/2026/04/lazy-z-bees-and-brews-1.jpg
END:VEVENT
BEGIN:VEVENT
DTSTART;TZID=America/Los_Angeles:20280622T170000
DTEND;TZID=America/Los_Angeles:20280622T180000
DTSTAMP:20260422T142251
CREATED:20260416T040746Z
LAST-MODIFIED:20260416T040746Z
UID:10004789-1845306000-1845309600@exploresisters.com
SUMMARY:Bees & Brews (+MEAD)
DESCRIPTION:Join Lazy Z Ranch Wines for Bees & Brews (and Mead!)—a casual monthly meet-up for local beekeepers and those interested in bees to connect\, swap stories\, and talk shop. Grab a drink\, pull up a chair\, and enjoy an easy evening of beekeeping conversation at Lazy Z.
URL:https://exploresisters.com/event/bees-brews-mead/2028-06-22/
LOCATION:Lazy Z Ranch Wines Tasting Room\, 68540 E Hwy 20\, Sisters\, 97759\, United States
CATEGORIES:Food & Drink
ATTACH;FMTTYPE=image/jpeg:https://exploresisters.com/wp-content/uploads/2026/04/lazy-z-bees-and-brews-1.jpg
END:VEVENT
BEGIN:VEVENT
DTSTART;TZID=America/Los_Angeles:20280727T170000
DTEND;TZID=America/Los_Angeles:20280727T180000
DTSTAMP:20260422T142251
CREATED:20260416T040746Z
LAST-MODIFIED:20260416T040746Z
UID:10004790-1848330000-1848333600@exploresisters.com
SUMMARY:Bees & Brews (+MEAD)
DESCRIPTION:Join Lazy Z Ranch Wines for Bees & Brews (and Mead!)—a casual monthly meet-up for local beekeepers and those interested in bees to connect\, swap stories\, and talk shop. Grab a drink\, pull up a chair\, and enjoy an easy evening of beekeeping conversation at Lazy Z.
URL:https://exploresisters.com/event/bees-brews-mead/2028-07-27/
LOCATION:Lazy Z Ranch Wines Tasting Room\, 68540 E Hwy 20\, Sisters\, 97759\, United States
CATEGORIES:Food & Drink
ATTACH;FMTTYPE=image/jpeg:https://exploresisters.com/wp-content/uploads/2026/04/lazy-z-bees-and-brews-1.jpg
END:VEVENT
BEGIN:VEVENT
DTSTART;TZID=America/Los_Angeles:20280824T170000
DTEND;TZID=America/Los_Angeles:20280824T180000
DTSTAMP:20260422T142251
CREATED:20260416T040746Z
LAST-MODIFIED:20260416T040746Z
UID:10004791-1850749200-1850752800@exploresisters.com
SUMMARY:Bees & Brews (+MEAD)
DESCRIPTION:Join Lazy Z Ranch Wines for Bees & Brews (and Mead!)—a casual monthly meet-up for local beekeepers and those interested in bees to connect\, swap stories\, and talk shop. Grab a drink\, pull up a chair\, and enjoy an easy evening of beekeeping conversation at Lazy Z.
URL:https://exploresisters.com/event/bees-brews-mead/2028-08-24/
LOCATION:Lazy Z Ranch Wines Tasting Room\, 68540 E Hwy 20\, Sisters\, 97759\, United States
CATEGORIES:Food & Drink
ATTACH;FMTTYPE=image/jpeg:https://exploresisters.com/wp-content/uploads/2026/04/lazy-z-bees-and-brews-1.jpg
END:VEVENT
BEGIN:VEVENT
DTSTART;TZID=America/Los_Angeles:20280928T170000
DTEND;TZID=America/Los_Angeles:20280928T180000
DTSTAMP:20260422T142251
CREATED:20260416T040746Z
LAST-MODIFIED:20260416T040746Z
UID:10004792-1853773200-1853776800@exploresisters.com
SUMMARY:Bees & Brews (+MEAD)
DESCRIPTION:Join Lazy Z Ranch Wines for Bees & Brews (and Mead!)—a casual monthly meet-up for local beekeepers and those interested in bees to connect\, swap stories\, and talk shop. Grab a drink\, pull up a chair\, and enjoy an easy evening of beekeeping conversation at Lazy Z.
URL:https://exploresisters.com/event/bees-brews-mead/2028-09-28/
LOCATION:Lazy Z Ranch Wines Tasting Room\, 68540 E Hwy 20\, Sisters\, 97759\, United States
CATEGORIES:Food & Drink
ATTACH;FMTTYPE=image/jpeg:https://exploresisters.com/wp-content/uploads/2026/04/lazy-z-bees-and-brews-1.jpg
END:VEVENT
BEGIN:VEVENT
DTSTART;TZID=America/Los_Angeles:20281026T170000
DTEND;TZID=America/Los_Angeles:20281026T180000
DTSTAMP:20260422T142251
CREATED:20260416T040746Z
LAST-MODIFIED:20260416T040746Z
UID:10004793-1856192400-1856196000@exploresisters.com
SUMMARY:Bees & Brews (+MEAD)
DESCRIPTION:Join Lazy Z Ranch Wines for Bees & Brews (and Mead!)—a casual monthly meet-up for local beekeepers and those interested in bees to connect\, swap stories\, and talk shop. Grab a drink\, pull up a chair\, and enjoy an easy evening of beekeeping conversation at Lazy Z.
URL:https://exploresisters.com/event/bees-brews-mead/2028-10-26/
LOCATION:Lazy Z Ranch Wines Tasting Room\, 68540 E Hwy 20\, Sisters\, 97759\, United States
CATEGORIES:Food & Drink
ATTACH;FMTTYPE=image/jpeg:https://exploresisters.com/wp-content/uploads/2026/04/lazy-z-bees-and-brews-1.jpg
END:VEVENT
BEGIN:VEVENT
DTSTART;TZID=America/Los_Angeles:20281123T170000
DTEND;TZID=America/Los_Angeles:20281123T180000
DTSTAMP:20260422T142251
CREATED:20260416T040746Z
LAST-MODIFIED:20260416T040746Z
UID:10004794-1858611600-1858615200@exploresisters.com
SUMMARY:Bees & Brews (+MEAD)
DESCRIPTION:Join Lazy Z Ranch Wines for Bees & Brews (and Mead!)—a casual monthly meet-up for local beekeepers and those interested in bees to connect\, swap stories\, and talk shop. Grab a drink\, pull up a chair\, and enjoy an easy evening of beekeeping conversation at Lazy Z.
URL:https://exploresisters.com/event/bees-brews-mead/2028-11-23/
LOCATION:Lazy Z Ranch Wines Tasting Room\, 68540 E Hwy 20\, Sisters\, 97759\, United States
CATEGORIES:Food & Drink
ATTACH;FMTTYPE=image/jpeg:https://exploresisters.com/wp-content/uploads/2026/04/lazy-z-bees-and-brews-1.jpg
END:VEVENT
BEGIN:VEVENT
DTSTART;TZID=America/Los_Angeles:20281228T170000
DTEND;TZID=America/Los_Angeles:20281228T180000
DTSTAMP:20260422T142251
CREATED:20260416T040746Z
LAST-MODIFIED:20260416T040746Z
UID:10004795-1861635600-1861639200@exploresisters.com
SUMMARY:Bees & Brews (+MEAD)
DESCRIPTION:Join Lazy Z Ranch Wines for Bees & Brews (and Mead!)—a casual monthly meet-up for local beekeepers and those interested in bees to connect\, swap stories\, and talk shop. Grab a drink\, pull up a chair\, and enjoy an easy evening of beekeeping conversation at Lazy Z.
URL:https://exploresisters.com/event/bees-brews-mead/2028-12-28/
LOCATION:Lazy Z Ranch Wines Tasting Room\, 68540 E Hwy 20\, Sisters\, 97759\, United States
CATEGORIES:Food & Drink
ATTACH;FMTTYPE=image/jpeg:https://exploresisters.com/wp-content/uploads/2026/04/lazy-z-bees-and-brews-1.jpg
END:VEVENT
BEGIN:VEVENT
DTSTART;TZID=America/Los_Angeles:20290125T170000
DTEND;TZID=America/Los_Angeles:20290125T180000
DTSTAMP:20260422T142251
CREATED:20260416T040746Z
LAST-MODIFIED:20260416T040746Z
UID:10004796-1864054800-1864058400@exploresisters.com
SUMMARY:Bees & Brews (+MEAD)
DESCRIPTION:Join Lazy Z Ranch Wines for Bees & Brews (and Mead!)—a casual monthly meet-up for local beekeepers and those interested in bees to connect\, swap stories\, and talk shop. Grab a drink\, pull up a chair\, and enjoy an easy evening of beekeeping conversation at Lazy Z.
URL:https://exploresisters.com/event/bees-brews-mead/2029-01-25/
LOCATION:Lazy Z Ranch Wines Tasting Room\, 68540 E Hwy 20\, Sisters\, 97759\, United States
CATEGORIES:Food & Drink
ATTACH;FMTTYPE=image/jpeg:https://exploresisters.com/wp-content/uploads/2026/04/lazy-z-bees-and-brews-1.jpg
END:VEVENT
BEGIN:VEVENT
DTSTART;TZID=America/Los_Angeles:20290222T170000
DTEND;TZID=America/Los_Angeles:20290222T180000
DTSTAMP:20260422T142251
CREATED:20260416T040746Z
LAST-MODIFIED:20260416T040746Z
UID:10004797-1866474000-1866477600@exploresisters.com
SUMMARY:Bees & Brews (+MEAD)
DESCRIPTION:Join Lazy Z Ranch Wines for Bees & Brews (and Mead!)—a casual monthly meet-up for local beekeepers and those interested in bees to connect\, swap stories\, and talk shop. Grab a drink\, pull up a chair\, and enjoy an easy evening of beekeeping conversation at Lazy Z.
URL:https://exploresisters.com/event/bees-brews-mead/2029-02-22/
LOCATION:Lazy Z Ranch Wines Tasting Room\, 68540 E Hwy 20\, Sisters\, 97759\, United States
CATEGORIES:Food & Drink
ATTACH;FMTTYPE=image/jpeg:https://exploresisters.com/wp-content/uploads/2026/04/lazy-z-bees-and-brews-1.jpg
END:VEVENT
BEGIN:VEVENT
DTSTART;TZID=America/Los_Angeles:20290322T170000
DTEND;TZID=America/Los_Angeles:20290322T180000
DTSTAMP:20260422T142251
CREATED:20260416T040746Z
LAST-MODIFIED:20260416T040746Z
UID:10004798-1868893200-1868896800@exploresisters.com
SUMMARY:Bees & Brews (+MEAD)
DESCRIPTION:Join Lazy Z Ranch Wines for Bees & Brews (and Mead!)—a casual monthly meet-up for local beekeepers and those interested in bees to connect\, swap stories\, and talk shop. Grab a drink\, pull up a chair\, and enjoy an easy evening of beekeeping conversation at Lazy Z.
URL:https://exploresisters.com/event/bees-brews-mead/2029-03-22/
LOCATION:Lazy Z Ranch Wines Tasting Room\, 68540 E Hwy 20\, Sisters\, 97759\, United States
CATEGORIES:Food & Drink
ATTACH;FMTTYPE=image/jpeg:https://exploresisters.com/wp-content/uploads/2026/04/lazy-z-bees-and-brews-1.jpg
END:VEVENT
BEGIN:VEVENT
DTSTART;TZID=America/Los_Angeles:20290426T170000
DTEND;TZID=America/Los_Angeles:20290426T180000
DTSTAMP:20260422T142251
CREATED:20260416T040746Z
LAST-MODIFIED:20260416T040746Z
UID:10004799-1871917200-1871920800@exploresisters.com
SUMMARY:Bees & Brews (+MEAD)
DESCRIPTION:Join Lazy Z Ranch Wines for Bees & Brews (and Mead!)—a casual monthly meet-up for local beekeepers and those interested in bees to connect\, swap stories\, and talk shop. Grab a drink\, pull up a chair\, and enjoy an easy evening of beekeeping conversation at Lazy Z.
URL:https://exploresisters.com/event/bees-brews-mead/2029-04-26/
LOCATION:Lazy Z Ranch Wines Tasting Room\, 68540 E Hwy 20\, Sisters\, 97759\, United States
CATEGORIES:Food & Drink
ATTACH;FMTTYPE=image/jpeg:https://exploresisters.com/wp-content/uploads/2026/04/lazy-z-bees-and-brews-1.jpg
END:VEVENT
BEGIN:VEVENT
DTSTART;TZID=America/Los_Angeles:20290524T170000
DTEND;TZID=America/Los_Angeles:20290524T180000
DTSTAMP:20260422T142252
CREATED:20260416T040746Z
LAST-MODIFIED:20260416T040746Z
UID:10004800-1874336400-1874340000@exploresisters.com
SUMMARY:Bees & Brews (+MEAD)
DESCRIPTION:Join Lazy Z Ranch Wines for Bees & Brews (and Mead!)—a casual monthly meet-up for local beekeepers and those interested in bees to connect\, swap stories\, and talk shop. Grab a drink\, pull up a chair\, and enjoy an easy evening of beekeeping conversation at Lazy Z.
URL:https://exploresisters.com/event/bees-brews-mead/2029-05-24/
LOCATION:Lazy Z Ranch Wines Tasting Room\, 68540 E Hwy 20\, Sisters\, 97759\, United States
CATEGORIES:Food & Drink
ATTACH;FMTTYPE=image/jpeg:https://exploresisters.com/wp-content/uploads/2026/04/lazy-z-bees-and-brews-1.jpg
END:VEVENT
BEGIN:VEVENT
DTSTART;TZID=America/Los_Angeles:20290628T170000
DTEND;TZID=America/Los_Angeles:20290628T180000
DTSTAMP:20260422T142252
CREATED:20260416T040746Z
LAST-MODIFIED:20260416T040746Z
UID:10004801-1877360400-1877364000@exploresisters.com
SUMMARY:Bees & Brews (+MEAD)
DESCRIPTION:Join Lazy Z Ranch Wines for Bees & Brews (and Mead!)—a casual monthly meet-up for local beekeepers and those interested in bees to connect\, swap stories\, and talk shop. Grab a drink\, pull up a chair\, and enjoy an easy evening of beekeeping conversation at Lazy Z.
URL:https://exploresisters.com/event/bees-brews-mead/2029-06-28/
LOCATION:Lazy Z Ranch Wines Tasting Room\, 68540 E Hwy 20\, Sisters\, 97759\, United States
CATEGORIES:Food & Drink
ATTACH;FMTTYPE=image/jpeg:https://exploresisters.com/wp-content/uploads/2026/04/lazy-z-bees-and-brews-1.jpg
END:VEVENT
END:VCALENDAR