BEGIN:VCALENDAR
VERSION:2.0
PRODID:-//Sisters Oregon - ECPv6.15.20//NONSGML v1.0//EN
CALSCALE:GREGORIAN
METHOD:PUBLISH
X-ORIGINAL-URL:https://exploresisters.com
X-WR-CALDESC:Events for Sisters Oregon
REFRESH-INTERVAL;VALUE=DURATION:PT1H
X-Robots-Tag:noindex
X-PUBLISHED-TTL:PT1H
BEGIN:VTIMEZONE
TZID:America/Los_Angeles
BEGIN:DAYLIGHT
TZOFFSETFROM:-0800
TZOFFSETTO:-0700
TZNAME:PDT
DTSTART:20250309T100000
END:DAYLIGHT
BEGIN:STANDARD
TZOFFSETFROM:-0700
TZOFFSETTO:-0800
TZNAME:PST
DTSTART:20251102T090000
END:STANDARD
BEGIN:DAYLIGHT
TZOFFSETFROM:-0800
TZOFFSETTO:-0700
TZNAME:PDT
DTSTART:20260308T100000
END:DAYLIGHT
BEGIN:STANDARD
TZOFFSETFROM:-0700
TZOFFSETTO:-0800
TZNAME:PST
DTSTART:20261101T090000
END:STANDARD
BEGIN:DAYLIGHT
TZOFFSETFROM:-0800
TZOFFSETTO:-0700
TZNAME:PDT
DTSTART:20270314T100000
END:DAYLIGHT
BEGIN:STANDARD
TZOFFSETFROM:-0700
TZOFFSETTO:-0800
TZNAME:PST
DTSTART:20271107T090000
END:STANDARD
BEGIN:DAYLIGHT
TZOFFSETFROM:-0800
TZOFFSETTO:-0700
TZNAME:PDT
DTSTART:20280312T100000
END:DAYLIGHT
BEGIN:STANDARD
TZOFFSETFROM:-0700
TZOFFSETTO:-0800
TZNAME:PST
DTSTART:20281105T090000
END:STANDARD
END:VTIMEZONE
BEGIN:VEVENT
DTSTART;TZID=America/Los_Angeles:20260826T180000
DTEND;TZID=America/Los_Angeles:20260826T200000
DTSTAMP:20260422T082814
CREATED:20260403T014140Z
LAST-MODIFIED:20260403T014140Z
UID:10004379-1787767200-1787774400@exploresisters.com
SUMMARY:Handpicked Series by Tom Nechville & Linda Leavitt
DESCRIPTION:An intimate music series featuring handpicked performers by Tom Nechville & Linda Leavitt. A $10 suggested donation will be collected at the event\, with proceeds supporting CoreSisters.org or the Latin Community Association.
URL:https://exploresisters.com/event/handpicked-series-by-tom-nechville-linda-leavitt/2026-08-26/
LOCATION:Frankie’s\, 250 W Cascade Ave\, Sisters\, 97759\, United States
CATEGORIES:Music
ATTACH;FMTTYPE=image/jpeg:https://exploresisters.com/wp-content/uploads/2026/04/Frankies-Handpicked-Series-by-Tom-Nechville-Linda-Leavitt.jpg
END:VEVENT
BEGIN:VEVENT
DTSTART;TZID=America/Los_Angeles:20260902T180000
DTEND;TZID=America/Los_Angeles:20260902T200000
DTSTAMP:20260422T082814
CREATED:20260403T014140Z
LAST-MODIFIED:20260403T014140Z
UID:10004380-1788372000-1788379200@exploresisters.com
SUMMARY:Handpicked Series by Tom Nechville & Linda Leavitt
DESCRIPTION:An intimate music series featuring handpicked performers by Tom Nechville & Linda Leavitt. A $10 suggested donation will be collected at the event\, with proceeds supporting CoreSisters.org or the Latin Community Association.
URL:https://exploresisters.com/event/handpicked-series-by-tom-nechville-linda-leavitt/2026-09-02/
LOCATION:Frankie’s\, 250 W Cascade Ave\, Sisters\, 97759\, United States
CATEGORIES:Music
ATTACH;FMTTYPE=image/jpeg:https://exploresisters.com/wp-content/uploads/2026/04/Frankies-Handpicked-Series-by-Tom-Nechville-Linda-Leavitt.jpg
END:VEVENT
BEGIN:VEVENT
DTSTART;TZID=America/Los_Angeles:20260909T180000
DTEND;TZID=America/Los_Angeles:20260909T200000
DTSTAMP:20260422T082814
CREATED:20260403T014140Z
LAST-MODIFIED:20260403T014140Z
UID:10004381-1788976800-1788984000@exploresisters.com
SUMMARY:Handpicked Series by Tom Nechville & Linda Leavitt
DESCRIPTION:An intimate music series featuring handpicked performers by Tom Nechville & Linda Leavitt. A $10 suggested donation will be collected at the event\, with proceeds supporting CoreSisters.org or the Latin Community Association.
URL:https://exploresisters.com/event/handpicked-series-by-tom-nechville-linda-leavitt/2026-09-09/
LOCATION:Frankie’s\, 250 W Cascade Ave\, Sisters\, 97759\, United States
CATEGORIES:Music
ATTACH;FMTTYPE=image/jpeg:https://exploresisters.com/wp-content/uploads/2026/04/Frankies-Handpicked-Series-by-Tom-Nechville-Linda-Leavitt.jpg
END:VEVENT
BEGIN:VEVENT
DTSTART;TZID=America/Los_Angeles:20260916T180000
DTEND;TZID=America/Los_Angeles:20260916T200000
DTSTAMP:20260422T082814
CREATED:20260403T014140Z
LAST-MODIFIED:20260403T014140Z
UID:10004382-1789581600-1789588800@exploresisters.com
SUMMARY:Handpicked Series by Tom Nechville & Linda Leavitt
DESCRIPTION:An intimate music series featuring handpicked performers by Tom Nechville & Linda Leavitt. A $10 suggested donation will be collected at the event\, with proceeds supporting CoreSisters.org or the Latin Community Association.
URL:https://exploresisters.com/event/handpicked-series-by-tom-nechville-linda-leavitt/2026-09-16/
LOCATION:Frankie’s\, 250 W Cascade Ave\, Sisters\, 97759\, United States
CATEGORIES:Music
ATTACH;FMTTYPE=image/jpeg:https://exploresisters.com/wp-content/uploads/2026/04/Frankies-Handpicked-Series-by-Tom-Nechville-Linda-Leavitt.jpg
END:VEVENT
BEGIN:VEVENT
DTSTART;TZID=America/Los_Angeles:20260919T190000
DTEND;TZID=America/Los_Angeles:20260919T210000
DTSTAMP:20260422T082814
CREATED:20260220T013708Z
LAST-MODIFIED:20260220T013708Z
UID:10004007-1789844400-1789851600@exploresisters.com
SUMMARY:Open Mic Night @ Frankie's
DESCRIPTION:Frankie’s monthly Open Mic gives Sisters Country musicians a place to hear each other\, cross-pollinate\, and build musical community. For music lovers\, it’s a chance to see a variety of local talent\, in a lively atmosphere. Food and shareables available.
URL:https://exploresisters.com/event/open-mic-night-frankies/2026-09-19/
LOCATION:Frankie’s\, 250 W Cascade Ave\, Sisters\, 97759\, United States
CATEGORIES:Music
ATTACH;FMTTYPE=image/jpeg:https://exploresisters.com/wp-content/uploads/2025/10/just-duets-1.jpg
END:VEVENT
BEGIN:VEVENT
DTSTART;TZID=America/Los_Angeles:20260923T180000
DTEND;TZID=America/Los_Angeles:20260923T200000
DTSTAMP:20260422T082814
CREATED:20260403T014140Z
LAST-MODIFIED:20260403T014140Z
UID:10004383-1790186400-1790193600@exploresisters.com
SUMMARY:Handpicked Series by Tom Nechville & Linda Leavitt
DESCRIPTION:An intimate music series featuring handpicked performers by Tom Nechville & Linda Leavitt. A $10 suggested donation will be collected at the event\, with proceeds supporting CoreSisters.org or the Latin Community Association.
URL:https://exploresisters.com/event/handpicked-series-by-tom-nechville-linda-leavitt/2026-09-23/
LOCATION:Frankie’s\, 250 W Cascade Ave\, Sisters\, 97759\, United States
CATEGORIES:Music
ATTACH;FMTTYPE=image/jpeg:https://exploresisters.com/wp-content/uploads/2026/04/Frankies-Handpicked-Series-by-Tom-Nechville-Linda-Leavitt.jpg
END:VEVENT
BEGIN:VEVENT
DTSTART;TZID=America/Los_Angeles:20260930T180000
DTEND;TZID=America/Los_Angeles:20260930T200000
DTSTAMP:20260422T082814
CREATED:20260403T014140Z
LAST-MODIFIED:20260403T014140Z
UID:10004384-1790791200-1790798400@exploresisters.com
SUMMARY:Handpicked Series by Tom Nechville & Linda Leavitt
DESCRIPTION:An intimate music series featuring handpicked performers by Tom Nechville & Linda Leavitt. A $10 suggested donation will be collected at the event\, with proceeds supporting CoreSisters.org or the Latin Community Association.
URL:https://exploresisters.com/event/handpicked-series-by-tom-nechville-linda-leavitt/2026-09-30/
LOCATION:Frankie’s\, 250 W Cascade Ave\, Sisters\, 97759\, United States
CATEGORIES:Music
ATTACH;FMTTYPE=image/jpeg:https://exploresisters.com/wp-content/uploads/2026/04/Frankies-Handpicked-Series-by-Tom-Nechville-Linda-Leavitt.jpg
END:VEVENT
BEGIN:VEVENT
DTSTART;TZID=America/Los_Angeles:20261007T180000
DTEND;TZID=America/Los_Angeles:20261007T200000
DTSTAMP:20260422T082814
CREATED:20260403T014140Z
LAST-MODIFIED:20260403T014140Z
UID:10004385-1791396000-1791403200@exploresisters.com
SUMMARY:Handpicked Series by Tom Nechville & Linda Leavitt
DESCRIPTION:An intimate music series featuring handpicked performers by Tom Nechville & Linda Leavitt. A $10 suggested donation will be collected at the event\, with proceeds supporting CoreSisters.org or the Latin Community Association.
URL:https://exploresisters.com/event/handpicked-series-by-tom-nechville-linda-leavitt/2026-10-07/
LOCATION:Frankie’s\, 250 W Cascade Ave\, Sisters\, 97759\, United States
CATEGORIES:Music
ATTACH;FMTTYPE=image/jpeg:https://exploresisters.com/wp-content/uploads/2026/04/Frankies-Handpicked-Series-by-Tom-Nechville-Linda-Leavitt.jpg
END:VEVENT
BEGIN:VEVENT
DTSTART;TZID=America/Los_Angeles:20261014T180000
DTEND;TZID=America/Los_Angeles:20261014T200000
DTSTAMP:20260422T082814
CREATED:20260403T014140Z
LAST-MODIFIED:20260403T014140Z
UID:10004386-1792000800-1792008000@exploresisters.com
SUMMARY:Handpicked Series by Tom Nechville & Linda Leavitt
DESCRIPTION:An intimate music series featuring handpicked performers by Tom Nechville & Linda Leavitt. A $10 suggested donation will be collected at the event\, with proceeds supporting CoreSisters.org or the Latin Community Association.
URL:https://exploresisters.com/event/handpicked-series-by-tom-nechville-linda-leavitt/2026-10-14/
LOCATION:Frankie’s\, 250 W Cascade Ave\, Sisters\, 97759\, United States
CATEGORIES:Music
ATTACH;FMTTYPE=image/jpeg:https://exploresisters.com/wp-content/uploads/2026/04/Frankies-Handpicked-Series-by-Tom-Nechville-Linda-Leavitt.jpg
END:VEVENT
BEGIN:VEVENT
DTSTART;TZID=America/Los_Angeles:20261017T190000
DTEND;TZID=America/Los_Angeles:20261017T210000
DTSTAMP:20260422T082814
CREATED:20260220T013708Z
LAST-MODIFIED:20260220T013708Z
UID:10004008-1792263600-1792270800@exploresisters.com
SUMMARY:Open Mic Night @ Frankie's
DESCRIPTION:Frankie’s monthly Open Mic gives Sisters Country musicians a place to hear each other\, cross-pollinate\, and build musical community. For music lovers\, it’s a chance to see a variety of local talent\, in a lively atmosphere. Food and shareables available.
URL:https://exploresisters.com/event/open-mic-night-frankies/2026-10-17/
LOCATION:Frankie’s\, 250 W Cascade Ave\, Sisters\, 97759\, United States
CATEGORIES:Music
ATTACH;FMTTYPE=image/jpeg:https://exploresisters.com/wp-content/uploads/2025/10/just-duets-1.jpg
END:VEVENT
BEGIN:VEVENT
DTSTART;TZID=America/Los_Angeles:20261021T180000
DTEND;TZID=America/Los_Angeles:20261021T200000
DTSTAMP:20260422T082814
CREATED:20260403T014140Z
LAST-MODIFIED:20260403T014140Z
UID:10004387-1792605600-1792612800@exploresisters.com
SUMMARY:Handpicked Series by Tom Nechville & Linda Leavitt
DESCRIPTION:An intimate music series featuring handpicked performers by Tom Nechville & Linda Leavitt. A $10 suggested donation will be collected at the event\, with proceeds supporting CoreSisters.org or the Latin Community Association.
URL:https://exploresisters.com/event/handpicked-series-by-tom-nechville-linda-leavitt/2026-10-21/
LOCATION:Frankie’s\, 250 W Cascade Ave\, Sisters\, 97759\, United States
CATEGORIES:Music
ATTACH;FMTTYPE=image/jpeg:https://exploresisters.com/wp-content/uploads/2026/04/Frankies-Handpicked-Series-by-Tom-Nechville-Linda-Leavitt.jpg
END:VEVENT
BEGIN:VEVENT
DTSTART;TZID=America/Los_Angeles:20261028T180000
DTEND;TZID=America/Los_Angeles:20261028T200000
DTSTAMP:20260422T082814
CREATED:20260403T014140Z
LAST-MODIFIED:20260403T014140Z
UID:10004388-1793210400-1793217600@exploresisters.com
SUMMARY:Handpicked Series by Tom Nechville & Linda Leavitt
DESCRIPTION:An intimate music series featuring handpicked performers by Tom Nechville & Linda Leavitt. A $10 suggested donation will be collected at the event\, with proceeds supporting CoreSisters.org or the Latin Community Association.
URL:https://exploresisters.com/event/handpicked-series-by-tom-nechville-linda-leavitt/2026-10-28/
LOCATION:Frankie’s\, 250 W Cascade Ave\, Sisters\, 97759\, United States
CATEGORIES:Music
ATTACH;FMTTYPE=image/jpeg:https://exploresisters.com/wp-content/uploads/2026/04/Frankies-Handpicked-Series-by-Tom-Nechville-Linda-Leavitt.jpg
END:VEVENT
BEGIN:VEVENT
DTSTART;TZID=America/Los_Angeles:20261104T180000
DTEND;TZID=America/Los_Angeles:20261104T200000
DTSTAMP:20260422T082814
CREATED:20260403T014140Z
LAST-MODIFIED:20260403T014140Z
UID:10004389-1793815200-1793822400@exploresisters.com
SUMMARY:Handpicked Series by Tom Nechville & Linda Leavitt
DESCRIPTION:An intimate music series featuring handpicked performers by Tom Nechville & Linda Leavitt. A $10 suggested donation will be collected at the event\, with proceeds supporting CoreSisters.org or the Latin Community Association.
URL:https://exploresisters.com/event/handpicked-series-by-tom-nechville-linda-leavitt/2026-11-04/
LOCATION:Frankie’s\, 250 W Cascade Ave\, Sisters\, 97759\, United States
CATEGORIES:Music
ATTACH;FMTTYPE=image/jpeg:https://exploresisters.com/wp-content/uploads/2026/04/Frankies-Handpicked-Series-by-Tom-Nechville-Linda-Leavitt.jpg
END:VEVENT
BEGIN:VEVENT
DTSTART;TZID=America/Los_Angeles:20261111T180000
DTEND;TZID=America/Los_Angeles:20261111T200000
DTSTAMP:20260422T082814
CREATED:20260403T014140Z
LAST-MODIFIED:20260403T014140Z
UID:10004390-1794420000-1794427200@exploresisters.com
SUMMARY:Handpicked Series by Tom Nechville & Linda Leavitt
DESCRIPTION:An intimate music series featuring handpicked performers by Tom Nechville & Linda Leavitt. A $10 suggested donation will be collected at the event\, with proceeds supporting CoreSisters.org or the Latin Community Association.
URL:https://exploresisters.com/event/handpicked-series-by-tom-nechville-linda-leavitt/2026-11-11/
LOCATION:Frankie’s\, 250 W Cascade Ave\, Sisters\, 97759\, United States
CATEGORIES:Music
ATTACH;FMTTYPE=image/jpeg:https://exploresisters.com/wp-content/uploads/2026/04/Frankies-Handpicked-Series-by-Tom-Nechville-Linda-Leavitt.jpg
END:VEVENT
BEGIN:VEVENT
DTSTART;TZID=America/Los_Angeles:20261118T180000
DTEND;TZID=America/Los_Angeles:20261118T200000
DTSTAMP:20260422T082814
CREATED:20260403T014140Z
LAST-MODIFIED:20260403T014140Z
UID:10004391-1795024800-1795032000@exploresisters.com
SUMMARY:Handpicked Series by Tom Nechville & Linda Leavitt
DESCRIPTION:An intimate music series featuring handpicked performers by Tom Nechville & Linda Leavitt. A $10 suggested donation will be collected at the event\, with proceeds supporting CoreSisters.org or the Latin Community Association.
URL:https://exploresisters.com/event/handpicked-series-by-tom-nechville-linda-leavitt/2026-11-18/
LOCATION:Frankie’s\, 250 W Cascade Ave\, Sisters\, 97759\, United States
CATEGORIES:Music
ATTACH;FMTTYPE=image/jpeg:https://exploresisters.com/wp-content/uploads/2026/04/Frankies-Handpicked-Series-by-Tom-Nechville-Linda-Leavitt.jpg
END:VEVENT
BEGIN:VEVENT
DTSTART;TZID=America/Los_Angeles:20261121T190000
DTEND;TZID=America/Los_Angeles:20261121T210000
DTSTAMP:20260422T082814
CREATED:20260220T013708Z
LAST-MODIFIED:20260220T013708Z
UID:10004009-1795287600-1795294800@exploresisters.com
SUMMARY:Open Mic Night @ Frankie's
DESCRIPTION:Frankie’s monthly Open Mic gives Sisters Country musicians a place to hear each other\, cross-pollinate\, and build musical community. For music lovers\, it’s a chance to see a variety of local talent\, in a lively atmosphere. Food and shareables available.
URL:https://exploresisters.com/event/open-mic-night-frankies/2026-11-21/
LOCATION:Frankie’s\, 250 W Cascade Ave\, Sisters\, 97759\, United States
CATEGORIES:Music
ATTACH;FMTTYPE=image/jpeg:https://exploresisters.com/wp-content/uploads/2025/10/just-duets-1.jpg
END:VEVENT
BEGIN:VEVENT
DTSTART;TZID=America/Los_Angeles:20261125T180000
DTEND;TZID=America/Los_Angeles:20261125T200000
DTSTAMP:20260422T082814
CREATED:20260403T014140Z
LAST-MODIFIED:20260403T014140Z
UID:10004392-1795629600-1795636800@exploresisters.com
SUMMARY:Handpicked Series by Tom Nechville & Linda Leavitt
DESCRIPTION:An intimate music series featuring handpicked performers by Tom Nechville & Linda Leavitt. A $10 suggested donation will be collected at the event\, with proceeds supporting CoreSisters.org or the Latin Community Association.
URL:https://exploresisters.com/event/handpicked-series-by-tom-nechville-linda-leavitt/2026-11-25/
LOCATION:Frankie’s\, 250 W Cascade Ave\, Sisters\, 97759\, United States
CATEGORIES:Music
ATTACH;FMTTYPE=image/jpeg:https://exploresisters.com/wp-content/uploads/2026/04/Frankies-Handpicked-Series-by-Tom-Nechville-Linda-Leavitt.jpg
END:VEVENT
BEGIN:VEVENT
DTSTART;TZID=America/Los_Angeles:20261202T180000
DTEND;TZID=America/Los_Angeles:20261202T200000
DTSTAMP:20260422T082814
CREATED:20260403T014140Z
LAST-MODIFIED:20260403T014140Z
UID:10004393-1796234400-1796241600@exploresisters.com
SUMMARY:Handpicked Series by Tom Nechville & Linda Leavitt
DESCRIPTION:An intimate music series featuring handpicked performers by Tom Nechville & Linda Leavitt. A $10 suggested donation will be collected at the event\, with proceeds supporting CoreSisters.org or the Latin Community Association.
URL:https://exploresisters.com/event/handpicked-series-by-tom-nechville-linda-leavitt/2026-12-02/
LOCATION:Frankie’s\, 250 W Cascade Ave\, Sisters\, 97759\, United States
CATEGORIES:Music
ATTACH;FMTTYPE=image/jpeg:https://exploresisters.com/wp-content/uploads/2026/04/Frankies-Handpicked-Series-by-Tom-Nechville-Linda-Leavitt.jpg
END:VEVENT
BEGIN:VEVENT
DTSTART;TZID=America/Los_Angeles:20261209T180000
DTEND;TZID=America/Los_Angeles:20261209T200000
DTSTAMP:20260422T082814
CREATED:20260403T014140Z
LAST-MODIFIED:20260403T014140Z
UID:10004394-1796839200-1796846400@exploresisters.com
SUMMARY:Handpicked Series by Tom Nechville & Linda Leavitt
DESCRIPTION:An intimate music series featuring handpicked performers by Tom Nechville & Linda Leavitt. A $10 suggested donation will be collected at the event\, with proceeds supporting CoreSisters.org or the Latin Community Association.
URL:https://exploresisters.com/event/handpicked-series-by-tom-nechville-linda-leavitt/2026-12-09/
LOCATION:Frankie’s\, 250 W Cascade Ave\, Sisters\, 97759\, United States
CATEGORIES:Music
ATTACH;FMTTYPE=image/jpeg:https://exploresisters.com/wp-content/uploads/2026/04/Frankies-Handpicked-Series-by-Tom-Nechville-Linda-Leavitt.jpg
END:VEVENT
BEGIN:VEVENT
DTSTART;TZID=America/Los_Angeles:20261216T180000
DTEND;TZID=America/Los_Angeles:20261216T200000
DTSTAMP:20260422T082814
CREATED:20260403T014140Z
LAST-MODIFIED:20260403T014140Z
UID:10004395-1797444000-1797451200@exploresisters.com
SUMMARY:Handpicked Series by Tom Nechville & Linda Leavitt
DESCRIPTION:An intimate music series featuring handpicked performers by Tom Nechville & Linda Leavitt. A $10 suggested donation will be collected at the event\, with proceeds supporting CoreSisters.org or the Latin Community Association.
URL:https://exploresisters.com/event/handpicked-series-by-tom-nechville-linda-leavitt/2026-12-16/
LOCATION:Frankie’s\, 250 W Cascade Ave\, Sisters\, 97759\, United States
CATEGORIES:Music
ATTACH;FMTTYPE=image/jpeg:https://exploresisters.com/wp-content/uploads/2026/04/Frankies-Handpicked-Series-by-Tom-Nechville-Linda-Leavitt.jpg
END:VEVENT
BEGIN:VEVENT
DTSTART;TZID=America/Los_Angeles:20261219T190000
DTEND;TZID=America/Los_Angeles:20261219T210000
DTSTAMP:20260422T082814
CREATED:20260220T013708Z
LAST-MODIFIED:20260220T013708Z
UID:10004010-1797706800-1797714000@exploresisters.com
SUMMARY:Open Mic Night @ Frankie's
DESCRIPTION:Frankie’s monthly Open Mic gives Sisters Country musicians a place to hear each other\, cross-pollinate\, and build musical community. For music lovers\, it’s a chance to see a variety of local talent\, in a lively atmosphere. Food and shareables available.
URL:https://exploresisters.com/event/open-mic-night-frankies/2026-12-19/
LOCATION:Frankie’s\, 250 W Cascade Ave\, Sisters\, 97759\, United States
CATEGORIES:Music
ATTACH;FMTTYPE=image/jpeg:https://exploresisters.com/wp-content/uploads/2025/10/just-duets-1.jpg
END:VEVENT
BEGIN:VEVENT
DTSTART;TZID=America/Los_Angeles:20261223T180000
DTEND;TZID=America/Los_Angeles:20261223T200000
DTSTAMP:20260422T082814
CREATED:20260403T014140Z
LAST-MODIFIED:20260403T014140Z
UID:10004396-1798048800-1798056000@exploresisters.com
SUMMARY:Handpicked Series by Tom Nechville & Linda Leavitt
DESCRIPTION:An intimate music series featuring handpicked performers by Tom Nechville & Linda Leavitt. A $10 suggested donation will be collected at the event\, with proceeds supporting CoreSisters.org or the Latin Community Association.
URL:https://exploresisters.com/event/handpicked-series-by-tom-nechville-linda-leavitt/2026-12-23/
LOCATION:Frankie’s\, 250 W Cascade Ave\, Sisters\, 97759\, United States
CATEGORIES:Music
ATTACH;FMTTYPE=image/jpeg:https://exploresisters.com/wp-content/uploads/2026/04/Frankies-Handpicked-Series-by-Tom-Nechville-Linda-Leavitt.jpg
END:VEVENT
BEGIN:VEVENT
DTSTART;TZID=America/Los_Angeles:20261230T180000
DTEND;TZID=America/Los_Angeles:20261230T200000
DTSTAMP:20260422T082814
CREATED:20260403T014140Z
LAST-MODIFIED:20260403T014140Z
UID:10004397-1798653600-1798660800@exploresisters.com
SUMMARY:Handpicked Series by Tom Nechville & Linda Leavitt
DESCRIPTION:An intimate music series featuring handpicked performers by Tom Nechville & Linda Leavitt. A $10 suggested donation will be collected at the event\, with proceeds supporting CoreSisters.org or the Latin Community Association.
URL:https://exploresisters.com/event/handpicked-series-by-tom-nechville-linda-leavitt/2026-12-30/
LOCATION:Frankie’s\, 250 W Cascade Ave\, Sisters\, 97759\, United States
CATEGORIES:Music
ATTACH;FMTTYPE=image/jpeg:https://exploresisters.com/wp-content/uploads/2026/04/Frankies-Handpicked-Series-by-Tom-Nechville-Linda-Leavitt.jpg
END:VEVENT
BEGIN:VEVENT
DTSTART;TZID=America/Los_Angeles:20270106T180000
DTEND;TZID=America/Los_Angeles:20270106T200000
DTSTAMP:20260422T082814
CREATED:20260403T014140Z
LAST-MODIFIED:20260403T014140Z
UID:10004398-1799258400-1799265600@exploresisters.com
SUMMARY:Handpicked Series by Tom Nechville & Linda Leavitt
DESCRIPTION:An intimate music series featuring handpicked performers by Tom Nechville & Linda Leavitt. A $10 suggested donation will be collected at the event\, with proceeds supporting CoreSisters.org or the Latin Community Association.
URL:https://exploresisters.com/event/handpicked-series-by-tom-nechville-linda-leavitt/2027-01-06/
LOCATION:Frankie’s\, 250 W Cascade Ave\, Sisters\, 97759\, United States
CATEGORIES:Music
ATTACH;FMTTYPE=image/jpeg:https://exploresisters.com/wp-content/uploads/2026/04/Frankies-Handpicked-Series-by-Tom-Nechville-Linda-Leavitt.jpg
END:VEVENT
BEGIN:VEVENT
DTSTART;TZID=America/Los_Angeles:20270113T180000
DTEND;TZID=America/Los_Angeles:20270113T200000
DTSTAMP:20260422T082814
CREATED:20260403T014140Z
LAST-MODIFIED:20260403T014140Z
UID:10004399-1799863200-1799870400@exploresisters.com
SUMMARY:Handpicked Series by Tom Nechville & Linda Leavitt
DESCRIPTION:An intimate music series featuring handpicked performers by Tom Nechville & Linda Leavitt. A $10 suggested donation will be collected at the event\, with proceeds supporting CoreSisters.org or the Latin Community Association.
URL:https://exploresisters.com/event/handpicked-series-by-tom-nechville-linda-leavitt/2027-01-13/
LOCATION:Frankie’s\, 250 W Cascade Ave\, Sisters\, 97759\, United States
CATEGORIES:Music
ATTACH;FMTTYPE=image/jpeg:https://exploresisters.com/wp-content/uploads/2026/04/Frankies-Handpicked-Series-by-Tom-Nechville-Linda-Leavitt.jpg
END:VEVENT
BEGIN:VEVENT
DTSTART;TZID=America/Los_Angeles:20270116T190000
DTEND;TZID=America/Los_Angeles:20270116T210000
DTSTAMP:20260422T082814
CREATED:20260220T013708Z
LAST-MODIFIED:20260220T013708Z
UID:10004011-1800126000-1800133200@exploresisters.com
SUMMARY:Open Mic Night @ Frankie's
DESCRIPTION:Frankie’s monthly Open Mic gives Sisters Country musicians a place to hear each other\, cross-pollinate\, and build musical community. For music lovers\, it’s a chance to see a variety of local talent\, in a lively atmosphere. Food and shareables available.
URL:https://exploresisters.com/event/open-mic-night-frankies/2027-01-16/
LOCATION:Frankie’s\, 250 W Cascade Ave\, Sisters\, 97759\, United States
CATEGORIES:Music
ATTACH;FMTTYPE=image/jpeg:https://exploresisters.com/wp-content/uploads/2025/10/just-duets-1.jpg
END:VEVENT
BEGIN:VEVENT
DTSTART;TZID=America/Los_Angeles:20270120T180000
DTEND;TZID=America/Los_Angeles:20270120T200000
DTSTAMP:20260422T082814
CREATED:20260403T014140Z
LAST-MODIFIED:20260403T014140Z
UID:10004400-1800468000-1800475200@exploresisters.com
SUMMARY:Handpicked Series by Tom Nechville & Linda Leavitt
DESCRIPTION:An intimate music series featuring handpicked performers by Tom Nechville & Linda Leavitt. A $10 suggested donation will be collected at the event\, with proceeds supporting CoreSisters.org or the Latin Community Association.
URL:https://exploresisters.com/event/handpicked-series-by-tom-nechville-linda-leavitt/2027-01-20/
LOCATION:Frankie’s\, 250 W Cascade Ave\, Sisters\, 97759\, United States
CATEGORIES:Music
ATTACH;FMTTYPE=image/jpeg:https://exploresisters.com/wp-content/uploads/2026/04/Frankies-Handpicked-Series-by-Tom-Nechville-Linda-Leavitt.jpg
END:VEVENT
BEGIN:VEVENT
DTSTART;TZID=America/Los_Angeles:20270127T180000
DTEND;TZID=America/Los_Angeles:20270127T200000
DTSTAMP:20260422T082814
CREATED:20260403T014140Z
LAST-MODIFIED:20260403T014140Z
UID:10004401-1801072800-1801080000@exploresisters.com
SUMMARY:Handpicked Series by Tom Nechville & Linda Leavitt
DESCRIPTION:An intimate music series featuring handpicked performers by Tom Nechville & Linda Leavitt. A $10 suggested donation will be collected at the event\, with proceeds supporting CoreSisters.org or the Latin Community Association.
URL:https://exploresisters.com/event/handpicked-series-by-tom-nechville-linda-leavitt/2027-01-27/
LOCATION:Frankie’s\, 250 W Cascade Ave\, Sisters\, 97759\, United States
CATEGORIES:Music
ATTACH;FMTTYPE=image/jpeg:https://exploresisters.com/wp-content/uploads/2026/04/Frankies-Handpicked-Series-by-Tom-Nechville-Linda-Leavitt.jpg
END:VEVENT
BEGIN:VEVENT
DTSTART;TZID=America/Los_Angeles:20270203T180000
DTEND;TZID=America/Los_Angeles:20270203T200000
DTSTAMP:20260422T082814
CREATED:20260403T014140Z
LAST-MODIFIED:20260403T014140Z
UID:10004402-1801677600-1801684800@exploresisters.com
SUMMARY:Handpicked Series by Tom Nechville & Linda Leavitt
DESCRIPTION:An intimate music series featuring handpicked performers by Tom Nechville & Linda Leavitt. A $10 suggested donation will be collected at the event\, with proceeds supporting CoreSisters.org or the Latin Community Association.
URL:https://exploresisters.com/event/handpicked-series-by-tom-nechville-linda-leavitt/2027-02-03/
LOCATION:Frankie’s\, 250 W Cascade Ave\, Sisters\, 97759\, United States
CATEGORIES:Music
ATTACH;FMTTYPE=image/jpeg:https://exploresisters.com/wp-content/uploads/2026/04/Frankies-Handpicked-Series-by-Tom-Nechville-Linda-Leavitt.jpg
END:VEVENT
BEGIN:VEVENT
DTSTART;TZID=America/Los_Angeles:20270210T180000
DTEND;TZID=America/Los_Angeles:20270210T200000
DTSTAMP:20260422T082814
CREATED:20260403T014140Z
LAST-MODIFIED:20260403T014140Z
UID:10004403-1802282400-1802289600@exploresisters.com
SUMMARY:Handpicked Series by Tom Nechville & Linda Leavitt
DESCRIPTION:An intimate music series featuring handpicked performers by Tom Nechville & Linda Leavitt. A $10 suggested donation will be collected at the event\, with proceeds supporting CoreSisters.org or the Latin Community Association.
URL:https://exploresisters.com/event/handpicked-series-by-tom-nechville-linda-leavitt/2027-02-10/
LOCATION:Frankie’s\, 250 W Cascade Ave\, Sisters\, 97759\, United States
CATEGORIES:Music
ATTACH;FMTTYPE=image/jpeg:https://exploresisters.com/wp-content/uploads/2026/04/Frankies-Handpicked-Series-by-Tom-Nechville-Linda-Leavitt.jpg
END:VEVENT
END:VCALENDAR