BEGIN:VCALENDAR
VERSION:2.0
PRODID:-//Sisters Oregon - ECPv6.15.20//NONSGML v1.0//EN
CALSCALE:GREGORIAN
METHOD:PUBLISH
X-ORIGINAL-URL:https://exploresisters.com
X-WR-CALDESC:Events for Sisters Oregon
REFRESH-INTERVAL;VALUE=DURATION:PT1H
X-Robots-Tag:noindex
X-PUBLISHED-TTL:PT1H
BEGIN:VTIMEZONE
TZID:America/Los_Angeles
BEGIN:DAYLIGHT
TZOFFSETFROM:-0800
TZOFFSETTO:-0700
TZNAME:PDT
DTSTART:20250309T100000
END:DAYLIGHT
BEGIN:STANDARD
TZOFFSETFROM:-0700
TZOFFSETTO:-0800
TZNAME:PST
DTSTART:20251102T090000
END:STANDARD
BEGIN:DAYLIGHT
TZOFFSETFROM:-0800
TZOFFSETTO:-0700
TZNAME:PDT
DTSTART:20260308T100000
END:DAYLIGHT
BEGIN:STANDARD
TZOFFSETFROM:-0700
TZOFFSETTO:-0800
TZNAME:PST
DTSTART:20261101T090000
END:STANDARD
BEGIN:DAYLIGHT
TZOFFSETFROM:-0800
TZOFFSETTO:-0700
TZNAME:PDT
DTSTART:20270314T100000
END:DAYLIGHT
BEGIN:STANDARD
TZOFFSETFROM:-0700
TZOFFSETTO:-0800
TZNAME:PST
DTSTART:20271107T090000
END:STANDARD
END:VTIMEZONE
BEGIN:VEVENT
DTSTART;TZID=America/Los_Angeles:20260808T170000
DTEND;TZID=America/Los_Angeles:20260808T190000
DTSTAMP:20260422T150541
CREATED:20260416T031651Z
LAST-MODIFIED:20260416T031651Z
UID:10004693-1786208400-1786215600@exploresisters.com
SUMMARY:Classic Cars @ Eurosports
DESCRIPTION:Enjoy classic cars at Eurosports on Saturday nights from 5-7pm March through October\, weather permitting. Make sure to explore their food carts or grab a beverage to enjoy.
URL:https://exploresisters.com/event/classic-cars-eurosports/2026-08-08/
LOCATION:Eurosports\, 223 E Hood Ave\, Sisters\, 97759\, United States
CATEGORIES:Entertainment
ATTACH;FMTTYPE=image/jpeg:https://exploresisters.com/wp-content/uploads/2026/04/eurosports-classic-cars-1.jpg
END:VEVENT
BEGIN:VEVENT
DTSTART;TZID=America/Los_Angeles:20260813T173000
DTEND;TZID=America/Los_Angeles:20260813T183000
DTSTAMP:20260422T150541
CREATED:20260416T030716Z
LAST-MODIFIED:20260416T030716Z
UID:10004665-1786642200-1786645800@exploresisters.com
SUMMARY:Trivia Night @ Eurosports
DESCRIPTION:Join Eurosports for trivia on Thursday nights from 5:30-6:30pm starting in May. Make sure to explore their food trucks or grab a beverage to enjoy.
URL:https://exploresisters.com/event/trivia-night-eurosports/2026-08-13/
LOCATION:Eurosports\, 223 E Hood Ave\, Sisters\, 97759\, United States
CATEGORIES:Entertainment,Food & Drink
ATTACH;FMTTYPE=image/jpeg:https://exploresisters.com/wp-content/uploads/2026/04/eurosports-trivia-night-1.jpg
END:VEVENT
BEGIN:VEVENT
DTSTART;TZID=America/Los_Angeles:20260814T170000
DTEND;TZID=America/Los_Angeles:20260814T190000
DTSTAMP:20260422T150541
CREATED:20260416T025846Z
LAST-MODIFIED:20260416T025941Z
UID:10004646-1786726800-1786734000@exploresisters.com
SUMMARY:Friday Night Music @ Eurosports
DESCRIPTION:Stop by Eurosports for live music June through September from 5-7pm. Make sure to explore their delicious food carts or grab a beverage to enjoy. \nJune 19th – Haystack Jack\nJune 26th – Lilli Worona and John Shipe\nJuly 3rd – Bob Baker and Mark Barringer\nJuly 10th – Switchback\nJuly 17th – Mortal Soulstice\nJuly 24th – Toothpick Shaker\nJuly 31st – Mortal Soulstice\nAugust 7th – Five Pint Mary\nAugust 14th – Station Camp\nAugust 21st – Haystack Jack\nAugust 28th – TBD\nSeptember 4th – Bob Baker and Mark Barringer\nSeptember 11th – Switchback\nSeptember 18th – Mortal Soulstice\nSeptember 25th – Toothpick Shaker 4-6pm\nSeptember 26th – Smoke Drifters 4-6pm
URL:https://exploresisters.com/event/friday-night-music-eurosports/2026-08-14/
LOCATION:Eurosports\, 223 E Hood Ave\, Sisters\, 97759\, United States
CATEGORIES:Music
ATTACH;FMTTYPE=image/jpeg:https://exploresisters.com/wp-content/uploads/2026/04/eurosports-live-music-1.jpg
END:VEVENT
BEGIN:VEVENT
DTSTART;TZID=America/Los_Angeles:20260815T170000
DTEND;TZID=America/Los_Angeles:20260815T190000
DTSTAMP:20260422T150541
CREATED:20260416T031651Z
LAST-MODIFIED:20260416T031651Z
UID:10004694-1786813200-1786820400@exploresisters.com
SUMMARY:Classic Cars @ Eurosports
DESCRIPTION:Enjoy classic cars at Eurosports on Saturday nights from 5-7pm March through October\, weather permitting. Make sure to explore their food carts or grab a beverage to enjoy.
URL:https://exploresisters.com/event/classic-cars-eurosports/2026-08-15/
LOCATION:Eurosports\, 223 E Hood Ave\, Sisters\, 97759\, United States
CATEGORIES:Entertainment
ATTACH;FMTTYPE=image/jpeg:https://exploresisters.com/wp-content/uploads/2026/04/eurosports-classic-cars-1.jpg
END:VEVENT
BEGIN:VEVENT
DTSTART;TZID=America/Los_Angeles:20260820T173000
DTEND;TZID=America/Los_Angeles:20260820T183000
DTSTAMP:20260422T150541
CREATED:20260416T030716Z
LAST-MODIFIED:20260416T030716Z
UID:10004666-1787247000-1787250600@exploresisters.com
SUMMARY:Trivia Night @ Eurosports
DESCRIPTION:Join Eurosports for trivia on Thursday nights from 5:30-6:30pm starting in May. Make sure to explore their food trucks or grab a beverage to enjoy.
URL:https://exploresisters.com/event/trivia-night-eurosports/2026-08-20/
LOCATION:Eurosports\, 223 E Hood Ave\, Sisters\, 97759\, United States
CATEGORIES:Entertainment,Food & Drink
ATTACH;FMTTYPE=image/jpeg:https://exploresisters.com/wp-content/uploads/2026/04/eurosports-trivia-night-1.jpg
END:VEVENT
BEGIN:VEVENT
DTSTART;TZID=America/Los_Angeles:20260821T170000
DTEND;TZID=America/Los_Angeles:20260821T190000
DTSTAMP:20260422T150541
CREATED:20260416T025846Z
LAST-MODIFIED:20260416T025941Z
UID:10004647-1787331600-1787338800@exploresisters.com
SUMMARY:Friday Night Music @ Eurosports
DESCRIPTION:Stop by Eurosports for live music June through September from 5-7pm. Make sure to explore their delicious food carts or grab a beverage to enjoy. \nJune 19th – Haystack Jack\nJune 26th – Lilli Worona and John Shipe\nJuly 3rd – Bob Baker and Mark Barringer\nJuly 10th – Switchback\nJuly 17th – Mortal Soulstice\nJuly 24th – Toothpick Shaker\nJuly 31st – Mortal Soulstice\nAugust 7th – Five Pint Mary\nAugust 14th – Station Camp\nAugust 21st – Haystack Jack\nAugust 28th – TBD\nSeptember 4th – Bob Baker and Mark Barringer\nSeptember 11th – Switchback\nSeptember 18th – Mortal Soulstice\nSeptember 25th – Toothpick Shaker 4-6pm\nSeptember 26th – Smoke Drifters 4-6pm
URL:https://exploresisters.com/event/friday-night-music-eurosports/2026-08-21/
LOCATION:Eurosports\, 223 E Hood Ave\, Sisters\, 97759\, United States
CATEGORIES:Music
ATTACH;FMTTYPE=image/jpeg:https://exploresisters.com/wp-content/uploads/2026/04/eurosports-live-music-1.jpg
END:VEVENT
BEGIN:VEVENT
DTSTART;TZID=America/Los_Angeles:20260822T170000
DTEND;TZID=America/Los_Angeles:20260822T190000
DTSTAMP:20260422T150541
CREATED:20260416T031651Z
LAST-MODIFIED:20260416T031651Z
UID:10004695-1787418000-1787425200@exploresisters.com
SUMMARY:Classic Cars @ Eurosports
DESCRIPTION:Enjoy classic cars at Eurosports on Saturday nights from 5-7pm March through October\, weather permitting. Make sure to explore their food carts or grab a beverage to enjoy.
URL:https://exploresisters.com/event/classic-cars-eurosports/2026-08-22/
LOCATION:Eurosports\, 223 E Hood Ave\, Sisters\, 97759\, United States
CATEGORIES:Entertainment
ATTACH;FMTTYPE=image/jpeg:https://exploresisters.com/wp-content/uploads/2026/04/eurosports-classic-cars-1.jpg
END:VEVENT
BEGIN:VEVENT
DTSTART;TZID=America/Los_Angeles:20260827T173000
DTEND;TZID=America/Los_Angeles:20260827T183000
DTSTAMP:20260422T150541
CREATED:20260416T030716Z
LAST-MODIFIED:20260416T030716Z
UID:10004667-1787851800-1787855400@exploresisters.com
SUMMARY:Trivia Night @ Eurosports
DESCRIPTION:Join Eurosports for trivia on Thursday nights from 5:30-6:30pm starting in May. Make sure to explore their food trucks or grab a beverage to enjoy.
URL:https://exploresisters.com/event/trivia-night-eurosports/2026-08-27/
LOCATION:Eurosports\, 223 E Hood Ave\, Sisters\, 97759\, United States
CATEGORIES:Entertainment,Food & Drink
ATTACH;FMTTYPE=image/jpeg:https://exploresisters.com/wp-content/uploads/2026/04/eurosports-trivia-night-1.jpg
END:VEVENT
BEGIN:VEVENT
DTSTART;TZID=America/Los_Angeles:20260828T170000
DTEND;TZID=America/Los_Angeles:20260828T190000
DTSTAMP:20260422T150541
CREATED:20260416T025846Z
LAST-MODIFIED:20260416T025941Z
UID:10004648-1787936400-1787943600@exploresisters.com
SUMMARY:Friday Night Music @ Eurosports
DESCRIPTION:Stop by Eurosports for live music June through September from 5-7pm. Make sure to explore their delicious food carts or grab a beverage to enjoy. \nJune 19th – Haystack Jack\nJune 26th – Lilli Worona and John Shipe\nJuly 3rd – Bob Baker and Mark Barringer\nJuly 10th – Switchback\nJuly 17th – Mortal Soulstice\nJuly 24th – Toothpick Shaker\nJuly 31st – Mortal Soulstice\nAugust 7th – Five Pint Mary\nAugust 14th – Station Camp\nAugust 21st – Haystack Jack\nAugust 28th – TBD\nSeptember 4th – Bob Baker and Mark Barringer\nSeptember 11th – Switchback\nSeptember 18th – Mortal Soulstice\nSeptember 25th – Toothpick Shaker 4-6pm\nSeptember 26th – Smoke Drifters 4-6pm
URL:https://exploresisters.com/event/friday-night-music-eurosports/2026-08-28/
LOCATION:Eurosports\, 223 E Hood Ave\, Sisters\, 97759\, United States
CATEGORIES:Music
ATTACH;FMTTYPE=image/jpeg:https://exploresisters.com/wp-content/uploads/2026/04/eurosports-live-music-1.jpg
END:VEVENT
BEGIN:VEVENT
DTSTART;TZID=America/Los_Angeles:20260829T170000
DTEND;TZID=America/Los_Angeles:20260829T190000
DTSTAMP:20260422T150541
CREATED:20260416T031651Z
LAST-MODIFIED:20260416T031651Z
UID:10004696-1788022800-1788030000@exploresisters.com
SUMMARY:Classic Cars @ Eurosports
DESCRIPTION:Enjoy classic cars at Eurosports on Saturday nights from 5-7pm March through October\, weather permitting. Make sure to explore their food carts or grab a beverage to enjoy.
URL:https://exploresisters.com/event/classic-cars-eurosports/2026-08-29/
LOCATION:Eurosports\, 223 E Hood Ave\, Sisters\, 97759\, United States
CATEGORIES:Entertainment
ATTACH;FMTTYPE=image/jpeg:https://exploresisters.com/wp-content/uploads/2026/04/eurosports-classic-cars-1.jpg
END:VEVENT
BEGIN:VEVENT
DTSTART;TZID=America/Los_Angeles:20260903T173000
DTEND;TZID=America/Los_Angeles:20260903T183000
DTSTAMP:20260422T150541
CREATED:20260416T030716Z
LAST-MODIFIED:20260416T030716Z
UID:10004668-1788456600-1788460200@exploresisters.com
SUMMARY:Trivia Night @ Eurosports
DESCRIPTION:Join Eurosports for trivia on Thursday nights from 5:30-6:30pm starting in May. Make sure to explore their food trucks or grab a beverage to enjoy.
URL:https://exploresisters.com/event/trivia-night-eurosports/2026-09-03/
LOCATION:Eurosports\, 223 E Hood Ave\, Sisters\, 97759\, United States
CATEGORIES:Entertainment,Food & Drink
ATTACH;FMTTYPE=image/jpeg:https://exploresisters.com/wp-content/uploads/2026/04/eurosports-trivia-night-1.jpg
END:VEVENT
BEGIN:VEVENT
DTSTART;TZID=America/Los_Angeles:20260904T170000
DTEND;TZID=America/Los_Angeles:20260904T190000
DTSTAMP:20260422T150541
CREATED:20260416T025846Z
LAST-MODIFIED:20260416T025941Z
UID:10004649-1788541200-1788548400@exploresisters.com
SUMMARY:Friday Night Music @ Eurosports
DESCRIPTION:Stop by Eurosports for live music June through September from 5-7pm. Make sure to explore their delicious food carts or grab a beverage to enjoy. \nJune 19th – Haystack Jack\nJune 26th – Lilli Worona and John Shipe\nJuly 3rd – Bob Baker and Mark Barringer\nJuly 10th – Switchback\nJuly 17th – Mortal Soulstice\nJuly 24th – Toothpick Shaker\nJuly 31st – Mortal Soulstice\nAugust 7th – Five Pint Mary\nAugust 14th – Station Camp\nAugust 21st – Haystack Jack\nAugust 28th – TBD\nSeptember 4th – Bob Baker and Mark Barringer\nSeptember 11th – Switchback\nSeptember 18th – Mortal Soulstice\nSeptember 25th – Toothpick Shaker 4-6pm\nSeptember 26th – Smoke Drifters 4-6pm
URL:https://exploresisters.com/event/friday-night-music-eurosports/2026-09-04/
LOCATION:Eurosports\, 223 E Hood Ave\, Sisters\, 97759\, United States
CATEGORIES:Music
ATTACH;FMTTYPE=image/jpeg:https://exploresisters.com/wp-content/uploads/2026/04/eurosports-live-music-1.jpg
END:VEVENT
BEGIN:VEVENT
DTSTART;TZID=America/Los_Angeles:20260905T170000
DTEND;TZID=America/Los_Angeles:20260905T190000
DTSTAMP:20260422T150541
CREATED:20260416T031651Z
LAST-MODIFIED:20260416T031651Z
UID:10004697-1788627600-1788634800@exploresisters.com
SUMMARY:Classic Cars @ Eurosports
DESCRIPTION:Enjoy classic cars at Eurosports on Saturday nights from 5-7pm March through October\, weather permitting. Make sure to explore their food carts or grab a beverage to enjoy.
URL:https://exploresisters.com/event/classic-cars-eurosports/2026-09-05/
LOCATION:Eurosports\, 223 E Hood Ave\, Sisters\, 97759\, United States
CATEGORIES:Entertainment
ATTACH;FMTTYPE=image/jpeg:https://exploresisters.com/wp-content/uploads/2026/04/eurosports-classic-cars-1.jpg
END:VEVENT
BEGIN:VEVENT
DTSTART;TZID=America/Los_Angeles:20260910T173000
DTEND;TZID=America/Los_Angeles:20260910T183000
DTSTAMP:20260422T150541
CREATED:20260416T030716Z
LAST-MODIFIED:20260416T030716Z
UID:10004669-1789061400-1789065000@exploresisters.com
SUMMARY:Trivia Night @ Eurosports
DESCRIPTION:Join Eurosports for trivia on Thursday nights from 5:30-6:30pm starting in May. Make sure to explore their food trucks or grab a beverage to enjoy.
URL:https://exploresisters.com/event/trivia-night-eurosports/2026-09-10/
LOCATION:Eurosports\, 223 E Hood Ave\, Sisters\, 97759\, United States
CATEGORIES:Entertainment,Food & Drink
ATTACH;FMTTYPE=image/jpeg:https://exploresisters.com/wp-content/uploads/2026/04/eurosports-trivia-night-1.jpg
END:VEVENT
BEGIN:VEVENT
DTSTART;TZID=America/Los_Angeles:20260911T170000
DTEND;TZID=America/Los_Angeles:20260911T190000
DTSTAMP:20260422T150541
CREATED:20260416T025846Z
LAST-MODIFIED:20260416T025941Z
UID:10004650-1789146000-1789153200@exploresisters.com
SUMMARY:Friday Night Music @ Eurosports
DESCRIPTION:Stop by Eurosports for live music June through September from 5-7pm. Make sure to explore their delicious food carts or grab a beverage to enjoy. \nJune 19th – Haystack Jack\nJune 26th – Lilli Worona and John Shipe\nJuly 3rd – Bob Baker and Mark Barringer\nJuly 10th – Switchback\nJuly 17th – Mortal Soulstice\nJuly 24th – Toothpick Shaker\nJuly 31st – Mortal Soulstice\nAugust 7th – Five Pint Mary\nAugust 14th – Station Camp\nAugust 21st – Haystack Jack\nAugust 28th – TBD\nSeptember 4th – Bob Baker and Mark Barringer\nSeptember 11th – Switchback\nSeptember 18th – Mortal Soulstice\nSeptember 25th – Toothpick Shaker 4-6pm\nSeptember 26th – Smoke Drifters 4-6pm
URL:https://exploresisters.com/event/friday-night-music-eurosports/2026-09-11/
LOCATION:Eurosports\, 223 E Hood Ave\, Sisters\, 97759\, United States
CATEGORIES:Music
ATTACH;FMTTYPE=image/jpeg:https://exploresisters.com/wp-content/uploads/2026/04/eurosports-live-music-1.jpg
END:VEVENT
BEGIN:VEVENT
DTSTART;TZID=America/Los_Angeles:20260912T170000
DTEND;TZID=America/Los_Angeles:20260912T190000
DTSTAMP:20260422T150541
CREATED:20260416T031651Z
LAST-MODIFIED:20260416T031651Z
UID:10004698-1789232400-1789239600@exploresisters.com
SUMMARY:Classic Cars @ Eurosports
DESCRIPTION:Enjoy classic cars at Eurosports on Saturday nights from 5-7pm March through October\, weather permitting. Make sure to explore their food carts or grab a beverage to enjoy.
URL:https://exploresisters.com/event/classic-cars-eurosports/2026-09-12/
LOCATION:Eurosports\, 223 E Hood Ave\, Sisters\, 97759\, United States
CATEGORIES:Entertainment
ATTACH;FMTTYPE=image/jpeg:https://exploresisters.com/wp-content/uploads/2026/04/eurosports-classic-cars-1.jpg
END:VEVENT
BEGIN:VEVENT
DTSTART;TZID=America/Los_Angeles:20260917T173000
DTEND;TZID=America/Los_Angeles:20260917T183000
DTSTAMP:20260422T150541
CREATED:20260416T030716Z
LAST-MODIFIED:20260416T030716Z
UID:10004670-1789666200-1789669800@exploresisters.com
SUMMARY:Trivia Night @ Eurosports
DESCRIPTION:Join Eurosports for trivia on Thursday nights from 5:30-6:30pm starting in May. Make sure to explore their food trucks or grab a beverage to enjoy.
URL:https://exploresisters.com/event/trivia-night-eurosports/2026-09-17/
LOCATION:Eurosports\, 223 E Hood Ave\, Sisters\, 97759\, United States
CATEGORIES:Entertainment,Food & Drink
ATTACH;FMTTYPE=image/jpeg:https://exploresisters.com/wp-content/uploads/2026/04/eurosports-trivia-night-1.jpg
END:VEVENT
BEGIN:VEVENT
DTSTART;TZID=America/Los_Angeles:20260918T170000
DTEND;TZID=America/Los_Angeles:20260918T190000
DTSTAMP:20260422T150541
CREATED:20260416T025846Z
LAST-MODIFIED:20260416T025941Z
UID:10004651-1789750800-1789758000@exploresisters.com
SUMMARY:Friday Night Music @ Eurosports
DESCRIPTION:Stop by Eurosports for live music June through September from 5-7pm. Make sure to explore their delicious food carts or grab a beverage to enjoy. \nJune 19th – Haystack Jack\nJune 26th – Lilli Worona and John Shipe\nJuly 3rd – Bob Baker and Mark Barringer\nJuly 10th – Switchback\nJuly 17th – Mortal Soulstice\nJuly 24th – Toothpick Shaker\nJuly 31st – Mortal Soulstice\nAugust 7th – Five Pint Mary\nAugust 14th – Station Camp\nAugust 21st – Haystack Jack\nAugust 28th – TBD\nSeptember 4th – Bob Baker and Mark Barringer\nSeptember 11th – Switchback\nSeptember 18th – Mortal Soulstice\nSeptember 25th – Toothpick Shaker 4-6pm\nSeptember 26th – Smoke Drifters 4-6pm
URL:https://exploresisters.com/event/friday-night-music-eurosports/2026-09-18/
LOCATION:Eurosports\, 223 E Hood Ave\, Sisters\, 97759\, United States
CATEGORIES:Music
ATTACH;FMTTYPE=image/jpeg:https://exploresisters.com/wp-content/uploads/2026/04/eurosports-live-music-1.jpg
END:VEVENT
BEGIN:VEVENT
DTSTART;TZID=America/Los_Angeles:20260919T170000
DTEND;TZID=America/Los_Angeles:20260919T190000
DTSTAMP:20260422T150541
CREATED:20260416T031651Z
LAST-MODIFIED:20260416T031651Z
UID:10004699-1789837200-1789844400@exploresisters.com
SUMMARY:Classic Cars @ Eurosports
DESCRIPTION:Enjoy classic cars at Eurosports on Saturday nights from 5-7pm March through October\, weather permitting. Make sure to explore their food carts or grab a beverage to enjoy.
URL:https://exploresisters.com/event/classic-cars-eurosports/2026-09-19/
LOCATION:Eurosports\, 223 E Hood Ave\, Sisters\, 97759\, United States
CATEGORIES:Entertainment
ATTACH;FMTTYPE=image/jpeg:https://exploresisters.com/wp-content/uploads/2026/04/eurosports-classic-cars-1.jpg
END:VEVENT
BEGIN:VEVENT
DTSTART;TZID=America/Los_Angeles:20260926T170000
DTEND;TZID=America/Los_Angeles:20260926T190000
DTSTAMP:20260422T150541
CREATED:20260416T031651Z
LAST-MODIFIED:20260416T031651Z
UID:10004700-1790442000-1790449200@exploresisters.com
SUMMARY:Classic Cars @ Eurosports
DESCRIPTION:Enjoy classic cars at Eurosports on Saturday nights from 5-7pm March through October\, weather permitting. Make sure to explore their food carts or grab a beverage to enjoy.
URL:https://exploresisters.com/event/classic-cars-eurosports/2026-09-26/
LOCATION:Eurosports\, 223 E Hood Ave\, Sisters\, 97759\, United States
CATEGORIES:Entertainment
ATTACH;FMTTYPE=image/jpeg:https://exploresisters.com/wp-content/uploads/2026/04/eurosports-classic-cars-1.jpg
END:VEVENT
BEGIN:VEVENT
DTSTART;TZID=America/Los_Angeles:20261003T170000
DTEND;TZID=America/Los_Angeles:20261003T190000
DTSTAMP:20260422T150541
CREATED:20260416T031651Z
LAST-MODIFIED:20260416T031651Z
UID:10004701-1791046800-1791054000@exploresisters.com
SUMMARY:Classic Cars @ Eurosports
DESCRIPTION:Enjoy classic cars at Eurosports on Saturday nights from 5-7pm March through October\, weather permitting. Make sure to explore their food carts or grab a beverage to enjoy.
URL:https://exploresisters.com/event/classic-cars-eurosports/2026-10-03/
LOCATION:Eurosports\, 223 E Hood Ave\, Sisters\, 97759\, United States
CATEGORIES:Entertainment
ATTACH;FMTTYPE=image/jpeg:https://exploresisters.com/wp-content/uploads/2026/04/eurosports-classic-cars-1.jpg
END:VEVENT
BEGIN:VEVENT
DTSTART;TZID=America/Los_Angeles:20261010T170000
DTEND;TZID=America/Los_Angeles:20261010T190000
DTSTAMP:20260422T150541
CREATED:20260416T031651Z
LAST-MODIFIED:20260416T031651Z
UID:10004702-1791651600-1791658800@exploresisters.com
SUMMARY:Classic Cars @ Eurosports
DESCRIPTION:Enjoy classic cars at Eurosports on Saturday nights from 5-7pm March through October\, weather permitting. Make sure to explore their food carts or grab a beverage to enjoy.
URL:https://exploresisters.com/event/classic-cars-eurosports/2026-10-10/
LOCATION:Eurosports\, 223 E Hood Ave\, Sisters\, 97759\, United States
CATEGORIES:Entertainment
ATTACH;FMTTYPE=image/jpeg:https://exploresisters.com/wp-content/uploads/2026/04/eurosports-classic-cars-1.jpg
END:VEVENT
BEGIN:VEVENT
DTSTART;TZID=America/Los_Angeles:20261017T170000
DTEND;TZID=America/Los_Angeles:20261017T190000
DTSTAMP:20260422T150541
CREATED:20260416T031651Z
LAST-MODIFIED:20260416T031651Z
UID:10004703-1792256400-1792263600@exploresisters.com
SUMMARY:Classic Cars @ Eurosports
DESCRIPTION:Enjoy classic cars at Eurosports on Saturday nights from 5-7pm March through October\, weather permitting. Make sure to explore their food carts or grab a beverage to enjoy.
URL:https://exploresisters.com/event/classic-cars-eurosports/2026-10-17/
LOCATION:Eurosports\, 223 E Hood Ave\, Sisters\, 97759\, United States
CATEGORIES:Entertainment
ATTACH;FMTTYPE=image/jpeg:https://exploresisters.com/wp-content/uploads/2026/04/eurosports-classic-cars-1.jpg
END:VEVENT
BEGIN:VEVENT
DTSTART;TZID=America/Los_Angeles:20261024T170000
DTEND;TZID=America/Los_Angeles:20261024T190000
DTSTAMP:20260422T150541
CREATED:20260416T031651Z
LAST-MODIFIED:20260416T031651Z
UID:10004704-1792861200-1792868400@exploresisters.com
SUMMARY:Classic Cars @ Eurosports
DESCRIPTION:Enjoy classic cars at Eurosports on Saturday nights from 5-7pm March through October\, weather permitting. Make sure to explore their food carts or grab a beverage to enjoy.
URL:https://exploresisters.com/event/classic-cars-eurosports/2026-10-24/
LOCATION:Eurosports\, 223 E Hood Ave\, Sisters\, 97759\, United States
CATEGORIES:Entertainment
ATTACH;FMTTYPE=image/jpeg:https://exploresisters.com/wp-content/uploads/2026/04/eurosports-classic-cars-1.jpg
END:VEVENT
BEGIN:VEVENT
DTSTART;TZID=America/Los_Angeles:20261031T170000
DTEND;TZID=America/Los_Angeles:20261031T190000
DTSTAMP:20260422T150541
CREATED:20260416T031651Z
LAST-MODIFIED:20260416T031651Z
UID:10004705-1793466000-1793473200@exploresisters.com
SUMMARY:Classic Cars @ Eurosports
DESCRIPTION:Enjoy classic cars at Eurosports on Saturday nights from 5-7pm March through October\, weather permitting. Make sure to explore their food carts or grab a beverage to enjoy.
URL:https://exploresisters.com/event/classic-cars-eurosports/2026-10-31/
LOCATION:Eurosports\, 223 E Hood Ave\, Sisters\, 97759\, United States
CATEGORIES:Entertainment
ATTACH;FMTTYPE=image/jpeg:https://exploresisters.com/wp-content/uploads/2026/04/eurosports-classic-cars-1.jpg
END:VEVENT
END:VCALENDAR