BEGIN:VCALENDAR
VERSION:2.0
PRODID:-//Sisters Oregon - ECPv6.15.20//NONSGML v1.0//EN
CALSCALE:GREGORIAN
METHOD:PUBLISH
X-ORIGINAL-URL:https://exploresisters.com
X-WR-CALDESC:Events for Sisters Oregon
REFRESH-INTERVAL;VALUE=DURATION:PT1H
X-Robots-Tag:noindex
X-PUBLISHED-TTL:PT1H
BEGIN:VTIMEZONE
TZID:America/Los_Angeles
BEGIN:DAYLIGHT
TZOFFSETFROM:-0800
TZOFFSETTO:-0700
TZNAME:PDT
DTSTART:20250309T100000
END:DAYLIGHT
BEGIN:STANDARD
TZOFFSETFROM:-0700
TZOFFSETTO:-0800
TZNAME:PST
DTSTART:20251102T090000
END:STANDARD
BEGIN:DAYLIGHT
TZOFFSETFROM:-0800
TZOFFSETTO:-0700
TZNAME:PDT
DTSTART:20260308T100000
END:DAYLIGHT
BEGIN:STANDARD
TZOFFSETFROM:-0700
TZOFFSETTO:-0800
TZNAME:PST
DTSTART:20261101T090000
END:STANDARD
BEGIN:DAYLIGHT
TZOFFSETFROM:-0800
TZOFFSETTO:-0700
TZNAME:PDT
DTSTART:20270314T100000
END:DAYLIGHT
BEGIN:STANDARD
TZOFFSETFROM:-0700
TZOFFSETTO:-0800
TZNAME:PST
DTSTART:20271107T090000
END:STANDARD
END:VTIMEZONE
BEGIN:VEVENT
DTSTART;TZID=America/Los_Angeles:20260828T100000
DTEND;TZID=America/Los_Angeles:20260828T190000
DTSTAMP:20260421T131554
CREATED:20250502T030815Z
LAST-MODIFIED:20250509T222040Z
UID:10000035-1787911200-1787943600@exploresisters.com
SUMMARY:4th Friday Artwalk
DESCRIPTION:On the fourth Friday of each month\, downtown Sisters comes alive with the Sisters Arts Association’s 4th Friday Artwalk\, a celebration of creativity and community. Local galleries open their doors to explore a diverse array of art\, including fine paintings\, sculpture\, ceramics\, photography\, jewelry\, and glasswork.​ This self-guided tour offers more than just viewing art; it’s an opportunity to meet the artists\, watch live demonstrations\, and engage in conversations about their work. Many galleries provide light refreshments\, and downtown restaurants and cafés offer specials to enhance the experience. Whether you’re an art enthusiast or simply seeking a delightful evening out\, the 4th Friday Artwalk embodies the creative spirit that defines Sisters.
URL:https://exploresisters.com/event/4th-friday-artwalk/2026-08-28/
LOCATION:Downtown Sisters\, Sisters\, OR\, 97759
CATEGORIES:Arts & Culture,Community
ATTACH;FMTTYPE=image/jpeg:https://exploresisters.com/wp-content/uploads/2025/03/galleries.jpg
END:VEVENT
BEGIN:VEVENT
DTSTART;TZID=America/Los_Angeles:20260912T100000
DTEND;TZID=America/Los_Angeles:20260912T140000
DTSTAMP:20260421T131554
CREATED:20250512T180004Z
LAST-MODIFIED:20260217T035527Z
UID:10000055-1789207200-1789221600@exploresisters.com
SUMMARY:Glory Daze Car Show
DESCRIPTION:The Glory Daze Car Show is back! Join us for this family-friendly event in beautiful downtown Sisters on East Main Avenue. \n\nCar categories include:\n\nMuscle Car\nPickup/Off Road\nSports Car\nStock Restored\nStock Unrestored\nModified\nStreet Rod\nDepending on registration numbers\, categories may be broken down further into smaller sub-categories.\n\n\nFREE to spectators\nKids Zone\nQuick access to local restaurants and shops
URL:https://exploresisters.com/event/glory-daze-car-show/
LOCATION:Downtown Sisters\, Sisters\, OR\, 97759
CATEGORIES:Community,Family Fun
ATTACH;FMTTYPE=image/jpeg:https://exploresisters.com/wp-content/uploads/2025/05/Glory-Dayz-Car-Show-1.jpg
ORGANIZER;CN="Sisters Park & Recreation":MAILTO:sprd@sistersrecreation.com
END:VEVENT
BEGIN:VEVENT
DTSTART;TZID=America/Los_Angeles:20260925T100000
DTEND;TZID=America/Los_Angeles:20260925T190000
DTSTAMP:20260421T131554
CREATED:20250502T030815Z
LAST-MODIFIED:20250509T222040Z
UID:10000036-1790330400-1790362800@exploresisters.com
SUMMARY:4th Friday Artwalk
DESCRIPTION:On the fourth Friday of each month\, downtown Sisters comes alive with the Sisters Arts Association’s 4th Friday Artwalk\, a celebration of creativity and community. Local galleries open their doors to explore a diverse array of art\, including fine paintings\, sculpture\, ceramics\, photography\, jewelry\, and glasswork.​ This self-guided tour offers more than just viewing art; it’s an opportunity to meet the artists\, watch live demonstrations\, and engage in conversations about their work. Many galleries provide light refreshments\, and downtown restaurants and cafés offer specials to enhance the experience. Whether you’re an art enthusiast or simply seeking a delightful evening out\, the 4th Friday Artwalk embodies the creative spirit that defines Sisters.
URL:https://exploresisters.com/event/4th-friday-artwalk/2026-09-25/
LOCATION:Downtown Sisters\, Sisters\, OR\, 97759
CATEGORIES:Arts & Culture,Community
ATTACH;FMTTYPE=image/jpeg:https://exploresisters.com/wp-content/uploads/2025/03/galleries.jpg
END:VEVENT
BEGIN:VEVENT
DTSTART;TZID=America/Los_Angeles:20260925T180000
DTEND;TZID=America/Los_Angeles:20260927T235900
DTSTAMP:20260421T131554
CREATED:20250501T213246Z
LAST-MODIFIED:20260218T035149Z
UID:10003969-1790359200-1790553540@exploresisters.com
SUMMARY:Sisters Folk Festival
DESCRIPTION:The Sisters Folk Festival transforms our charming mountain town into a vibrant celebration of music\, community\, and creativity. Artists from around the world will perform across seven unique venues—from cozy cafés and historic churches to outdoor stages nestled beneath the Cascade peaks. This isn’t just a music festival—it’s a full-town experience. Whether you’re swaying to soulful ballads\, dancing under the stars\, or discovering new favorites\, you’ll feel the magic that makes Sisters so special. With a blend of folk\, blues\, Americana\, and global roots\, there’s something for every music lover.​ Join us for an unforgettable weekend where melodies fill the air\, friendships are forged\, and the spirit of the West comes alive. Come for the music\, stay for the community.
URL:https://exploresisters.com/event/sisters-folk-festival/2026-09-25/
LOCATION:Downtown Sisters\, Sisters\, OR\, 97759
CATEGORIES:Community,Family Fun,Food & Drink,Music
ATTACH;FMTTYPE=image/webp:https://exploresisters.com/wp-content/uploads/2024/11/Sisters-Folk-Festival-scaled-1.webp
ORGANIZER;CN="SFF Presents":MAILTO:info@sffpresents.org
END:VEVENT
BEGIN:VEVENT
DTSTART;TZID=America/Los_Angeles:20260926T120000
DTEND;TZID=America/Los_Angeles:20260926T235900
DTSTAMP:20260421T131554
CREATED:20250501T213246Z
LAST-MODIFIED:20260218T035149Z
UID:10003970-1790424000-1790467140@exploresisters.com
SUMMARY:Sisters Folk Festival
DESCRIPTION:The Sisters Folk Festival transforms our charming mountain town into a vibrant celebration of music\, community\, and creativity. Artists from around the world will perform across seven unique venues—from cozy cafés and historic churches to outdoor stages nestled beneath the Cascade peaks. This isn’t just a music festival—it’s a full-town experience. Whether you’re swaying to soulful ballads\, dancing under the stars\, or discovering new favorites\, you’ll feel the magic that makes Sisters so special. With a blend of folk\, blues\, Americana\, and global roots\, there’s something for every music lover.​ Join us for an unforgettable weekend where melodies fill the air\, friendships are forged\, and the spirit of the West comes alive. Come for the music\, stay for the community.
URL:https://exploresisters.com/event/sisters-folk-festival/2026-09-26/
LOCATION:Downtown Sisters\, Sisters\, OR\, 97759
CATEGORIES:Community,Family Fun,Food & Drink,Music
ATTACH;FMTTYPE=image/webp:https://exploresisters.com/wp-content/uploads/2024/11/Sisters-Folk-Festival-scaled-1.webp
ORGANIZER;CN="SFF Presents":MAILTO:info@sffpresents.org
END:VEVENT
BEGIN:VEVENT
DTSTART;TZID=America/Los_Angeles:20260927T100000
DTEND;TZID=America/Los_Angeles:20260927T163000
DTSTAMP:20260421T131554
CREATED:20250501T213246Z
LAST-MODIFIED:20260218T035149Z
UID:10003971-1790503200-1790526600@exploresisters.com
SUMMARY:Sisters Folk Festival
DESCRIPTION:The Sisters Folk Festival transforms our charming mountain town into a vibrant celebration of music\, community\, and creativity. Artists from around the world will perform across seven unique venues—from cozy cafés and historic churches to outdoor stages nestled beneath the Cascade peaks. This isn’t just a music festival—it’s a full-town experience. Whether you’re swaying to soulful ballads\, dancing under the stars\, or discovering new favorites\, you’ll feel the magic that makes Sisters so special. With a blend of folk\, blues\, Americana\, and global roots\, there’s something for every music lover.​ Join us for an unforgettable weekend where melodies fill the air\, friendships are forged\, and the spirit of the West comes alive. Come for the music\, stay for the community.
URL:https://exploresisters.com/event/sisters-folk-festival/2026-09-27/
LOCATION:Downtown Sisters\, Sisters\, OR\, 97759
CATEGORIES:Community,Family Fun,Food & Drink,Music
ATTACH;FMTTYPE=image/webp:https://exploresisters.com/wp-content/uploads/2024/11/Sisters-Folk-Festival-scaled-1.webp
ORGANIZER;CN="SFF Presents":MAILTO:info@sffpresents.org
END:VEVENT
BEGIN:VEVENT
DTSTART;TZID=America/Los_Angeles:20261023T100000
DTEND;TZID=America/Los_Angeles:20261023T190000
DTSTAMP:20260421T131554
CREATED:20250502T030815Z
LAST-MODIFIED:20250509T222040Z
UID:10000037-1792749600-1792782000@exploresisters.com
SUMMARY:4th Friday Artwalk
DESCRIPTION:On the fourth Friday of each month\, downtown Sisters comes alive with the Sisters Arts Association’s 4th Friday Artwalk\, a celebration of creativity and community. Local galleries open their doors to explore a diverse array of art\, including fine paintings\, sculpture\, ceramics\, photography\, jewelry\, and glasswork.​ This self-guided tour offers more than just viewing art; it’s an opportunity to meet the artists\, watch live demonstrations\, and engage in conversations about their work. Many galleries provide light refreshments\, and downtown restaurants and cafés offer specials to enhance the experience. Whether you’re an art enthusiast or simply seeking a delightful evening out\, the 4th Friday Artwalk embodies the creative spirit that defines Sisters.
URL:https://exploresisters.com/event/4th-friday-artwalk/2026-10-23/
LOCATION:Downtown Sisters\, Sisters\, OR\, 97759
CATEGORIES:Arts & Culture,Community
ATTACH;FMTTYPE=image/jpeg:https://exploresisters.com/wp-content/uploads/2025/03/galleries.jpg
END:VEVENT
BEGIN:VEVENT
DTSTART;TZID=America/Los_Angeles:20261031T153000
DTEND;TZID=America/Los_Angeles:20261031T170000
DTSTAMP:20260421T131555
CREATED:20251017T172730Z
LAST-MODIFIED:20260410T015129Z
UID:10002430-1793460600-1793466000@exploresisters.com
SUMMARY:Sisters Halloween Candy Crawl
DESCRIPTION:Kids can visit participating businesses to collect candy and show off their costumes. Chaperones are encouraged\, and volunteer crosswalk assistance will be available to keep everyone safe. After you explore downtown\, head over to Village Green Park for Trunk or Treat\, hosted by Sisters Park & Recreation District. It’s a full evening of spooky\, small-town fun\, see you downtown. Starts at 3:30 and lasts until the candy is gone!
URL:https://exploresisters.com/event/sisters-halloween-candy-crawl/
LOCATION:Downtown Sisters\, Sisters\, OR\, 97759
CATEGORIES:Community,Holidays
ATTACH;FMTTYPE=image/jpeg:https://exploresisters.com/wp-content/uploads/2025/10/sisters-halloween-candy-crawl-1.jpg
END:VEVENT
BEGIN:VEVENT
DTSTART;TZID=America/Los_Angeles:20261127T100000
DTEND;TZID=America/Los_Angeles:20261127T190000
DTSTAMP:20260421T131555
CREATED:20250502T030815Z
LAST-MODIFIED:20250509T222040Z
UID:10000038-1795773600-1795806000@exploresisters.com
SUMMARY:4th Friday Artwalk
DESCRIPTION:On the fourth Friday of each month\, downtown Sisters comes alive with the Sisters Arts Association’s 4th Friday Artwalk\, a celebration of creativity and community. Local galleries open their doors to explore a diverse array of art\, including fine paintings\, sculpture\, ceramics\, photography\, jewelry\, and glasswork.​ This self-guided tour offers more than just viewing art; it’s an opportunity to meet the artists\, watch live demonstrations\, and engage in conversations about their work. Many galleries provide light refreshments\, and downtown restaurants and cafés offer specials to enhance the experience. Whether you’re an art enthusiast or simply seeking a delightful evening out\, the 4th Friday Artwalk embodies the creative spirit that defines Sisters.
URL:https://exploresisters.com/event/4th-friday-artwalk/2026-11-27/
LOCATION:Downtown Sisters\, Sisters\, OR\, 97759
CATEGORIES:Arts & Culture,Community
ATTACH;FMTTYPE=image/jpeg:https://exploresisters.com/wp-content/uploads/2025/03/galleries.jpg
END:VEVENT
BEGIN:VEVENT
DTSTART;TZID=America/Los_Angeles:20261225T100000
DTEND;TZID=America/Los_Angeles:20261225T190000
DTSTAMP:20260421T131555
CREATED:20250502T030815Z
LAST-MODIFIED:20250509T222040Z
UID:10000039-1798192800-1798225200@exploresisters.com
SUMMARY:4th Friday Artwalk
DESCRIPTION:On the fourth Friday of each month\, downtown Sisters comes alive with the Sisters Arts Association’s 4th Friday Artwalk\, a celebration of creativity and community. Local galleries open their doors to explore a diverse array of art\, including fine paintings\, sculpture\, ceramics\, photography\, jewelry\, and glasswork.​ This self-guided tour offers more than just viewing art; it’s an opportunity to meet the artists\, watch live demonstrations\, and engage in conversations about their work. Many galleries provide light refreshments\, and downtown restaurants and cafés offer specials to enhance the experience. Whether you’re an art enthusiast or simply seeking a delightful evening out\, the 4th Friday Artwalk embodies the creative spirit that defines Sisters.
URL:https://exploresisters.com/event/4th-friday-artwalk/2026-12-25/
LOCATION:Downtown Sisters\, Sisters\, OR\, 97759
CATEGORIES:Arts & Culture,Community
ATTACH;FMTTYPE=image/jpeg:https://exploresisters.com/wp-content/uploads/2025/03/galleries.jpg
END:VEVENT
END:VCALENDAR