BEGIN:VCALENDAR
VERSION:2.0
PRODID:-//Sisters Oregon - ECPv6.15.20//NONSGML v1.0//EN
CALSCALE:GREGORIAN
METHOD:PUBLISH
X-WR-CALNAME:Sisters Oregon
X-ORIGINAL-URL:https://exploresisters.com
X-WR-CALDESC:Events for Sisters Oregon
REFRESH-INTERVAL;VALUE=DURATION:PT1H
X-Robots-Tag:noindex
X-PUBLISHED-TTL:PT1H
BEGIN:VTIMEZONE
TZID:America/Los_Angeles
BEGIN:DAYLIGHT
TZOFFSETFROM:-0800
TZOFFSETTO:-0700
TZNAME:PDT
DTSTART:20250309T100000
END:DAYLIGHT
BEGIN:STANDARD
TZOFFSETFROM:-0700
TZOFFSETTO:-0800
TZNAME:PST
DTSTART:20251102T090000
END:STANDARD
BEGIN:DAYLIGHT
TZOFFSETFROM:-0800
TZOFFSETTO:-0700
TZNAME:PDT
DTSTART:20260308T100000
END:DAYLIGHT
BEGIN:STANDARD
TZOFFSETFROM:-0700
TZOFFSETTO:-0800
TZNAME:PST
DTSTART:20261101T090000
END:STANDARD
BEGIN:DAYLIGHT
TZOFFSETFROM:-0800
TZOFFSETTO:-0700
TZNAME:PDT
DTSTART:20270314T100000
END:DAYLIGHT
BEGIN:STANDARD
TZOFFSETFROM:-0700
TZOFFSETTO:-0800
TZNAME:PST
DTSTART:20271107T090000
END:STANDARD
END:VTIMEZONE
BEGIN:VEVENT
DTSTART;TZID=America/Los_Angeles:20260531T213000
DTEND;TZID=America/Los_Angeles:20260531T233000
DTSTAMP:20260421T151220
CREATED:20260218T033618Z
LAST-MODIFIED:20260218T033746Z
UID:10003962-1780263000-1780270200@exploresisters.com
SUMMARY:Stargazing Tours
DESCRIPTION:Join Starshine\, Explore Sisters\, and the Sisters Astronomy Club to marvel at our incredible universe in the gorgeous and convienent setting of downtown Sisters\, Oregon! Thanks to Explore Sisters\, you attend for free! You’ll take in the brilliance of Central Oregon’s night sky while locating constellations\, observing visible planets\, the moon\, and other celestial objects\, and listening to ancient stories about the stars. \nDark Sky Parties begin about a half hour after sunset. ​Stay after the one-hour tour to get a glimpse into the deep sky through a telescope that magnifies the naked eye by 350. Each group receives a sky map\, specialized to the month of viewing and binoculars to borrow. \nThe Party on the Full Moon focuses on our nearest celestial neighbor\, our Moon. You’ll hear an ancient story with the Moon as a main character\, and learn why our Moon is so critical to life on our planet. The Summer Solstice and Equinox Parties put a focus on the solstice/equinox with a special ancient story and facts about these pivotal nights of the year. Join us during the Perseids Meteor Shower to learn about this special annual event\, and see lots of shooting stars! \nDark Sky Parties 2026 Dates \n\nSunday 31 May 9:30PM Special Tour: Blue Full Moon\nFriday 19 June 9:30PM Special Tour : Summer Solstice\nSaturday 11 July 9:30PM\nThursday 13 August 8:45PM Special Tour: Perseids Meteor Shower\nTuesday 22 September 7:30PM Special Tour: Fall Equinox
URL:https://exploresisters.com/event/stargazing-tours/2026-05-31/
LOCATION:Cliff Clemens Park\, 550 N. Larch St\, Sisters\, 97759\, United States
CATEGORIES:Dark Sky,Outdoor Recreation
ATTACH;FMTTYPE=image/jpeg:https://exploresisters.com/wp-content/uploads/2025/05/Starshine-Stargazing-Tours-1.jpg
ORGANIZER;CN="Starshine":MAILTO:jennie@starshine-theater.com
END:VEVENT
BEGIN:VEVENT
DTSTART;TZID=America/Los_Angeles:20260619T213000
DTEND;TZID=America/Los_Angeles:20260619T233000
DTSTAMP:20260421T151220
CREATED:20260218T033618Z
LAST-MODIFIED:20260218T033746Z
UID:10003963-1781904600-1781911800@exploresisters.com
SUMMARY:Stargazing Tours
DESCRIPTION:Join Starshine\, Explore Sisters\, and the Sisters Astronomy Club to marvel at our incredible universe in the gorgeous and convienent setting of downtown Sisters\, Oregon! Thanks to Explore Sisters\, you attend for free! You’ll take in the brilliance of Central Oregon’s night sky while locating constellations\, observing visible planets\, the moon\, and other celestial objects\, and listening to ancient stories about the stars. \nDark Sky Parties begin about a half hour after sunset. ​Stay after the one-hour tour to get a glimpse into the deep sky through a telescope that magnifies the naked eye by 350. Each group receives a sky map\, specialized to the month of viewing and binoculars to borrow. \nThe Party on the Full Moon focuses on our nearest celestial neighbor\, our Moon. You’ll hear an ancient story with the Moon as a main character\, and learn why our Moon is so critical to life on our planet. The Summer Solstice and Equinox Parties put a focus on the solstice/equinox with a special ancient story and facts about these pivotal nights of the year. Join us during the Perseids Meteor Shower to learn about this special annual event\, and see lots of shooting stars! \nDark Sky Parties 2026 Dates \n\nSunday 31 May 9:30PM Special Tour: Blue Full Moon\nFriday 19 June 9:30PM Special Tour : Summer Solstice\nSaturday 11 July 9:30PM\nThursday 13 August 8:45PM Special Tour: Perseids Meteor Shower\nTuesday 22 September 7:30PM Special Tour: Fall Equinox
URL:https://exploresisters.com/event/stargazing-tours/2026-06-19/
LOCATION:Cliff Clemens Park\, 550 N. Larch St\, Sisters\, 97759\, United States
CATEGORIES:Dark Sky,Outdoor Recreation
ATTACH;FMTTYPE=image/jpeg:https://exploresisters.com/wp-content/uploads/2025/05/Starshine-Stargazing-Tours-1.jpg
ORGANIZER;CN="Starshine":MAILTO:jennie@starshine-theater.com
END:VEVENT
BEGIN:VEVENT
DTSTART;TZID=America/Los_Angeles:20260711T213000
DTEND;TZID=America/Los_Angeles:20260711T233000
DTSTAMP:20260421T151220
CREATED:20260218T033618Z
LAST-MODIFIED:20260218T033746Z
UID:10003964-1783805400-1783812600@exploresisters.com
SUMMARY:Stargazing Tours
DESCRIPTION:Join Starshine\, Explore Sisters\, and the Sisters Astronomy Club to marvel at our incredible universe in the gorgeous and convienent setting of downtown Sisters\, Oregon! Thanks to Explore Sisters\, you attend for free! You’ll take in the brilliance of Central Oregon’s night sky while locating constellations\, observing visible planets\, the moon\, and other celestial objects\, and listening to ancient stories about the stars. \nDark Sky Parties begin about a half hour after sunset. ​Stay after the one-hour tour to get a glimpse into the deep sky through a telescope that magnifies the naked eye by 350. Each group receives a sky map\, specialized to the month of viewing and binoculars to borrow. \nThe Party on the Full Moon focuses on our nearest celestial neighbor\, our Moon. You’ll hear an ancient story with the Moon as a main character\, and learn why our Moon is so critical to life on our planet. The Summer Solstice and Equinox Parties put a focus on the solstice/equinox with a special ancient story and facts about these pivotal nights of the year. Join us during the Perseids Meteor Shower to learn about this special annual event\, and see lots of shooting stars! \nDark Sky Parties 2026 Dates \n\nSunday 31 May 9:30PM Special Tour: Blue Full Moon\nFriday 19 June 9:30PM Special Tour : Summer Solstice\nSaturday 11 July 9:30PM\nThursday 13 August 8:45PM Special Tour: Perseids Meteor Shower\nTuesday 22 September 7:30PM Special Tour: Fall Equinox
URL:https://exploresisters.com/event/stargazing-tours/2026-07-11/
LOCATION:Cliff Clemens Park\, 550 N. Larch St\, Sisters\, 97759\, United States
CATEGORIES:Dark Sky,Outdoor Recreation
ATTACH;FMTTYPE=image/jpeg:https://exploresisters.com/wp-content/uploads/2025/05/Starshine-Stargazing-Tours-1.jpg
ORGANIZER;CN="Starshine":MAILTO:jennie@starshine-theater.com
END:VEVENT
BEGIN:VEVENT
DTSTART;TZID=America/Los_Angeles:20260813T204500
DTEND;TZID=America/Los_Angeles:20260813T224500
DTSTAMP:20260421T151220
CREATED:20260218T033618Z
LAST-MODIFIED:20260218T033746Z
UID:10003965-1786653900-1786661100@exploresisters.com
SUMMARY:Stargazing Tours
DESCRIPTION:Join Starshine\, Explore Sisters\, and the Sisters Astronomy Club to marvel at our incredible universe in the gorgeous and convienent setting of downtown Sisters\, Oregon! Thanks to Explore Sisters\, you attend for free! You’ll take in the brilliance of Central Oregon’s night sky while locating constellations\, observing visible planets\, the moon\, and other celestial objects\, and listening to ancient stories about the stars. \nDark Sky Parties begin about a half hour after sunset. ​Stay after the one-hour tour to get a glimpse into the deep sky through a telescope that magnifies the naked eye by 350. Each group receives a sky map\, specialized to the month of viewing and binoculars to borrow. \nThe Party on the Full Moon focuses on our nearest celestial neighbor\, our Moon. You’ll hear an ancient story with the Moon as a main character\, and learn why our Moon is so critical to life on our planet. The Summer Solstice and Equinox Parties put a focus on the solstice/equinox with a special ancient story and facts about these pivotal nights of the year. Join us during the Perseids Meteor Shower to learn about this special annual event\, and see lots of shooting stars! \nDark Sky Parties 2026 Dates \n\nSunday 31 May 9:30PM Special Tour: Blue Full Moon\nFriday 19 June 9:30PM Special Tour : Summer Solstice\nSaturday 11 July 9:30PM\nThursday 13 August 8:45PM Special Tour: Perseids Meteor Shower\nTuesday 22 September 7:30PM Special Tour: Fall Equinox
URL:https://exploresisters.com/event/stargazing-tours/2026-08-13/
LOCATION:Cliff Clemens Park\, 550 N. Larch St\, Sisters\, 97759\, United States
CATEGORIES:Dark Sky,Outdoor Recreation
ATTACH;FMTTYPE=image/jpeg:https://exploresisters.com/wp-content/uploads/2025/05/Starshine-Stargazing-Tours-1.jpg
ORGANIZER;CN="Starshine":MAILTO:jennie@starshine-theater.com
END:VEVENT
BEGIN:VEVENT
DTSTART;TZID=America/Los_Angeles:20260922T193000
DTEND;TZID=America/Los_Angeles:20260922T213000
DTSTAMP:20260421T151220
CREATED:20260218T033618Z
LAST-MODIFIED:20260218T033746Z
UID:10003966-1790105400-1790112600@exploresisters.com
SUMMARY:Stargazing Tours
DESCRIPTION:Join Starshine\, Explore Sisters\, and the Sisters Astronomy Club to marvel at our incredible universe in the gorgeous and convienent setting of downtown Sisters\, Oregon! Thanks to Explore Sisters\, you attend for free! You’ll take in the brilliance of Central Oregon’s night sky while locating constellations\, observing visible planets\, the moon\, and other celestial objects\, and listening to ancient stories about the stars. \nDark Sky Parties begin about a half hour after sunset. ​Stay after the one-hour tour to get a glimpse into the deep sky through a telescope that magnifies the naked eye by 350. Each group receives a sky map\, specialized to the month of viewing and binoculars to borrow. \nThe Party on the Full Moon focuses on our nearest celestial neighbor\, our Moon. You’ll hear an ancient story with the Moon as a main character\, and learn why our Moon is so critical to life on our planet. The Summer Solstice and Equinox Parties put a focus on the solstice/equinox with a special ancient story and facts about these pivotal nights of the year. Join us during the Perseids Meteor Shower to learn about this special annual event\, and see lots of shooting stars! \nDark Sky Parties 2026 Dates \n\nSunday 31 May 9:30PM Special Tour: Blue Full Moon\nFriday 19 June 9:30PM Special Tour : Summer Solstice\nSaturday 11 July 9:30PM\nThursday 13 August 8:45PM Special Tour: Perseids Meteor Shower\nTuesday 22 September 7:30PM Special Tour: Fall Equinox
URL:https://exploresisters.com/event/stargazing-tours/2026-09-22/
LOCATION:Cliff Clemens Park\, 550 N. Larch St\, Sisters\, 97759\, United States
CATEGORIES:Dark Sky,Outdoor Recreation
ATTACH;FMTTYPE=image/jpeg:https://exploresisters.com/wp-content/uploads/2025/05/Starshine-Stargazing-Tours-1.jpg
ORGANIZER;CN="Starshine":MAILTO:jennie@starshine-theater.com
END:VEVENT
END:VCALENDAR