BEGIN:VCALENDAR
VERSION:2.0
PRODID:-//Sisters Oregon - ECPv6.15.20//NONSGML v1.0//EN
CALSCALE:GREGORIAN
METHOD:PUBLISH
X-ORIGINAL-URL:https://exploresisters.com
X-WR-CALDESC:Events for Sisters Oregon
REFRESH-INTERVAL;VALUE=DURATION:PT1H
X-Robots-Tag:noindex
X-PUBLISHED-TTL:PT1H
BEGIN:VTIMEZONE
TZID:America/Los_Angeles
BEGIN:DAYLIGHT
TZOFFSETFROM:-0800
TZOFFSETTO:-0700
TZNAME:PDT
DTSTART:20250309T100000
END:DAYLIGHT
BEGIN:STANDARD
TZOFFSETFROM:-0700
TZOFFSETTO:-0800
TZNAME:PST
DTSTART:20251102T090000
END:STANDARD
BEGIN:DAYLIGHT
TZOFFSETFROM:-0800
TZOFFSETTO:-0700
TZNAME:PDT
DTSTART:20260308T100000
END:DAYLIGHT
BEGIN:STANDARD
TZOFFSETFROM:-0700
TZOFFSETTO:-0800
TZNAME:PST
DTSTART:20261101T090000
END:STANDARD
BEGIN:DAYLIGHT
TZOFFSETFROM:-0800
TZOFFSETTO:-0700
TZNAME:PDT
DTSTART:20270314T100000
END:DAYLIGHT
BEGIN:STANDARD
TZOFFSETFROM:-0700
TZOFFSETTO:-0800
TZNAME:PST
DTSTART:20271107T090000
END:STANDARD
BEGIN:DAYLIGHT
TZOFFSETFROM:-0800
TZOFFSETTO:-0700
TZNAME:PDT
DTSTART:20280312T100000
END:DAYLIGHT
BEGIN:STANDARD
TZOFFSETFROM:-0700
TZOFFSETTO:-0800
TZNAME:PST
DTSTART:20281105T090000
END:STANDARD
BEGIN:DAYLIGHT
TZOFFSETFROM:-0800
TZOFFSETTO:-0700
TZNAME:PDT
DTSTART:20290311T100000
END:DAYLIGHT
BEGIN:STANDARD
TZOFFSETFROM:-0700
TZOFFSETTO:-0800
TZNAME:PST
DTSTART:20291104T090000
END:STANDARD
END:VTIMEZONE
BEGIN:VEVENT
DTSTART;TZID=America/Los_Angeles:20260516T190000
DTEND;TZID=America/Los_Angeles:20260516T210000
DTSTAMP:20260422T050750
CREATED:20260220T013708Z
LAST-MODIFIED:20260220T013708Z
UID:10004003-1778958000-1778965200@exploresisters.com
SUMMARY:Open Mic Night @ Frankie's
DESCRIPTION:Frankie’s monthly Open Mic gives Sisters Country musicians a place to hear each other\, cross-pollinate\, and build musical community. For music lovers\, it’s a chance to see a variety of local talent\, in a lively atmosphere. Food and shareables available.
URL:https://exploresisters.com/event/open-mic-night-frankies/2026-05-16/
LOCATION:Frankie’s\, 250 W Cascade Ave\, Sisters\, 97759\, United States
CATEGORIES:Music
ATTACH;FMTTYPE=image/jpeg:https://exploresisters.com/wp-content/uploads/2025/10/just-duets-1.jpg
END:VEVENT
BEGIN:VEVENT
DTSTART;TZID=America/Los_Angeles:20260620T190000
DTEND;TZID=America/Los_Angeles:20260620T210000
DTSTAMP:20260422T050750
CREATED:20260220T013708Z
LAST-MODIFIED:20260220T013708Z
UID:10004004-1781982000-1781989200@exploresisters.com
SUMMARY:Open Mic Night @ Frankie's
DESCRIPTION:Frankie’s monthly Open Mic gives Sisters Country musicians a place to hear each other\, cross-pollinate\, and build musical community. For music lovers\, it’s a chance to see a variety of local talent\, in a lively atmosphere. Food and shareables available.
URL:https://exploresisters.com/event/open-mic-night-frankies/2026-06-20/
LOCATION:Frankie’s\, 250 W Cascade Ave\, Sisters\, 97759\, United States
CATEGORIES:Music
ATTACH;FMTTYPE=image/jpeg:https://exploresisters.com/wp-content/uploads/2025/10/just-duets-1.jpg
END:VEVENT
BEGIN:VEVENT
DTSTART;TZID=America/Los_Angeles:20260718T190000
DTEND;TZID=America/Los_Angeles:20260718T210000
DTSTAMP:20260422T050750
CREATED:20260220T013708Z
LAST-MODIFIED:20260220T013708Z
UID:10004005-1784401200-1784408400@exploresisters.com
SUMMARY:Open Mic Night @ Frankie's
DESCRIPTION:Frankie’s monthly Open Mic gives Sisters Country musicians a place to hear each other\, cross-pollinate\, and build musical community. For music lovers\, it’s a chance to see a variety of local talent\, in a lively atmosphere. Food and shareables available.
URL:https://exploresisters.com/event/open-mic-night-frankies/2026-07-18/
LOCATION:Frankie’s\, 250 W Cascade Ave\, Sisters\, 97759\, United States
CATEGORIES:Music
ATTACH;FMTTYPE=image/jpeg:https://exploresisters.com/wp-content/uploads/2025/10/just-duets-1.jpg
END:VEVENT
BEGIN:VEVENT
DTSTART;TZID=America/Los_Angeles:20260815T190000
DTEND;TZID=America/Los_Angeles:20260815T210000
DTSTAMP:20260422T050750
CREATED:20260220T013708Z
LAST-MODIFIED:20260220T013708Z
UID:10004006-1786820400-1786827600@exploresisters.com
SUMMARY:Open Mic Night @ Frankie's
DESCRIPTION:Frankie’s monthly Open Mic gives Sisters Country musicians a place to hear each other\, cross-pollinate\, and build musical community. For music lovers\, it’s a chance to see a variety of local talent\, in a lively atmosphere. Food and shareables available.
URL:https://exploresisters.com/event/open-mic-night-frankies/2026-08-15/
LOCATION:Frankie’s\, 250 W Cascade Ave\, Sisters\, 97759\, United States
CATEGORIES:Music
ATTACH;FMTTYPE=image/jpeg:https://exploresisters.com/wp-content/uploads/2025/10/just-duets-1.jpg
END:VEVENT
BEGIN:VEVENT
DTSTART;TZID=America/Los_Angeles:20260919T190000
DTEND;TZID=America/Los_Angeles:20260919T210000
DTSTAMP:20260422T050750
CREATED:20260220T013708Z
LAST-MODIFIED:20260220T013708Z
UID:10004007-1789844400-1789851600@exploresisters.com
SUMMARY:Open Mic Night @ Frankie's
DESCRIPTION:Frankie’s monthly Open Mic gives Sisters Country musicians a place to hear each other\, cross-pollinate\, and build musical community. For music lovers\, it’s a chance to see a variety of local talent\, in a lively atmosphere. Food and shareables available.
URL:https://exploresisters.com/event/open-mic-night-frankies/2026-09-19/
LOCATION:Frankie’s\, 250 W Cascade Ave\, Sisters\, 97759\, United States
CATEGORIES:Music
ATTACH;FMTTYPE=image/jpeg:https://exploresisters.com/wp-content/uploads/2025/10/just-duets-1.jpg
END:VEVENT
BEGIN:VEVENT
DTSTART;TZID=America/Los_Angeles:20261017T190000
DTEND;TZID=America/Los_Angeles:20261017T210000
DTSTAMP:20260422T050750
CREATED:20260220T013708Z
LAST-MODIFIED:20260220T013708Z
UID:10004008-1792263600-1792270800@exploresisters.com
SUMMARY:Open Mic Night @ Frankie's
DESCRIPTION:Frankie’s monthly Open Mic gives Sisters Country musicians a place to hear each other\, cross-pollinate\, and build musical community. For music lovers\, it’s a chance to see a variety of local talent\, in a lively atmosphere. Food and shareables available.
URL:https://exploresisters.com/event/open-mic-night-frankies/2026-10-17/
LOCATION:Frankie’s\, 250 W Cascade Ave\, Sisters\, 97759\, United States
CATEGORIES:Music
ATTACH;FMTTYPE=image/jpeg:https://exploresisters.com/wp-content/uploads/2025/10/just-duets-1.jpg
END:VEVENT
BEGIN:VEVENT
DTSTART;TZID=America/Los_Angeles:20261121T190000
DTEND;TZID=America/Los_Angeles:20261121T210000
DTSTAMP:20260422T050750
CREATED:20260220T013708Z
LAST-MODIFIED:20260220T013708Z
UID:10004009-1795287600-1795294800@exploresisters.com
SUMMARY:Open Mic Night @ Frankie's
DESCRIPTION:Frankie’s monthly Open Mic gives Sisters Country musicians a place to hear each other\, cross-pollinate\, and build musical community. For music lovers\, it’s a chance to see a variety of local talent\, in a lively atmosphere. Food and shareables available.
URL:https://exploresisters.com/event/open-mic-night-frankies/2026-11-21/
LOCATION:Frankie’s\, 250 W Cascade Ave\, Sisters\, 97759\, United States
CATEGORIES:Music
ATTACH;FMTTYPE=image/jpeg:https://exploresisters.com/wp-content/uploads/2025/10/just-duets-1.jpg
END:VEVENT
BEGIN:VEVENT
DTSTART;TZID=America/Los_Angeles:20261219T190000
DTEND;TZID=America/Los_Angeles:20261219T210000
DTSTAMP:20260422T050750
CREATED:20260220T013708Z
LAST-MODIFIED:20260220T013708Z
UID:10004010-1797706800-1797714000@exploresisters.com
SUMMARY:Open Mic Night @ Frankie's
DESCRIPTION:Frankie’s monthly Open Mic gives Sisters Country musicians a place to hear each other\, cross-pollinate\, and build musical community. For music lovers\, it’s a chance to see a variety of local talent\, in a lively atmosphere. Food and shareables available.
URL:https://exploresisters.com/event/open-mic-night-frankies/2026-12-19/
LOCATION:Frankie’s\, 250 W Cascade Ave\, Sisters\, 97759\, United States
CATEGORIES:Music
ATTACH;FMTTYPE=image/jpeg:https://exploresisters.com/wp-content/uploads/2025/10/just-duets-1.jpg
END:VEVENT
BEGIN:VEVENT
DTSTART;TZID=America/Los_Angeles:20270116T190000
DTEND;TZID=America/Los_Angeles:20270116T210000
DTSTAMP:20260422T050750
CREATED:20260220T013708Z
LAST-MODIFIED:20260220T013708Z
UID:10004011-1800126000-1800133200@exploresisters.com
SUMMARY:Open Mic Night @ Frankie's
DESCRIPTION:Frankie’s monthly Open Mic gives Sisters Country musicians a place to hear each other\, cross-pollinate\, and build musical community. For music lovers\, it’s a chance to see a variety of local talent\, in a lively atmosphere. Food and shareables available.
URL:https://exploresisters.com/event/open-mic-night-frankies/2027-01-16/
LOCATION:Frankie’s\, 250 W Cascade Ave\, Sisters\, 97759\, United States
CATEGORIES:Music
ATTACH;FMTTYPE=image/jpeg:https://exploresisters.com/wp-content/uploads/2025/10/just-duets-1.jpg
END:VEVENT
BEGIN:VEVENT
DTSTART;TZID=America/Los_Angeles:20270220T190000
DTEND;TZID=America/Los_Angeles:20270220T210000
DTSTAMP:20260422T050750
CREATED:20260220T013708Z
LAST-MODIFIED:20260220T013708Z
UID:10004012-1803150000-1803157200@exploresisters.com
SUMMARY:Open Mic Night @ Frankie's
DESCRIPTION:Frankie’s monthly Open Mic gives Sisters Country musicians a place to hear each other\, cross-pollinate\, and build musical community. For music lovers\, it’s a chance to see a variety of local talent\, in a lively atmosphere. Food and shareables available.
URL:https://exploresisters.com/event/open-mic-night-frankies/2027-02-20/
LOCATION:Frankie’s\, 250 W Cascade Ave\, Sisters\, 97759\, United States
CATEGORIES:Music
ATTACH;FMTTYPE=image/jpeg:https://exploresisters.com/wp-content/uploads/2025/10/just-duets-1.jpg
END:VEVENT
BEGIN:VEVENT
DTSTART;TZID=America/Los_Angeles:20270320T190000
DTEND;TZID=America/Los_Angeles:20270320T210000
DTSTAMP:20260422T050750
CREATED:20260220T013708Z
LAST-MODIFIED:20260220T013708Z
UID:10004013-1805569200-1805576400@exploresisters.com
SUMMARY:Open Mic Night @ Frankie's
DESCRIPTION:Frankie’s monthly Open Mic gives Sisters Country musicians a place to hear each other\, cross-pollinate\, and build musical community. For music lovers\, it’s a chance to see a variety of local talent\, in a lively atmosphere. Food and shareables available.
URL:https://exploresisters.com/event/open-mic-night-frankies/2027-03-20/
LOCATION:Frankie’s\, 250 W Cascade Ave\, Sisters\, 97759\, United States
CATEGORIES:Music
ATTACH;FMTTYPE=image/jpeg:https://exploresisters.com/wp-content/uploads/2025/10/just-duets-1.jpg
END:VEVENT
BEGIN:VEVENT
DTSTART;TZID=America/Los_Angeles:20270417T190000
DTEND;TZID=America/Los_Angeles:20270417T210000
DTSTAMP:20260422T050750
CREATED:20260220T013708Z
LAST-MODIFIED:20260220T013708Z
UID:10004014-1807988400-1807995600@exploresisters.com
SUMMARY:Open Mic Night @ Frankie's
DESCRIPTION:Frankie’s monthly Open Mic gives Sisters Country musicians a place to hear each other\, cross-pollinate\, and build musical community. For music lovers\, it’s a chance to see a variety of local talent\, in a lively atmosphere. Food and shareables available.
URL:https://exploresisters.com/event/open-mic-night-frankies/2027-04-17/
LOCATION:Frankie’s\, 250 W Cascade Ave\, Sisters\, 97759\, United States
CATEGORIES:Music
ATTACH;FMTTYPE=image/jpeg:https://exploresisters.com/wp-content/uploads/2025/10/just-duets-1.jpg
END:VEVENT
BEGIN:VEVENT
DTSTART;TZID=America/Los_Angeles:20270515T190000
DTEND;TZID=America/Los_Angeles:20270515T210000
DTSTAMP:20260422T050750
CREATED:20260220T013708Z
LAST-MODIFIED:20260220T013708Z
UID:10004015-1810407600-1810414800@exploresisters.com
SUMMARY:Open Mic Night @ Frankie's
DESCRIPTION:Frankie’s monthly Open Mic gives Sisters Country musicians a place to hear each other\, cross-pollinate\, and build musical community. For music lovers\, it’s a chance to see a variety of local talent\, in a lively atmosphere. Food and shareables available.
URL:https://exploresisters.com/event/open-mic-night-frankies/2027-05-15/
LOCATION:Frankie’s\, 250 W Cascade Ave\, Sisters\, 97759\, United States
CATEGORIES:Music
ATTACH;FMTTYPE=image/jpeg:https://exploresisters.com/wp-content/uploads/2025/10/just-duets-1.jpg
END:VEVENT
BEGIN:VEVENT
DTSTART;TZID=America/Los_Angeles:20270619T190000
DTEND;TZID=America/Los_Angeles:20270619T210000
DTSTAMP:20260422T050750
CREATED:20260220T013708Z
LAST-MODIFIED:20260220T013708Z
UID:10004016-1813431600-1813438800@exploresisters.com
SUMMARY:Open Mic Night @ Frankie's
DESCRIPTION:Frankie’s monthly Open Mic gives Sisters Country musicians a place to hear each other\, cross-pollinate\, and build musical community. For music lovers\, it’s a chance to see a variety of local talent\, in a lively atmosphere. Food and shareables available.
URL:https://exploresisters.com/event/open-mic-night-frankies/2027-06-19/
LOCATION:Frankie’s\, 250 W Cascade Ave\, Sisters\, 97759\, United States
CATEGORIES:Music
ATTACH;FMTTYPE=image/jpeg:https://exploresisters.com/wp-content/uploads/2025/10/just-duets-1.jpg
END:VEVENT
BEGIN:VEVENT
DTSTART;TZID=America/Los_Angeles:20270717T190000
DTEND;TZID=America/Los_Angeles:20270717T210000
DTSTAMP:20260422T050750
CREATED:20260220T013708Z
LAST-MODIFIED:20260220T013708Z
UID:10004017-1815850800-1815858000@exploresisters.com
SUMMARY:Open Mic Night @ Frankie's
DESCRIPTION:Frankie’s monthly Open Mic gives Sisters Country musicians a place to hear each other\, cross-pollinate\, and build musical community. For music lovers\, it’s a chance to see a variety of local talent\, in a lively atmosphere. Food and shareables available.
URL:https://exploresisters.com/event/open-mic-night-frankies/2027-07-17/
LOCATION:Frankie’s\, 250 W Cascade Ave\, Sisters\, 97759\, United States
CATEGORIES:Music
ATTACH;FMTTYPE=image/jpeg:https://exploresisters.com/wp-content/uploads/2025/10/just-duets-1.jpg
END:VEVENT
BEGIN:VEVENT
DTSTART;TZID=America/Los_Angeles:20270821T190000
DTEND;TZID=America/Los_Angeles:20270821T210000
DTSTAMP:20260422T050750
CREATED:20260220T013708Z
LAST-MODIFIED:20260220T013708Z
UID:10004018-1818874800-1818882000@exploresisters.com
SUMMARY:Open Mic Night @ Frankie's
DESCRIPTION:Frankie’s monthly Open Mic gives Sisters Country musicians a place to hear each other\, cross-pollinate\, and build musical community. For music lovers\, it’s a chance to see a variety of local talent\, in a lively atmosphere. Food and shareables available.
URL:https://exploresisters.com/event/open-mic-night-frankies/2027-08-21/
LOCATION:Frankie’s\, 250 W Cascade Ave\, Sisters\, 97759\, United States
CATEGORIES:Music
ATTACH;FMTTYPE=image/jpeg:https://exploresisters.com/wp-content/uploads/2025/10/just-duets-1.jpg
END:VEVENT
BEGIN:VEVENT
DTSTART;TZID=America/Los_Angeles:20270918T190000
DTEND;TZID=America/Los_Angeles:20270918T210000
DTSTAMP:20260422T050750
CREATED:20260220T013708Z
LAST-MODIFIED:20260220T013708Z
UID:10004019-1821294000-1821301200@exploresisters.com
SUMMARY:Open Mic Night @ Frankie's
DESCRIPTION:Frankie’s monthly Open Mic gives Sisters Country musicians a place to hear each other\, cross-pollinate\, and build musical community. For music lovers\, it’s a chance to see a variety of local talent\, in a lively atmosphere. Food and shareables available.
URL:https://exploresisters.com/event/open-mic-night-frankies/2027-09-18/
LOCATION:Frankie’s\, 250 W Cascade Ave\, Sisters\, 97759\, United States
CATEGORIES:Music
ATTACH;FMTTYPE=image/jpeg:https://exploresisters.com/wp-content/uploads/2025/10/just-duets-1.jpg
END:VEVENT
BEGIN:VEVENT
DTSTART;TZID=America/Los_Angeles:20271016T190000
DTEND;TZID=America/Los_Angeles:20271016T210000
DTSTAMP:20260422T050750
CREATED:20260220T013708Z
LAST-MODIFIED:20260220T013708Z
UID:10004020-1823713200-1823720400@exploresisters.com
SUMMARY:Open Mic Night @ Frankie's
DESCRIPTION:Frankie’s monthly Open Mic gives Sisters Country musicians a place to hear each other\, cross-pollinate\, and build musical community. For music lovers\, it’s a chance to see a variety of local talent\, in a lively atmosphere. Food and shareables available.
URL:https://exploresisters.com/event/open-mic-night-frankies/2027-10-16/
LOCATION:Frankie’s\, 250 W Cascade Ave\, Sisters\, 97759\, United States
CATEGORIES:Music
ATTACH;FMTTYPE=image/jpeg:https://exploresisters.com/wp-content/uploads/2025/10/just-duets-1.jpg
END:VEVENT
BEGIN:VEVENT
DTSTART;TZID=America/Los_Angeles:20271120T190000
DTEND;TZID=America/Los_Angeles:20271120T210000
DTSTAMP:20260422T050750
CREATED:20260220T013708Z
LAST-MODIFIED:20260220T013708Z
UID:10004021-1826737200-1826744400@exploresisters.com
SUMMARY:Open Mic Night @ Frankie's
DESCRIPTION:Frankie’s monthly Open Mic gives Sisters Country musicians a place to hear each other\, cross-pollinate\, and build musical community. For music lovers\, it’s a chance to see a variety of local talent\, in a lively atmosphere. Food and shareables available.
URL:https://exploresisters.com/event/open-mic-night-frankies/2027-11-20/
LOCATION:Frankie’s\, 250 W Cascade Ave\, Sisters\, 97759\, United States
CATEGORIES:Music
ATTACH;FMTTYPE=image/jpeg:https://exploresisters.com/wp-content/uploads/2025/10/just-duets-1.jpg
END:VEVENT
BEGIN:VEVENT
DTSTART;TZID=America/Los_Angeles:20271218T190000
DTEND;TZID=America/Los_Angeles:20271218T210000
DTSTAMP:20260422T050751
CREATED:20260220T013708Z
LAST-MODIFIED:20260220T013708Z
UID:10004022-1829156400-1829163600@exploresisters.com
SUMMARY:Open Mic Night @ Frankie's
DESCRIPTION:Frankie’s monthly Open Mic gives Sisters Country musicians a place to hear each other\, cross-pollinate\, and build musical community. For music lovers\, it’s a chance to see a variety of local talent\, in a lively atmosphere. Food and shareables available.
URL:https://exploresisters.com/event/open-mic-night-frankies/2027-12-18/
LOCATION:Frankie’s\, 250 W Cascade Ave\, Sisters\, 97759\, United States
CATEGORIES:Music
ATTACH;FMTTYPE=image/jpeg:https://exploresisters.com/wp-content/uploads/2025/10/just-duets-1.jpg
END:VEVENT
BEGIN:VEVENT
DTSTART;TZID=America/Los_Angeles:20280115T190000
DTEND;TZID=America/Los_Angeles:20280115T210000
DTSTAMP:20260422T050751
CREATED:20260220T013708Z
LAST-MODIFIED:20260220T013708Z
UID:10004023-1831575600-1831582800@exploresisters.com
SUMMARY:Open Mic Night @ Frankie's
DESCRIPTION:Frankie’s monthly Open Mic gives Sisters Country musicians a place to hear each other\, cross-pollinate\, and build musical community. For music lovers\, it’s a chance to see a variety of local talent\, in a lively atmosphere. Food and shareables available.
URL:https://exploresisters.com/event/open-mic-night-frankies/2028-01-15/
LOCATION:Frankie’s\, 250 W Cascade Ave\, Sisters\, 97759\, United States
CATEGORIES:Music
ATTACH;FMTTYPE=image/jpeg:https://exploresisters.com/wp-content/uploads/2025/10/just-duets-1.jpg
END:VEVENT
BEGIN:VEVENT
DTSTART;TZID=America/Los_Angeles:20280219T190000
DTEND;TZID=America/Los_Angeles:20280219T210000
DTSTAMP:20260422T050751
CREATED:20260220T013708Z
LAST-MODIFIED:20260220T013708Z
UID:10004024-1834599600-1834606800@exploresisters.com
SUMMARY:Open Mic Night @ Frankie's
DESCRIPTION:Frankie’s monthly Open Mic gives Sisters Country musicians a place to hear each other\, cross-pollinate\, and build musical community. For music lovers\, it’s a chance to see a variety of local talent\, in a lively atmosphere. Food and shareables available.
URL:https://exploresisters.com/event/open-mic-night-frankies/2028-02-19/
LOCATION:Frankie’s\, 250 W Cascade Ave\, Sisters\, 97759\, United States
CATEGORIES:Music
ATTACH;FMTTYPE=image/jpeg:https://exploresisters.com/wp-content/uploads/2025/10/just-duets-1.jpg
END:VEVENT
BEGIN:VEVENT
DTSTART;TZID=America/Los_Angeles:20280318T190000
DTEND;TZID=America/Los_Angeles:20280318T210000
DTSTAMP:20260422T050751
CREATED:20260220T013708Z
LAST-MODIFIED:20260220T013708Z
UID:10004025-1837018800-1837026000@exploresisters.com
SUMMARY:Open Mic Night @ Frankie's
DESCRIPTION:Frankie’s monthly Open Mic gives Sisters Country musicians a place to hear each other\, cross-pollinate\, and build musical community. For music lovers\, it’s a chance to see a variety of local talent\, in a lively atmosphere. Food and shareables available.
URL:https://exploresisters.com/event/open-mic-night-frankies/2028-03-18/
LOCATION:Frankie’s\, 250 W Cascade Ave\, Sisters\, 97759\, United States
CATEGORIES:Music
ATTACH;FMTTYPE=image/jpeg:https://exploresisters.com/wp-content/uploads/2025/10/just-duets-1.jpg
END:VEVENT
BEGIN:VEVENT
DTSTART;TZID=America/Los_Angeles:20280415T190000
DTEND;TZID=America/Los_Angeles:20280415T210000
DTSTAMP:20260422T050751
CREATED:20260220T013708Z
LAST-MODIFIED:20260220T013708Z
UID:10004026-1839438000-1839445200@exploresisters.com
SUMMARY:Open Mic Night @ Frankie's
DESCRIPTION:Frankie’s monthly Open Mic gives Sisters Country musicians a place to hear each other\, cross-pollinate\, and build musical community. For music lovers\, it’s a chance to see a variety of local talent\, in a lively atmosphere. Food and shareables available.
URL:https://exploresisters.com/event/open-mic-night-frankies/2028-04-15/
LOCATION:Frankie’s\, 250 W Cascade Ave\, Sisters\, 97759\, United States
CATEGORIES:Music
ATTACH;FMTTYPE=image/jpeg:https://exploresisters.com/wp-content/uploads/2025/10/just-duets-1.jpg
END:VEVENT
BEGIN:VEVENT
DTSTART;TZID=America/Los_Angeles:20280520T190000
DTEND;TZID=America/Los_Angeles:20280520T210000
DTSTAMP:20260422T050751
CREATED:20260220T013708Z
LAST-MODIFIED:20260220T013708Z
UID:10004027-1842462000-1842469200@exploresisters.com
SUMMARY:Open Mic Night @ Frankie's
DESCRIPTION:Frankie’s monthly Open Mic gives Sisters Country musicians a place to hear each other\, cross-pollinate\, and build musical community. For music lovers\, it’s a chance to see a variety of local talent\, in a lively atmosphere. Food and shareables available.
URL:https://exploresisters.com/event/open-mic-night-frankies/2028-05-20/
LOCATION:Frankie’s\, 250 W Cascade Ave\, Sisters\, 97759\, United States
CATEGORIES:Music
ATTACH;FMTTYPE=image/jpeg:https://exploresisters.com/wp-content/uploads/2025/10/just-duets-1.jpg
END:VEVENT
BEGIN:VEVENT
DTSTART;TZID=America/Los_Angeles:20280617T190000
DTEND;TZID=America/Los_Angeles:20280617T210000
DTSTAMP:20260422T050751
CREATED:20260220T013708Z
LAST-MODIFIED:20260220T013708Z
UID:10004028-1844881200-1844888400@exploresisters.com
SUMMARY:Open Mic Night @ Frankie's
DESCRIPTION:Frankie’s monthly Open Mic gives Sisters Country musicians a place to hear each other\, cross-pollinate\, and build musical community. For music lovers\, it’s a chance to see a variety of local talent\, in a lively atmosphere. Food and shareables available.
URL:https://exploresisters.com/event/open-mic-night-frankies/2028-06-17/
LOCATION:Frankie’s\, 250 W Cascade Ave\, Sisters\, 97759\, United States
CATEGORIES:Music
ATTACH;FMTTYPE=image/jpeg:https://exploresisters.com/wp-content/uploads/2025/10/just-duets-1.jpg
END:VEVENT
BEGIN:VEVENT
DTSTART;TZID=America/Los_Angeles:20280715T190000
DTEND;TZID=America/Los_Angeles:20280715T210000
DTSTAMP:20260422T050751
CREATED:20260220T013708Z
LAST-MODIFIED:20260220T013708Z
UID:10004029-1847300400-1847307600@exploresisters.com
SUMMARY:Open Mic Night @ Frankie's
DESCRIPTION:Frankie’s monthly Open Mic gives Sisters Country musicians a place to hear each other\, cross-pollinate\, and build musical community. For music lovers\, it’s a chance to see a variety of local talent\, in a lively atmosphere. Food and shareables available.
URL:https://exploresisters.com/event/open-mic-night-frankies/2028-07-15/
LOCATION:Frankie’s\, 250 W Cascade Ave\, Sisters\, 97759\, United States
CATEGORIES:Music
ATTACH;FMTTYPE=image/jpeg:https://exploresisters.com/wp-content/uploads/2025/10/just-duets-1.jpg
END:VEVENT
BEGIN:VEVENT
DTSTART;TZID=America/Los_Angeles:20280819T190000
DTEND;TZID=America/Los_Angeles:20280819T210000
DTSTAMP:20260422T050751
CREATED:20260220T013708Z
LAST-MODIFIED:20260220T013708Z
UID:10004030-1850324400-1850331600@exploresisters.com
SUMMARY:Open Mic Night @ Frankie's
DESCRIPTION:Frankie’s monthly Open Mic gives Sisters Country musicians a place to hear each other\, cross-pollinate\, and build musical community. For music lovers\, it’s a chance to see a variety of local talent\, in a lively atmosphere. Food and shareables available.
URL:https://exploresisters.com/event/open-mic-night-frankies/2028-08-19/
LOCATION:Frankie’s\, 250 W Cascade Ave\, Sisters\, 97759\, United States
CATEGORIES:Music
ATTACH;FMTTYPE=image/jpeg:https://exploresisters.com/wp-content/uploads/2025/10/just-duets-1.jpg
END:VEVENT
BEGIN:VEVENT
DTSTART;TZID=America/Los_Angeles:20280916T190000
DTEND;TZID=America/Los_Angeles:20280916T210000
DTSTAMP:20260422T050751
CREATED:20260220T013708Z
LAST-MODIFIED:20260220T013708Z
UID:10004031-1852743600-1852750800@exploresisters.com
SUMMARY:Open Mic Night @ Frankie's
DESCRIPTION:Frankie’s monthly Open Mic gives Sisters Country musicians a place to hear each other\, cross-pollinate\, and build musical community. For music lovers\, it’s a chance to see a variety of local talent\, in a lively atmosphere. Food and shareables available.
URL:https://exploresisters.com/event/open-mic-night-frankies/2028-09-16/
LOCATION:Frankie’s\, 250 W Cascade Ave\, Sisters\, 97759\, United States
CATEGORIES:Music
ATTACH;FMTTYPE=image/jpeg:https://exploresisters.com/wp-content/uploads/2025/10/just-duets-1.jpg
END:VEVENT
BEGIN:VEVENT
DTSTART;TZID=America/Los_Angeles:20281021T190000
DTEND;TZID=America/Los_Angeles:20281021T210000
DTSTAMP:20260422T050751
CREATED:20260220T013708Z
LAST-MODIFIED:20260220T013708Z
UID:10004032-1855767600-1855774800@exploresisters.com
SUMMARY:Open Mic Night @ Frankie's
DESCRIPTION:Frankie’s monthly Open Mic gives Sisters Country musicians a place to hear each other\, cross-pollinate\, and build musical community. For music lovers\, it’s a chance to see a variety of local talent\, in a lively atmosphere. Food and shareables available.
URL:https://exploresisters.com/event/open-mic-night-frankies/2028-10-21/
LOCATION:Frankie’s\, 250 W Cascade Ave\, Sisters\, 97759\, United States
CATEGORIES:Music
ATTACH;FMTTYPE=image/jpeg:https://exploresisters.com/wp-content/uploads/2025/10/just-duets-1.jpg
END:VEVENT
END:VCALENDAR