BEGIN:VCALENDAR
VERSION:2.0
PRODID:-//Sisters Oregon - ECPv6.15.20//NONSGML v1.0//EN
CALSCALE:GREGORIAN
METHOD:PUBLISH
X-WR-CALNAME:Sisters Oregon
X-ORIGINAL-URL:https://exploresisters.com
X-WR-CALDESC:Events for Sisters Oregon
REFRESH-INTERVAL;VALUE=DURATION:PT1H
X-Robots-Tag:noindex
X-PUBLISHED-TTL:PT1H
BEGIN:VTIMEZONE
TZID:America/Los_Angeles
BEGIN:DAYLIGHT
TZOFFSETFROM:-0800
TZOFFSETTO:-0700
TZNAME:PDT
DTSTART:20250309T100000
END:DAYLIGHT
BEGIN:STANDARD
TZOFFSETFROM:-0700
TZOFFSETTO:-0800
TZNAME:PST
DTSTART:20251102T090000
END:STANDARD
BEGIN:DAYLIGHT
TZOFFSETFROM:-0800
TZOFFSETTO:-0700
TZNAME:PDT
DTSTART:20260308T100000
END:DAYLIGHT
BEGIN:STANDARD
TZOFFSETFROM:-0700
TZOFFSETTO:-0800
TZNAME:PST
DTSTART:20261101T090000
END:STANDARD
BEGIN:DAYLIGHT
TZOFFSETFROM:-0800
TZOFFSETTO:-0700
TZNAME:PDT
DTSTART:20270314T100000
END:DAYLIGHT
BEGIN:STANDARD
TZOFFSETFROM:-0700
TZOFFSETTO:-0800
TZNAME:PST
DTSTART:20271107T090000
END:STANDARD
BEGIN:DAYLIGHT
TZOFFSETFROM:-0800
TZOFFSETTO:-0700
TZNAME:PDT
DTSTART:20280312T100000
END:DAYLIGHT
BEGIN:STANDARD
TZOFFSETFROM:-0700
TZOFFSETTO:-0800
TZNAME:PST
DTSTART:20281105T090000
END:STANDARD
BEGIN:DAYLIGHT
TZOFFSETFROM:-0800
TZOFFSETTO:-0700
TZNAME:PDT
DTSTART:20290311T100000
END:DAYLIGHT
BEGIN:STANDARD
TZOFFSETFROM:-0700
TZOFFSETTO:-0800
TZNAME:PST
DTSTART:20291104T090000
END:STANDARD
END:VTIMEZONE
BEGIN:VEVENT
DTSTART;TZID=America/Los_Angeles:20260510T180000
DTEND;TZID=America/Los_Angeles:20260510T210000
DTSTAMP:20260421T221513
CREATED:20250909T164218Z
LAST-MODIFIED:20251121T003740Z
UID:10001979-1778436000-1778446800@exploresisters.com
SUMMARY:Ladies Only Dance Night
DESCRIPTION:All the music\, all the lights\, all the vibe! Put down your burdens and come dance with us! \n$5 Cover payable at the door unless you buy a drink!
URL:https://exploresisters.com/event/ladies-only-dance-night-2/2026-05-10/
LOCATION:Sisters Depot\, 250 W Cascade Ave\, Sisters\, 97759\, United States
CATEGORIES:Music
ATTACH;FMTTYPE=image/jpeg:https://exploresisters.com/wp-content/uploads/2025/09/Sisters-Depot-Ladies-Night-1.jpg
END:VEVENT
BEGIN:VEVENT
DTSTART;TZID=America/Los_Angeles:20260614T180000
DTEND;TZID=America/Los_Angeles:20260614T210000
DTSTAMP:20260421T221513
CREATED:20250909T164218Z
LAST-MODIFIED:20251121T003740Z
UID:10001980-1781460000-1781470800@exploresisters.com
SUMMARY:Ladies Only Dance Night
DESCRIPTION:All the music\, all the lights\, all the vibe! Put down your burdens and come dance with us! \n$5 Cover payable at the door unless you buy a drink!
URL:https://exploresisters.com/event/ladies-only-dance-night-2/2026-06-14/
LOCATION:Sisters Depot\, 250 W Cascade Ave\, Sisters\, 97759\, United States
CATEGORIES:Music
ATTACH;FMTTYPE=image/jpeg:https://exploresisters.com/wp-content/uploads/2025/09/Sisters-Depot-Ladies-Night-1.jpg
END:VEVENT
BEGIN:VEVENT
DTSTART;TZID=America/Los_Angeles:20260712T180000
DTEND;TZID=America/Los_Angeles:20260712T210000
DTSTAMP:20260421T221513
CREATED:20250909T164218Z
LAST-MODIFIED:20251121T003740Z
UID:10001981-1783879200-1783890000@exploresisters.com
SUMMARY:Ladies Only Dance Night
DESCRIPTION:All the music\, all the lights\, all the vibe! Put down your burdens and come dance with us! \n$5 Cover payable at the door unless you buy a drink!
URL:https://exploresisters.com/event/ladies-only-dance-night-2/2026-07-12/
LOCATION:Sisters Depot\, 250 W Cascade Ave\, Sisters\, 97759\, United States
CATEGORIES:Music
ATTACH;FMTTYPE=image/jpeg:https://exploresisters.com/wp-content/uploads/2025/09/Sisters-Depot-Ladies-Night-1.jpg
END:VEVENT
BEGIN:VEVENT
DTSTART;TZID=America/Los_Angeles:20260809T180000
DTEND;TZID=America/Los_Angeles:20260809T210000
DTSTAMP:20260421T221513
CREATED:20250909T164218Z
LAST-MODIFIED:20251121T003740Z
UID:10001982-1786298400-1786309200@exploresisters.com
SUMMARY:Ladies Only Dance Night
DESCRIPTION:All the music\, all the lights\, all the vibe! Put down your burdens and come dance with us! \n$5 Cover payable at the door unless you buy a drink!
URL:https://exploresisters.com/event/ladies-only-dance-night-2/2026-08-09/
LOCATION:Sisters Depot\, 250 W Cascade Ave\, Sisters\, 97759\, United States
CATEGORIES:Music
ATTACH;FMTTYPE=image/jpeg:https://exploresisters.com/wp-content/uploads/2025/09/Sisters-Depot-Ladies-Night-1.jpg
END:VEVENT
BEGIN:VEVENT
DTSTART;TZID=America/Los_Angeles:20260913T180000
DTEND;TZID=America/Los_Angeles:20260913T210000
DTSTAMP:20260421T221513
CREATED:20250909T164218Z
LAST-MODIFIED:20251121T003740Z
UID:10001983-1789322400-1789333200@exploresisters.com
SUMMARY:Ladies Only Dance Night
DESCRIPTION:All the music\, all the lights\, all the vibe! Put down your burdens and come dance with us! \n$5 Cover payable at the door unless you buy a drink!
URL:https://exploresisters.com/event/ladies-only-dance-night-2/2026-09-13/
LOCATION:Sisters Depot\, 250 W Cascade Ave\, Sisters\, 97759\, United States
CATEGORIES:Music
ATTACH;FMTTYPE=image/jpeg:https://exploresisters.com/wp-content/uploads/2025/09/Sisters-Depot-Ladies-Night-1.jpg
END:VEVENT
BEGIN:VEVENT
DTSTART;TZID=America/Los_Angeles:20261011T180000
DTEND;TZID=America/Los_Angeles:20261011T210000
DTSTAMP:20260421T221514
CREATED:20250909T164218Z
LAST-MODIFIED:20251121T003740Z
UID:10001984-1791741600-1791752400@exploresisters.com
SUMMARY:Ladies Only Dance Night
DESCRIPTION:All the music\, all the lights\, all the vibe! Put down your burdens and come dance with us! \n$5 Cover payable at the door unless you buy a drink!
URL:https://exploresisters.com/event/ladies-only-dance-night-2/2026-10-11/
LOCATION:Sisters Depot\, 250 W Cascade Ave\, Sisters\, 97759\, United States
CATEGORIES:Music
ATTACH;FMTTYPE=image/jpeg:https://exploresisters.com/wp-content/uploads/2025/09/Sisters-Depot-Ladies-Night-1.jpg
END:VEVENT
BEGIN:VEVENT
DTSTART;TZID=America/Los_Angeles:20261108T180000
DTEND;TZID=America/Los_Angeles:20261108T210000
DTSTAMP:20260421T221514
CREATED:20250909T164218Z
LAST-MODIFIED:20251121T003740Z
UID:10001985-1794160800-1794171600@exploresisters.com
SUMMARY:Ladies Only Dance Night
DESCRIPTION:All the music\, all the lights\, all the vibe! Put down your burdens and come dance with us! \n$5 Cover payable at the door unless you buy a drink!
URL:https://exploresisters.com/event/ladies-only-dance-night-2/2026-11-08/
LOCATION:Sisters Depot\, 250 W Cascade Ave\, Sisters\, 97759\, United States
CATEGORIES:Music
ATTACH;FMTTYPE=image/jpeg:https://exploresisters.com/wp-content/uploads/2025/09/Sisters-Depot-Ladies-Night-1.jpg
END:VEVENT
BEGIN:VEVENT
DTSTART;TZID=America/Los_Angeles:20261213T180000
DTEND;TZID=America/Los_Angeles:20261213T210000
DTSTAMP:20260421T221514
CREATED:20250909T164218Z
LAST-MODIFIED:20251121T003740Z
UID:10001986-1797184800-1797195600@exploresisters.com
SUMMARY:Ladies Only Dance Night
DESCRIPTION:All the music\, all the lights\, all the vibe! Put down your burdens and come dance with us! \n$5 Cover payable at the door unless you buy a drink!
URL:https://exploresisters.com/event/ladies-only-dance-night-2/2026-12-13/
LOCATION:Sisters Depot\, 250 W Cascade Ave\, Sisters\, 97759\, United States
CATEGORIES:Music
ATTACH;FMTTYPE=image/jpeg:https://exploresisters.com/wp-content/uploads/2025/09/Sisters-Depot-Ladies-Night-1.jpg
END:VEVENT
BEGIN:VEVENT
DTSTART;TZID=America/Los_Angeles:20270110T180000
DTEND;TZID=America/Los_Angeles:20270110T210000
DTSTAMP:20260421T221514
CREATED:20250909T164218Z
LAST-MODIFIED:20251121T003740Z
UID:10001987-1799604000-1799614800@exploresisters.com
SUMMARY:Ladies Only Dance Night
DESCRIPTION:All the music\, all the lights\, all the vibe! Put down your burdens and come dance with us! \n$5 Cover payable at the door unless you buy a drink!
URL:https://exploresisters.com/event/ladies-only-dance-night-2/2027-01-10/
LOCATION:Sisters Depot\, 250 W Cascade Ave\, Sisters\, 97759\, United States
CATEGORIES:Music
ATTACH;FMTTYPE=image/jpeg:https://exploresisters.com/wp-content/uploads/2025/09/Sisters-Depot-Ladies-Night-1.jpg
END:VEVENT
BEGIN:VEVENT
DTSTART;TZID=America/Los_Angeles:20270214T180000
DTEND;TZID=America/Los_Angeles:20270214T210000
DTSTAMP:20260421T221514
CREATED:20250909T164218Z
LAST-MODIFIED:20251121T003740Z
UID:10001988-1802628000-1802638800@exploresisters.com
SUMMARY:Ladies Only Dance Night
DESCRIPTION:All the music\, all the lights\, all the vibe! Put down your burdens and come dance with us! \n$5 Cover payable at the door unless you buy a drink!
URL:https://exploresisters.com/event/ladies-only-dance-night-2/2027-02-14/
LOCATION:Sisters Depot\, 250 W Cascade Ave\, Sisters\, 97759\, United States
CATEGORIES:Music
ATTACH;FMTTYPE=image/jpeg:https://exploresisters.com/wp-content/uploads/2025/09/Sisters-Depot-Ladies-Night-1.jpg
END:VEVENT
BEGIN:VEVENT
DTSTART;TZID=America/Los_Angeles:20270314T180000
DTEND;TZID=America/Los_Angeles:20270314T210000
DTSTAMP:20260421T221514
CREATED:20250909T164218Z
LAST-MODIFIED:20251121T003740Z
UID:10001989-1805047200-1805058000@exploresisters.com
SUMMARY:Ladies Only Dance Night
DESCRIPTION:All the music\, all the lights\, all the vibe! Put down your burdens and come dance with us! \n$5 Cover payable at the door unless you buy a drink!
URL:https://exploresisters.com/event/ladies-only-dance-night-2/2027-03-14/
LOCATION:Sisters Depot\, 250 W Cascade Ave\, Sisters\, 97759\, United States
CATEGORIES:Music
ATTACH;FMTTYPE=image/jpeg:https://exploresisters.com/wp-content/uploads/2025/09/Sisters-Depot-Ladies-Night-1.jpg
END:VEVENT
BEGIN:VEVENT
DTSTART;TZID=America/Los_Angeles:20270411T180000
DTEND;TZID=America/Los_Angeles:20270411T210000
DTSTAMP:20260421T221514
CREATED:20250909T164218Z
LAST-MODIFIED:20251121T003740Z
UID:10001990-1807466400-1807477200@exploresisters.com
SUMMARY:Ladies Only Dance Night
DESCRIPTION:All the music\, all the lights\, all the vibe! Put down your burdens and come dance with us! \n$5 Cover payable at the door unless you buy a drink!
URL:https://exploresisters.com/event/ladies-only-dance-night-2/2027-04-11/
LOCATION:Sisters Depot\, 250 W Cascade Ave\, Sisters\, 97759\, United States
CATEGORIES:Music
ATTACH;FMTTYPE=image/jpeg:https://exploresisters.com/wp-content/uploads/2025/09/Sisters-Depot-Ladies-Night-1.jpg
END:VEVENT
BEGIN:VEVENT
DTSTART;TZID=America/Los_Angeles:20270509T180000
DTEND;TZID=America/Los_Angeles:20270509T210000
DTSTAMP:20260421T221514
CREATED:20250909T164218Z
LAST-MODIFIED:20251121T003740Z
UID:10001991-1809885600-1809896400@exploresisters.com
SUMMARY:Ladies Only Dance Night
DESCRIPTION:All the music\, all the lights\, all the vibe! Put down your burdens and come dance with us! \n$5 Cover payable at the door unless you buy a drink!
URL:https://exploresisters.com/event/ladies-only-dance-night-2/2027-05-09/
LOCATION:Sisters Depot\, 250 W Cascade Ave\, Sisters\, 97759\, United States
CATEGORIES:Music
ATTACH;FMTTYPE=image/jpeg:https://exploresisters.com/wp-content/uploads/2025/09/Sisters-Depot-Ladies-Night-1.jpg
END:VEVENT
BEGIN:VEVENT
DTSTART;TZID=America/Los_Angeles:20270613T180000
DTEND;TZID=America/Los_Angeles:20270613T210000
DTSTAMP:20260421T221514
CREATED:20250909T164218Z
LAST-MODIFIED:20251121T003740Z
UID:10001992-1812909600-1812920400@exploresisters.com
SUMMARY:Ladies Only Dance Night
DESCRIPTION:All the music\, all the lights\, all the vibe! Put down your burdens and come dance with us! \n$5 Cover payable at the door unless you buy a drink!
URL:https://exploresisters.com/event/ladies-only-dance-night-2/2027-06-13/
LOCATION:Sisters Depot\, 250 W Cascade Ave\, Sisters\, 97759\, United States
CATEGORIES:Music
ATTACH;FMTTYPE=image/jpeg:https://exploresisters.com/wp-content/uploads/2025/09/Sisters-Depot-Ladies-Night-1.jpg
END:VEVENT
BEGIN:VEVENT
DTSTART;TZID=America/Los_Angeles:20270711T180000
DTEND;TZID=America/Los_Angeles:20270711T210000
DTSTAMP:20260421T221514
CREATED:20250909T164218Z
LAST-MODIFIED:20251121T003740Z
UID:10001993-1815328800-1815339600@exploresisters.com
SUMMARY:Ladies Only Dance Night
DESCRIPTION:All the music\, all the lights\, all the vibe! Put down your burdens and come dance with us! \n$5 Cover payable at the door unless you buy a drink!
URL:https://exploresisters.com/event/ladies-only-dance-night-2/2027-07-11/
LOCATION:Sisters Depot\, 250 W Cascade Ave\, Sisters\, 97759\, United States
CATEGORIES:Music
ATTACH;FMTTYPE=image/jpeg:https://exploresisters.com/wp-content/uploads/2025/09/Sisters-Depot-Ladies-Night-1.jpg
END:VEVENT
BEGIN:VEVENT
DTSTART;TZID=America/Los_Angeles:20270808T180000
DTEND;TZID=America/Los_Angeles:20270808T210000
DTSTAMP:20260421T221514
CREATED:20250909T164218Z
LAST-MODIFIED:20251121T003740Z
UID:10001994-1817748000-1817758800@exploresisters.com
SUMMARY:Ladies Only Dance Night
DESCRIPTION:All the music\, all the lights\, all the vibe! Put down your burdens and come dance with us! \n$5 Cover payable at the door unless you buy a drink!
URL:https://exploresisters.com/event/ladies-only-dance-night-2/2027-08-08/
LOCATION:Sisters Depot\, 250 W Cascade Ave\, Sisters\, 97759\, United States
CATEGORIES:Music
ATTACH;FMTTYPE=image/jpeg:https://exploresisters.com/wp-content/uploads/2025/09/Sisters-Depot-Ladies-Night-1.jpg
END:VEVENT
BEGIN:VEVENT
DTSTART;TZID=America/Los_Angeles:20270912T180000
DTEND;TZID=America/Los_Angeles:20270912T210000
DTSTAMP:20260421T221514
CREATED:20250909T164218Z
LAST-MODIFIED:20251121T003740Z
UID:10001995-1820772000-1820782800@exploresisters.com
SUMMARY:Ladies Only Dance Night
DESCRIPTION:All the music\, all the lights\, all the vibe! Put down your burdens and come dance with us! \n$5 Cover payable at the door unless you buy a drink!
URL:https://exploresisters.com/event/ladies-only-dance-night-2/2027-09-12/
LOCATION:Sisters Depot\, 250 W Cascade Ave\, Sisters\, 97759\, United States
CATEGORIES:Music
ATTACH;FMTTYPE=image/jpeg:https://exploresisters.com/wp-content/uploads/2025/09/Sisters-Depot-Ladies-Night-1.jpg
END:VEVENT
BEGIN:VEVENT
DTSTART;TZID=America/Los_Angeles:20271010T180000
DTEND;TZID=America/Los_Angeles:20271010T210000
DTSTAMP:20260421T221514
CREATED:20250909T164218Z
LAST-MODIFIED:20251121T003740Z
UID:10001996-1823191200-1823202000@exploresisters.com
SUMMARY:Ladies Only Dance Night
DESCRIPTION:All the music\, all the lights\, all the vibe! Put down your burdens and come dance with us! \n$5 Cover payable at the door unless you buy a drink!
URL:https://exploresisters.com/event/ladies-only-dance-night-2/2027-10-10/
LOCATION:Sisters Depot\, 250 W Cascade Ave\, Sisters\, 97759\, United States
CATEGORIES:Music
ATTACH;FMTTYPE=image/jpeg:https://exploresisters.com/wp-content/uploads/2025/09/Sisters-Depot-Ladies-Night-1.jpg
END:VEVENT
BEGIN:VEVENT
DTSTART;TZID=America/Los_Angeles:20271114T180000
DTEND;TZID=America/Los_Angeles:20271114T210000
DTSTAMP:20260421T221514
CREATED:20250909T164218Z
LAST-MODIFIED:20251121T003740Z
UID:10001997-1826215200-1826226000@exploresisters.com
SUMMARY:Ladies Only Dance Night
DESCRIPTION:All the music\, all the lights\, all the vibe! Put down your burdens and come dance with us! \n$5 Cover payable at the door unless you buy a drink!
URL:https://exploresisters.com/event/ladies-only-dance-night-2/2027-11-14/
LOCATION:Sisters Depot\, 250 W Cascade Ave\, Sisters\, 97759\, United States
CATEGORIES:Music
ATTACH;FMTTYPE=image/jpeg:https://exploresisters.com/wp-content/uploads/2025/09/Sisters-Depot-Ladies-Night-1.jpg
END:VEVENT
BEGIN:VEVENT
DTSTART;TZID=America/Los_Angeles:20271212T180000
DTEND;TZID=America/Los_Angeles:20271212T210000
DTSTAMP:20260421T221514
CREATED:20250909T164218Z
LAST-MODIFIED:20251121T003740Z
UID:10001998-1828634400-1828645200@exploresisters.com
SUMMARY:Ladies Only Dance Night
DESCRIPTION:All the music\, all the lights\, all the vibe! Put down your burdens and come dance with us! \n$5 Cover payable at the door unless you buy a drink!
URL:https://exploresisters.com/event/ladies-only-dance-night-2/2027-12-12/
LOCATION:Sisters Depot\, 250 W Cascade Ave\, Sisters\, 97759\, United States
CATEGORIES:Music
ATTACH;FMTTYPE=image/jpeg:https://exploresisters.com/wp-content/uploads/2025/09/Sisters-Depot-Ladies-Night-1.jpg
END:VEVENT
BEGIN:VEVENT
DTSTART;TZID=America/Los_Angeles:20280109T180000
DTEND;TZID=America/Los_Angeles:20280109T210000
DTSTAMP:20260421T221514
CREATED:20250909T164218Z
LAST-MODIFIED:20251121T003740Z
UID:10001999-1831053600-1831064400@exploresisters.com
SUMMARY:Ladies Only Dance Night
DESCRIPTION:All the music\, all the lights\, all the vibe! Put down your burdens and come dance with us! \n$5 Cover payable at the door unless you buy a drink!
URL:https://exploresisters.com/event/ladies-only-dance-night-2/2028-01-09/
LOCATION:Sisters Depot\, 250 W Cascade Ave\, Sisters\, 97759\, United States
CATEGORIES:Music
ATTACH;FMTTYPE=image/jpeg:https://exploresisters.com/wp-content/uploads/2025/09/Sisters-Depot-Ladies-Night-1.jpg
END:VEVENT
BEGIN:VEVENT
DTSTART;TZID=America/Los_Angeles:20280213T180000
DTEND;TZID=America/Los_Angeles:20280213T210000
DTSTAMP:20260421T221514
CREATED:20250909T164218Z
LAST-MODIFIED:20251121T003740Z
UID:10002000-1834077600-1834088400@exploresisters.com
SUMMARY:Ladies Only Dance Night
DESCRIPTION:All the music\, all the lights\, all the vibe! Put down your burdens and come dance with us! \n$5 Cover payable at the door unless you buy a drink!
URL:https://exploresisters.com/event/ladies-only-dance-night-2/2028-02-13/
LOCATION:Sisters Depot\, 250 W Cascade Ave\, Sisters\, 97759\, United States
CATEGORIES:Music
ATTACH;FMTTYPE=image/jpeg:https://exploresisters.com/wp-content/uploads/2025/09/Sisters-Depot-Ladies-Night-1.jpg
END:VEVENT
BEGIN:VEVENT
DTSTART;TZID=America/Los_Angeles:20280312T180000
DTEND;TZID=America/Los_Angeles:20280312T210000
DTSTAMP:20260421T221514
CREATED:20250909T164218Z
LAST-MODIFIED:20251121T003740Z
UID:10002001-1836496800-1836507600@exploresisters.com
SUMMARY:Ladies Only Dance Night
DESCRIPTION:All the music\, all the lights\, all the vibe! Put down your burdens and come dance with us! \n$5 Cover payable at the door unless you buy a drink!
URL:https://exploresisters.com/event/ladies-only-dance-night-2/2028-03-12/
LOCATION:Sisters Depot\, 250 W Cascade Ave\, Sisters\, 97759\, United States
CATEGORIES:Music
ATTACH;FMTTYPE=image/jpeg:https://exploresisters.com/wp-content/uploads/2025/09/Sisters-Depot-Ladies-Night-1.jpg
END:VEVENT
BEGIN:VEVENT
DTSTART;TZID=America/Los_Angeles:20280409T180000
DTEND;TZID=America/Los_Angeles:20280409T210000
DTSTAMP:20260421T221514
CREATED:20250909T164218Z
LAST-MODIFIED:20251121T003740Z
UID:10002002-1838916000-1838926800@exploresisters.com
SUMMARY:Ladies Only Dance Night
DESCRIPTION:All the music\, all the lights\, all the vibe! Put down your burdens and come dance with us! \n$5 Cover payable at the door unless you buy a drink!
URL:https://exploresisters.com/event/ladies-only-dance-night-2/2028-04-09/
LOCATION:Sisters Depot\, 250 W Cascade Ave\, Sisters\, 97759\, United States
CATEGORIES:Music
ATTACH;FMTTYPE=image/jpeg:https://exploresisters.com/wp-content/uploads/2025/09/Sisters-Depot-Ladies-Night-1.jpg
END:VEVENT
BEGIN:VEVENT
DTSTART;TZID=America/Los_Angeles:20280514T180000
DTEND;TZID=America/Los_Angeles:20280514T210000
DTSTAMP:20260421T221514
CREATED:20250909T164218Z
LAST-MODIFIED:20251121T003740Z
UID:10002003-1841940000-1841950800@exploresisters.com
SUMMARY:Ladies Only Dance Night
DESCRIPTION:All the music\, all the lights\, all the vibe! Put down your burdens and come dance with us! \n$5 Cover payable at the door unless you buy a drink!
URL:https://exploresisters.com/event/ladies-only-dance-night-2/2028-05-14/
LOCATION:Sisters Depot\, 250 W Cascade Ave\, Sisters\, 97759\, United States
CATEGORIES:Music
ATTACH;FMTTYPE=image/jpeg:https://exploresisters.com/wp-content/uploads/2025/09/Sisters-Depot-Ladies-Night-1.jpg
END:VEVENT
BEGIN:VEVENT
DTSTART;TZID=America/Los_Angeles:20280611T180000
DTEND;TZID=America/Los_Angeles:20280611T210000
DTSTAMP:20260421T221514
CREATED:20250909T164218Z
LAST-MODIFIED:20251121T003740Z
UID:10002004-1844359200-1844370000@exploresisters.com
SUMMARY:Ladies Only Dance Night
DESCRIPTION:All the music\, all the lights\, all the vibe! Put down your burdens and come dance with us! \n$5 Cover payable at the door unless you buy a drink!
URL:https://exploresisters.com/event/ladies-only-dance-night-2/2028-06-11/
LOCATION:Sisters Depot\, 250 W Cascade Ave\, Sisters\, 97759\, United States
CATEGORIES:Music
ATTACH;FMTTYPE=image/jpeg:https://exploresisters.com/wp-content/uploads/2025/09/Sisters-Depot-Ladies-Night-1.jpg
END:VEVENT
BEGIN:VEVENT
DTSTART;TZID=America/Los_Angeles:20280709T180000
DTEND;TZID=America/Los_Angeles:20280709T210000
DTSTAMP:20260421T221514
CREATED:20250909T164218Z
LAST-MODIFIED:20251121T003740Z
UID:10002005-1846778400-1846789200@exploresisters.com
SUMMARY:Ladies Only Dance Night
DESCRIPTION:All the music\, all the lights\, all the vibe! Put down your burdens and come dance with us! \n$5 Cover payable at the door unless you buy a drink!
URL:https://exploresisters.com/event/ladies-only-dance-night-2/2028-07-09/
LOCATION:Sisters Depot\, 250 W Cascade Ave\, Sisters\, 97759\, United States
CATEGORIES:Music
ATTACH;FMTTYPE=image/jpeg:https://exploresisters.com/wp-content/uploads/2025/09/Sisters-Depot-Ladies-Night-1.jpg
END:VEVENT
BEGIN:VEVENT
DTSTART;TZID=America/Los_Angeles:20280813T180000
DTEND;TZID=America/Los_Angeles:20280813T210000
DTSTAMP:20260421T221514
CREATED:20250909T164218Z
LAST-MODIFIED:20251121T003740Z
UID:10002006-1849802400-1849813200@exploresisters.com
SUMMARY:Ladies Only Dance Night
DESCRIPTION:All the music\, all the lights\, all the vibe! Put down your burdens and come dance with us! \n$5 Cover payable at the door unless you buy a drink!
URL:https://exploresisters.com/event/ladies-only-dance-night-2/2028-08-13/
LOCATION:Sisters Depot\, 250 W Cascade Ave\, Sisters\, 97759\, United States
CATEGORIES:Music
ATTACH;FMTTYPE=image/jpeg:https://exploresisters.com/wp-content/uploads/2025/09/Sisters-Depot-Ladies-Night-1.jpg
END:VEVENT
BEGIN:VEVENT
DTSTART;TZID=America/Los_Angeles:20280910T180000
DTEND;TZID=America/Los_Angeles:20280910T210000
DTSTAMP:20260421T221514
CREATED:20250909T164218Z
LAST-MODIFIED:20251121T003740Z
UID:10002007-1852221600-1852232400@exploresisters.com
SUMMARY:Ladies Only Dance Night
DESCRIPTION:All the music\, all the lights\, all the vibe! Put down your burdens and come dance with us! \n$5 Cover payable at the door unless you buy a drink!
URL:https://exploresisters.com/event/ladies-only-dance-night-2/2028-09-10/
LOCATION:Sisters Depot\, 250 W Cascade Ave\, Sisters\, 97759\, United States
CATEGORIES:Music
ATTACH;FMTTYPE=image/jpeg:https://exploresisters.com/wp-content/uploads/2025/09/Sisters-Depot-Ladies-Night-1.jpg
END:VEVENT
BEGIN:VEVENT
DTSTART;TZID=America/Los_Angeles:20281008T180000
DTEND;TZID=America/Los_Angeles:20281008T210000
DTSTAMP:20260421T221514
CREATED:20250909T164218Z
LAST-MODIFIED:20251121T003740Z
UID:10002008-1854640800-1854651600@exploresisters.com
SUMMARY:Ladies Only Dance Night
DESCRIPTION:All the music\, all the lights\, all the vibe! Put down your burdens and come dance with us! \n$5 Cover payable at the door unless you buy a drink!
URL:https://exploresisters.com/event/ladies-only-dance-night-2/2028-10-08/
LOCATION:Sisters Depot\, 250 W Cascade Ave\, Sisters\, 97759\, United States
CATEGORIES:Music
ATTACH;FMTTYPE=image/jpeg:https://exploresisters.com/wp-content/uploads/2025/09/Sisters-Depot-Ladies-Night-1.jpg
END:VEVENT
END:VCALENDAR