BEGIN:VCALENDAR
VERSION:2.0
PRODID:-//Sisters Oregon - ECPv6.15.20//NONSGML v1.0//EN
CALSCALE:GREGORIAN
METHOD:PUBLISH
X-WR-CALNAME:Sisters Oregon
X-ORIGINAL-URL:https://exploresisters.com
X-WR-CALDESC:Events for Sisters Oregon
REFRESH-INTERVAL;VALUE=DURATION:PT1H
X-Robots-Tag:noindex
X-PUBLISHED-TTL:PT1H
BEGIN:VTIMEZONE
TZID:America/Los_Angeles
BEGIN:DAYLIGHT
TZOFFSETFROM:-0800
TZOFFSETTO:-0700
TZNAME:PDT
DTSTART:20250309T100000
END:DAYLIGHT
BEGIN:STANDARD
TZOFFSETFROM:-0700
TZOFFSETTO:-0800
TZNAME:PST
DTSTART:20251102T090000
END:STANDARD
BEGIN:DAYLIGHT
TZOFFSETFROM:-0800
TZOFFSETTO:-0700
TZNAME:PDT
DTSTART:20260308T100000
END:DAYLIGHT
BEGIN:STANDARD
TZOFFSETFROM:-0700
TZOFFSETTO:-0800
TZNAME:PST
DTSTART:20261101T090000
END:STANDARD
BEGIN:DAYLIGHT
TZOFFSETFROM:-0800
TZOFFSETTO:-0700
TZNAME:PDT
DTSTART:20270314T100000
END:DAYLIGHT
BEGIN:STANDARD
TZOFFSETFROM:-0700
TZOFFSETTO:-0800
TZNAME:PST
DTSTART:20271107T090000
END:STANDARD
END:VTIMEZONE
BEGIN:VEVENT
DTSTART;TZID=America/Los_Angeles:20260420T180000
DTEND;TZID=America/Los_Angeles:20260420T203000
DTSTAMP:20260419T173721
CREATED:20260217T033309Z
LAST-MODIFIED:20260220T035953Z
UID:10003683-1776708000-1776717000@exploresisters.com
SUMMARY:Open Mic @ Spoons
DESCRIPTION:Grab dinner and a drink\, bring your talent (or just come cheer)\, and enjoy a night of local music\, poetry\, comedy\, and more. Whether you’re taking the mic or soaking it all in\, it’s always a good time at Spoons! Hosted by Jordan Lewis Lee\, half of the roots music duo Lickety Split\, with Gabrielle Monia. This is an acoustic-instrument-only set up.
URL:https://exploresisters.com/event/spoons-open-mic/2026-04-20/
LOCATION:Spoons Restaurant\, 473 E Hood Ave\, Sisters\, 97759\, United States
CATEGORIES:Music
ATTACH;FMTTYPE=image/jpeg:https://exploresisters.com/wp-content/uploads/2025/10/just-duets-1.jpg
END:VEVENT
BEGIN:VEVENT
DTSTART;TZID=America/Los_Angeles:20260427T180000
DTEND;TZID=America/Los_Angeles:20260427T203000
DTSTAMP:20260419T173721
CREATED:20260217T033309Z
LAST-MODIFIED:20260220T035953Z
UID:10003684-1777312800-1777321800@exploresisters.com
SUMMARY:Open Mic @ Spoons
DESCRIPTION:Grab dinner and a drink\, bring your talent (or just come cheer)\, and enjoy a night of local music\, poetry\, comedy\, and more. Whether you’re taking the mic or soaking it all in\, it’s always a good time at Spoons! Hosted by Jordan Lewis Lee\, half of the roots music duo Lickety Split\, with Gabrielle Monia. This is an acoustic-instrument-only set up.
URL:https://exploresisters.com/event/spoons-open-mic/2026-04-27/
LOCATION:Spoons Restaurant\, 473 E Hood Ave\, Sisters\, 97759\, United States
CATEGORIES:Music
ATTACH;FMTTYPE=image/jpeg:https://exploresisters.com/wp-content/uploads/2025/10/just-duets-1.jpg
END:VEVENT
BEGIN:VEVENT
DTSTART;TZID=America/Los_Angeles:20260504T180000
DTEND;TZID=America/Los_Angeles:20260504T203000
DTSTAMP:20260419T173721
CREATED:20260217T033309Z
LAST-MODIFIED:20260220T035953Z
UID:10003685-1777917600-1777926600@exploresisters.com
SUMMARY:Open Mic @ Spoons
DESCRIPTION:Grab dinner and a drink\, bring your talent (or just come cheer)\, and enjoy a night of local music\, poetry\, comedy\, and more. Whether you’re taking the mic or soaking it all in\, it’s always a good time at Spoons! Hosted by Jordan Lewis Lee\, half of the roots music duo Lickety Split\, with Gabrielle Monia. This is an acoustic-instrument-only set up.
URL:https://exploresisters.com/event/spoons-open-mic/2026-05-04/
LOCATION:Spoons Restaurant\, 473 E Hood Ave\, Sisters\, 97759\, United States
CATEGORIES:Music
ATTACH;FMTTYPE=image/jpeg:https://exploresisters.com/wp-content/uploads/2025/10/just-duets-1.jpg
END:VEVENT
BEGIN:VEVENT
DTSTART;TZID=America/Los_Angeles:20260511T180000
DTEND;TZID=America/Los_Angeles:20260511T203000
DTSTAMP:20260419T173721
CREATED:20260217T033309Z
LAST-MODIFIED:20260220T035953Z
UID:10003686-1778522400-1778531400@exploresisters.com
SUMMARY:Open Mic @ Spoons
DESCRIPTION:Grab dinner and a drink\, bring your talent (or just come cheer)\, and enjoy a night of local music\, poetry\, comedy\, and more. Whether you’re taking the mic or soaking it all in\, it’s always a good time at Spoons! Hosted by Jordan Lewis Lee\, half of the roots music duo Lickety Split\, with Gabrielle Monia. This is an acoustic-instrument-only set up.
URL:https://exploresisters.com/event/spoons-open-mic/2026-05-11/
LOCATION:Spoons Restaurant\, 473 E Hood Ave\, Sisters\, 97759\, United States
CATEGORIES:Music
ATTACH;FMTTYPE=image/jpeg:https://exploresisters.com/wp-content/uploads/2025/10/just-duets-1.jpg
END:VEVENT
BEGIN:VEVENT
DTSTART;TZID=America/Los_Angeles:20260518T180000
DTEND;TZID=America/Los_Angeles:20260518T203000
DTSTAMP:20260419T173721
CREATED:20260217T033309Z
LAST-MODIFIED:20260220T035953Z
UID:10003687-1779127200-1779136200@exploresisters.com
SUMMARY:Open Mic @ Spoons
DESCRIPTION:Grab dinner and a drink\, bring your talent (or just come cheer)\, and enjoy a night of local music\, poetry\, comedy\, and more. Whether you’re taking the mic or soaking it all in\, it’s always a good time at Spoons! Hosted by Jordan Lewis Lee\, half of the roots music duo Lickety Split\, with Gabrielle Monia. This is an acoustic-instrument-only set up.
URL:https://exploresisters.com/event/spoons-open-mic/2026-05-18/
LOCATION:Spoons Restaurant\, 473 E Hood Ave\, Sisters\, 97759\, United States
CATEGORIES:Music
ATTACH;FMTTYPE=image/jpeg:https://exploresisters.com/wp-content/uploads/2025/10/just-duets-1.jpg
END:VEVENT
BEGIN:VEVENT
DTSTART;TZID=America/Los_Angeles:20260525T180000
DTEND;TZID=America/Los_Angeles:20260525T203000
DTSTAMP:20260419T173721
CREATED:20260217T033309Z
LAST-MODIFIED:20260220T035953Z
UID:10003688-1779732000-1779741000@exploresisters.com
SUMMARY:Open Mic @ Spoons
DESCRIPTION:Grab dinner and a drink\, bring your talent (or just come cheer)\, and enjoy a night of local music\, poetry\, comedy\, and more. Whether you’re taking the mic or soaking it all in\, it’s always a good time at Spoons! Hosted by Jordan Lewis Lee\, half of the roots music duo Lickety Split\, with Gabrielle Monia. This is an acoustic-instrument-only set up.
URL:https://exploresisters.com/event/spoons-open-mic/2026-05-25/
LOCATION:Spoons Restaurant\, 473 E Hood Ave\, Sisters\, 97759\, United States
CATEGORIES:Music
ATTACH;FMTTYPE=image/jpeg:https://exploresisters.com/wp-content/uploads/2025/10/just-duets-1.jpg
END:VEVENT
BEGIN:VEVENT
DTSTART;TZID=America/Los_Angeles:20260601T180000
DTEND;TZID=America/Los_Angeles:20260601T203000
DTSTAMP:20260419T173721
CREATED:20260217T033309Z
LAST-MODIFIED:20260220T035953Z
UID:10003689-1780336800-1780345800@exploresisters.com
SUMMARY:Open Mic @ Spoons
DESCRIPTION:Grab dinner and a drink\, bring your talent (or just come cheer)\, and enjoy a night of local music\, poetry\, comedy\, and more. Whether you’re taking the mic or soaking it all in\, it’s always a good time at Spoons! Hosted by Jordan Lewis Lee\, half of the roots music duo Lickety Split\, with Gabrielle Monia. This is an acoustic-instrument-only set up.
URL:https://exploresisters.com/event/spoons-open-mic/2026-06-01/
LOCATION:Spoons Restaurant\, 473 E Hood Ave\, Sisters\, 97759\, United States
CATEGORIES:Music
ATTACH;FMTTYPE=image/jpeg:https://exploresisters.com/wp-content/uploads/2025/10/just-duets-1.jpg
END:VEVENT
BEGIN:VEVENT
DTSTART;TZID=America/Los_Angeles:20260608T180000
DTEND;TZID=America/Los_Angeles:20260608T203000
DTSTAMP:20260419T173721
CREATED:20260217T033309Z
LAST-MODIFIED:20260220T035953Z
UID:10003690-1780941600-1780950600@exploresisters.com
SUMMARY:Open Mic @ Spoons
DESCRIPTION:Grab dinner and a drink\, bring your talent (or just come cheer)\, and enjoy a night of local music\, poetry\, comedy\, and more. Whether you’re taking the mic or soaking it all in\, it’s always a good time at Spoons! Hosted by Jordan Lewis Lee\, half of the roots music duo Lickety Split\, with Gabrielle Monia. This is an acoustic-instrument-only set up.
URL:https://exploresisters.com/event/spoons-open-mic/2026-06-08/
LOCATION:Spoons Restaurant\, 473 E Hood Ave\, Sisters\, 97759\, United States
CATEGORIES:Music
ATTACH;FMTTYPE=image/jpeg:https://exploresisters.com/wp-content/uploads/2025/10/just-duets-1.jpg
END:VEVENT
BEGIN:VEVENT
DTSTART;TZID=America/Los_Angeles:20260615T180000
DTEND;TZID=America/Los_Angeles:20260615T203000
DTSTAMP:20260419T173721
CREATED:20260217T033309Z
LAST-MODIFIED:20260220T035953Z
UID:10003691-1781546400-1781555400@exploresisters.com
SUMMARY:Open Mic @ Spoons
DESCRIPTION:Grab dinner and a drink\, bring your talent (or just come cheer)\, and enjoy a night of local music\, poetry\, comedy\, and more. Whether you’re taking the mic or soaking it all in\, it’s always a good time at Spoons! Hosted by Jordan Lewis Lee\, half of the roots music duo Lickety Split\, with Gabrielle Monia. This is an acoustic-instrument-only set up.
URL:https://exploresisters.com/event/spoons-open-mic/2026-06-15/
LOCATION:Spoons Restaurant\, 473 E Hood Ave\, Sisters\, 97759\, United States
CATEGORIES:Music
ATTACH;FMTTYPE=image/jpeg:https://exploresisters.com/wp-content/uploads/2025/10/just-duets-1.jpg
END:VEVENT
BEGIN:VEVENT
DTSTART;TZID=America/Los_Angeles:20260622T180000
DTEND;TZID=America/Los_Angeles:20260622T203000
DTSTAMP:20260419T173721
CREATED:20260217T033309Z
LAST-MODIFIED:20260220T035953Z
UID:10003692-1782151200-1782160200@exploresisters.com
SUMMARY:Open Mic @ Spoons
DESCRIPTION:Grab dinner and a drink\, bring your talent (or just come cheer)\, and enjoy a night of local music\, poetry\, comedy\, and more. Whether you’re taking the mic or soaking it all in\, it’s always a good time at Spoons! Hosted by Jordan Lewis Lee\, half of the roots music duo Lickety Split\, with Gabrielle Monia. This is an acoustic-instrument-only set up.
URL:https://exploresisters.com/event/spoons-open-mic/2026-06-22/
LOCATION:Spoons Restaurant\, 473 E Hood Ave\, Sisters\, 97759\, United States
CATEGORIES:Music
ATTACH;FMTTYPE=image/jpeg:https://exploresisters.com/wp-content/uploads/2025/10/just-duets-1.jpg
END:VEVENT
BEGIN:VEVENT
DTSTART;TZID=America/Los_Angeles:20260629T180000
DTEND;TZID=America/Los_Angeles:20260629T203000
DTSTAMP:20260419T173721
CREATED:20260217T033309Z
LAST-MODIFIED:20260220T035953Z
UID:10003693-1782756000-1782765000@exploresisters.com
SUMMARY:Open Mic @ Spoons
DESCRIPTION:Grab dinner and a drink\, bring your talent (or just come cheer)\, and enjoy a night of local music\, poetry\, comedy\, and more. Whether you’re taking the mic or soaking it all in\, it’s always a good time at Spoons! Hosted by Jordan Lewis Lee\, half of the roots music duo Lickety Split\, with Gabrielle Monia. This is an acoustic-instrument-only set up.
URL:https://exploresisters.com/event/spoons-open-mic/2026-06-29/
LOCATION:Spoons Restaurant\, 473 E Hood Ave\, Sisters\, 97759\, United States
CATEGORIES:Music
ATTACH;FMTTYPE=image/jpeg:https://exploresisters.com/wp-content/uploads/2025/10/just-duets-1.jpg
END:VEVENT
BEGIN:VEVENT
DTSTART;TZID=America/Los_Angeles:20260706T180000
DTEND;TZID=America/Los_Angeles:20260706T203000
DTSTAMP:20260419T173721
CREATED:20260217T033309Z
LAST-MODIFIED:20260220T035953Z
UID:10003694-1783360800-1783369800@exploresisters.com
SUMMARY:Open Mic @ Spoons
DESCRIPTION:Grab dinner and a drink\, bring your talent (or just come cheer)\, and enjoy a night of local music\, poetry\, comedy\, and more. Whether you’re taking the mic or soaking it all in\, it’s always a good time at Spoons! Hosted by Jordan Lewis Lee\, half of the roots music duo Lickety Split\, with Gabrielle Monia. This is an acoustic-instrument-only set up.
URL:https://exploresisters.com/event/spoons-open-mic/2026-07-06/
LOCATION:Spoons Restaurant\, 473 E Hood Ave\, Sisters\, 97759\, United States
CATEGORIES:Music
ATTACH;FMTTYPE=image/jpeg:https://exploresisters.com/wp-content/uploads/2025/10/just-duets-1.jpg
END:VEVENT
BEGIN:VEVENT
DTSTART;TZID=America/Los_Angeles:20260713T180000
DTEND;TZID=America/Los_Angeles:20260713T203000
DTSTAMP:20260419T173721
CREATED:20260217T033309Z
LAST-MODIFIED:20260220T035953Z
UID:10003695-1783965600-1783974600@exploresisters.com
SUMMARY:Open Mic @ Spoons
DESCRIPTION:Grab dinner and a drink\, bring your talent (or just come cheer)\, and enjoy a night of local music\, poetry\, comedy\, and more. Whether you’re taking the mic or soaking it all in\, it’s always a good time at Spoons! Hosted by Jordan Lewis Lee\, half of the roots music duo Lickety Split\, with Gabrielle Monia. This is an acoustic-instrument-only set up.
URL:https://exploresisters.com/event/spoons-open-mic/2026-07-13/
LOCATION:Spoons Restaurant\, 473 E Hood Ave\, Sisters\, 97759\, United States
CATEGORIES:Music
ATTACH;FMTTYPE=image/jpeg:https://exploresisters.com/wp-content/uploads/2025/10/just-duets-1.jpg
END:VEVENT
BEGIN:VEVENT
DTSTART;TZID=America/Los_Angeles:20260720T180000
DTEND;TZID=America/Los_Angeles:20260720T203000
DTSTAMP:20260419T173721
CREATED:20260217T033309Z
LAST-MODIFIED:20260220T035953Z
UID:10003696-1784570400-1784579400@exploresisters.com
SUMMARY:Open Mic @ Spoons
DESCRIPTION:Grab dinner and a drink\, bring your talent (or just come cheer)\, and enjoy a night of local music\, poetry\, comedy\, and more. Whether you’re taking the mic or soaking it all in\, it’s always a good time at Spoons! Hosted by Jordan Lewis Lee\, half of the roots music duo Lickety Split\, with Gabrielle Monia. This is an acoustic-instrument-only set up.
URL:https://exploresisters.com/event/spoons-open-mic/2026-07-20/
LOCATION:Spoons Restaurant\, 473 E Hood Ave\, Sisters\, 97759\, United States
CATEGORIES:Music
ATTACH;FMTTYPE=image/jpeg:https://exploresisters.com/wp-content/uploads/2025/10/just-duets-1.jpg
END:VEVENT
BEGIN:VEVENT
DTSTART;TZID=America/Los_Angeles:20260727T180000
DTEND;TZID=America/Los_Angeles:20260727T203000
DTSTAMP:20260419T173721
CREATED:20260217T033309Z
LAST-MODIFIED:20260220T035953Z
UID:10003697-1785175200-1785184200@exploresisters.com
SUMMARY:Open Mic @ Spoons
DESCRIPTION:Grab dinner and a drink\, bring your talent (or just come cheer)\, and enjoy a night of local music\, poetry\, comedy\, and more. Whether you’re taking the mic or soaking it all in\, it’s always a good time at Spoons! Hosted by Jordan Lewis Lee\, half of the roots music duo Lickety Split\, with Gabrielle Monia. This is an acoustic-instrument-only set up.
URL:https://exploresisters.com/event/spoons-open-mic/2026-07-27/
LOCATION:Spoons Restaurant\, 473 E Hood Ave\, Sisters\, 97759\, United States
CATEGORIES:Music
ATTACH;FMTTYPE=image/jpeg:https://exploresisters.com/wp-content/uploads/2025/10/just-duets-1.jpg
END:VEVENT
BEGIN:VEVENT
DTSTART;TZID=America/Los_Angeles:20260803T180000
DTEND;TZID=America/Los_Angeles:20260803T203000
DTSTAMP:20260419T173721
CREATED:20260217T033309Z
LAST-MODIFIED:20260220T035953Z
UID:10003698-1785780000-1785789000@exploresisters.com
SUMMARY:Open Mic @ Spoons
DESCRIPTION:Grab dinner and a drink\, bring your talent (or just come cheer)\, and enjoy a night of local music\, poetry\, comedy\, and more. Whether you’re taking the mic or soaking it all in\, it’s always a good time at Spoons! Hosted by Jordan Lewis Lee\, half of the roots music duo Lickety Split\, with Gabrielle Monia. This is an acoustic-instrument-only set up.
URL:https://exploresisters.com/event/spoons-open-mic/2026-08-03/
LOCATION:Spoons Restaurant\, 473 E Hood Ave\, Sisters\, 97759\, United States
CATEGORIES:Music
ATTACH;FMTTYPE=image/jpeg:https://exploresisters.com/wp-content/uploads/2025/10/just-duets-1.jpg
END:VEVENT
BEGIN:VEVENT
DTSTART;TZID=America/Los_Angeles:20260810T180000
DTEND;TZID=America/Los_Angeles:20260810T203000
DTSTAMP:20260419T173721
CREATED:20260217T033309Z
LAST-MODIFIED:20260220T035953Z
UID:10003699-1786384800-1786393800@exploresisters.com
SUMMARY:Open Mic @ Spoons
DESCRIPTION:Grab dinner and a drink\, bring your talent (or just come cheer)\, and enjoy a night of local music\, poetry\, comedy\, and more. Whether you’re taking the mic or soaking it all in\, it’s always a good time at Spoons! Hosted by Jordan Lewis Lee\, half of the roots music duo Lickety Split\, with Gabrielle Monia. This is an acoustic-instrument-only set up.
URL:https://exploresisters.com/event/spoons-open-mic/2026-08-10/
LOCATION:Spoons Restaurant\, 473 E Hood Ave\, Sisters\, 97759\, United States
CATEGORIES:Music
ATTACH;FMTTYPE=image/jpeg:https://exploresisters.com/wp-content/uploads/2025/10/just-duets-1.jpg
END:VEVENT
BEGIN:VEVENT
DTSTART;TZID=America/Los_Angeles:20260817T180000
DTEND;TZID=America/Los_Angeles:20260817T203000
DTSTAMP:20260419T173721
CREATED:20260217T033309Z
LAST-MODIFIED:20260220T035953Z
UID:10003700-1786989600-1786998600@exploresisters.com
SUMMARY:Open Mic @ Spoons
DESCRIPTION:Grab dinner and a drink\, bring your talent (or just come cheer)\, and enjoy a night of local music\, poetry\, comedy\, and more. Whether you’re taking the mic or soaking it all in\, it’s always a good time at Spoons! Hosted by Jordan Lewis Lee\, half of the roots music duo Lickety Split\, with Gabrielle Monia. This is an acoustic-instrument-only set up.
URL:https://exploresisters.com/event/spoons-open-mic/2026-08-17/
LOCATION:Spoons Restaurant\, 473 E Hood Ave\, Sisters\, 97759\, United States
CATEGORIES:Music
ATTACH;FMTTYPE=image/jpeg:https://exploresisters.com/wp-content/uploads/2025/10/just-duets-1.jpg
END:VEVENT
BEGIN:VEVENT
DTSTART;TZID=America/Los_Angeles:20260824T180000
DTEND;TZID=America/Los_Angeles:20260824T203000
DTSTAMP:20260419T173721
CREATED:20260217T033309Z
LAST-MODIFIED:20260220T035953Z
UID:10003701-1787594400-1787603400@exploresisters.com
SUMMARY:Open Mic @ Spoons
DESCRIPTION:Grab dinner and a drink\, bring your talent (or just come cheer)\, and enjoy a night of local music\, poetry\, comedy\, and more. Whether you’re taking the mic or soaking it all in\, it’s always a good time at Spoons! Hosted by Jordan Lewis Lee\, half of the roots music duo Lickety Split\, with Gabrielle Monia. This is an acoustic-instrument-only set up.
URL:https://exploresisters.com/event/spoons-open-mic/2026-08-24/
LOCATION:Spoons Restaurant\, 473 E Hood Ave\, Sisters\, 97759\, United States
CATEGORIES:Music
ATTACH;FMTTYPE=image/jpeg:https://exploresisters.com/wp-content/uploads/2025/10/just-duets-1.jpg
END:VEVENT
BEGIN:VEVENT
DTSTART;TZID=America/Los_Angeles:20260831T180000
DTEND;TZID=America/Los_Angeles:20260831T203000
DTSTAMP:20260419T173721
CREATED:20260217T033309Z
LAST-MODIFIED:20260220T035953Z
UID:10003702-1788199200-1788208200@exploresisters.com
SUMMARY:Open Mic @ Spoons
DESCRIPTION:Grab dinner and a drink\, bring your talent (or just come cheer)\, and enjoy a night of local music\, poetry\, comedy\, and more. Whether you’re taking the mic or soaking it all in\, it’s always a good time at Spoons! Hosted by Jordan Lewis Lee\, half of the roots music duo Lickety Split\, with Gabrielle Monia. This is an acoustic-instrument-only set up.
URL:https://exploresisters.com/event/spoons-open-mic/2026-08-31/
LOCATION:Spoons Restaurant\, 473 E Hood Ave\, Sisters\, 97759\, United States
CATEGORIES:Music
ATTACH;FMTTYPE=image/jpeg:https://exploresisters.com/wp-content/uploads/2025/10/just-duets-1.jpg
END:VEVENT
BEGIN:VEVENT
DTSTART;TZID=America/Los_Angeles:20260907T180000
DTEND;TZID=America/Los_Angeles:20260907T203000
DTSTAMP:20260419T173721
CREATED:20260217T033309Z
LAST-MODIFIED:20260220T035953Z
UID:10003703-1788804000-1788813000@exploresisters.com
SUMMARY:Open Mic @ Spoons
DESCRIPTION:Grab dinner and a drink\, bring your talent (or just come cheer)\, and enjoy a night of local music\, poetry\, comedy\, and more. Whether you’re taking the mic or soaking it all in\, it’s always a good time at Spoons! Hosted by Jordan Lewis Lee\, half of the roots music duo Lickety Split\, with Gabrielle Monia. This is an acoustic-instrument-only set up.
URL:https://exploresisters.com/event/spoons-open-mic/2026-09-07/
LOCATION:Spoons Restaurant\, 473 E Hood Ave\, Sisters\, 97759\, United States
CATEGORIES:Music
ATTACH;FMTTYPE=image/jpeg:https://exploresisters.com/wp-content/uploads/2025/10/just-duets-1.jpg
END:VEVENT
BEGIN:VEVENT
DTSTART;TZID=America/Los_Angeles:20260914T180000
DTEND;TZID=America/Los_Angeles:20260914T203000
DTSTAMP:20260419T173721
CREATED:20260217T033309Z
LAST-MODIFIED:20260220T035953Z
UID:10003704-1789408800-1789417800@exploresisters.com
SUMMARY:Open Mic @ Spoons
DESCRIPTION:Grab dinner and a drink\, bring your talent (or just come cheer)\, and enjoy a night of local music\, poetry\, comedy\, and more. Whether you’re taking the mic or soaking it all in\, it’s always a good time at Spoons! Hosted by Jordan Lewis Lee\, half of the roots music duo Lickety Split\, with Gabrielle Monia. This is an acoustic-instrument-only set up.
URL:https://exploresisters.com/event/spoons-open-mic/2026-09-14/
LOCATION:Spoons Restaurant\, 473 E Hood Ave\, Sisters\, 97759\, United States
CATEGORIES:Music
ATTACH;FMTTYPE=image/jpeg:https://exploresisters.com/wp-content/uploads/2025/10/just-duets-1.jpg
END:VEVENT
BEGIN:VEVENT
DTSTART;TZID=America/Los_Angeles:20260921T180000
DTEND;TZID=America/Los_Angeles:20260921T203000
DTSTAMP:20260419T173721
CREATED:20260217T033309Z
LAST-MODIFIED:20260220T035953Z
UID:10003705-1790013600-1790022600@exploresisters.com
SUMMARY:Open Mic @ Spoons
DESCRIPTION:Grab dinner and a drink\, bring your talent (or just come cheer)\, and enjoy a night of local music\, poetry\, comedy\, and more. Whether you’re taking the mic or soaking it all in\, it’s always a good time at Spoons! Hosted by Jordan Lewis Lee\, half of the roots music duo Lickety Split\, with Gabrielle Monia. This is an acoustic-instrument-only set up.
URL:https://exploresisters.com/event/spoons-open-mic/2026-09-21/
LOCATION:Spoons Restaurant\, 473 E Hood Ave\, Sisters\, 97759\, United States
CATEGORIES:Music
ATTACH;FMTTYPE=image/jpeg:https://exploresisters.com/wp-content/uploads/2025/10/just-duets-1.jpg
END:VEVENT
BEGIN:VEVENT
DTSTART;TZID=America/Los_Angeles:20260928T180000
DTEND;TZID=America/Los_Angeles:20260928T203000
DTSTAMP:20260419T173721
CREATED:20260217T033309Z
LAST-MODIFIED:20260220T035953Z
UID:10003706-1790618400-1790627400@exploresisters.com
SUMMARY:Open Mic @ Spoons
DESCRIPTION:Grab dinner and a drink\, bring your talent (or just come cheer)\, and enjoy a night of local music\, poetry\, comedy\, and more. Whether you’re taking the mic or soaking it all in\, it’s always a good time at Spoons! Hosted by Jordan Lewis Lee\, half of the roots music duo Lickety Split\, with Gabrielle Monia. This is an acoustic-instrument-only set up.
URL:https://exploresisters.com/event/spoons-open-mic/2026-09-28/
LOCATION:Spoons Restaurant\, 473 E Hood Ave\, Sisters\, 97759\, United States
CATEGORIES:Music
ATTACH;FMTTYPE=image/jpeg:https://exploresisters.com/wp-content/uploads/2025/10/just-duets-1.jpg
END:VEVENT
BEGIN:VEVENT
DTSTART;TZID=America/Los_Angeles:20261005T180000
DTEND;TZID=America/Los_Angeles:20261005T203000
DTSTAMP:20260419T173721
CREATED:20260217T033309Z
LAST-MODIFIED:20260220T035953Z
UID:10003707-1791223200-1791232200@exploresisters.com
SUMMARY:Open Mic @ Spoons
DESCRIPTION:Grab dinner and a drink\, bring your talent (or just come cheer)\, and enjoy a night of local music\, poetry\, comedy\, and more. Whether you’re taking the mic or soaking it all in\, it’s always a good time at Spoons! Hosted by Jordan Lewis Lee\, half of the roots music duo Lickety Split\, with Gabrielle Monia. This is an acoustic-instrument-only set up.
URL:https://exploresisters.com/event/spoons-open-mic/2026-10-05/
LOCATION:Spoons Restaurant\, 473 E Hood Ave\, Sisters\, 97759\, United States
CATEGORIES:Music
ATTACH;FMTTYPE=image/jpeg:https://exploresisters.com/wp-content/uploads/2025/10/just-duets-1.jpg
END:VEVENT
BEGIN:VEVENT
DTSTART;TZID=America/Los_Angeles:20261012T180000
DTEND;TZID=America/Los_Angeles:20261012T203000
DTSTAMP:20260419T173721
CREATED:20260217T033309Z
LAST-MODIFIED:20260220T035953Z
UID:10003708-1791828000-1791837000@exploresisters.com
SUMMARY:Open Mic @ Spoons
DESCRIPTION:Grab dinner and a drink\, bring your talent (or just come cheer)\, and enjoy a night of local music\, poetry\, comedy\, and more. Whether you’re taking the mic or soaking it all in\, it’s always a good time at Spoons! Hosted by Jordan Lewis Lee\, half of the roots music duo Lickety Split\, with Gabrielle Monia. This is an acoustic-instrument-only set up.
URL:https://exploresisters.com/event/spoons-open-mic/2026-10-12/
LOCATION:Spoons Restaurant\, 473 E Hood Ave\, Sisters\, 97759\, United States
CATEGORIES:Music
ATTACH;FMTTYPE=image/jpeg:https://exploresisters.com/wp-content/uploads/2025/10/just-duets-1.jpg
END:VEVENT
BEGIN:VEVENT
DTSTART;TZID=America/Los_Angeles:20261019T180000
DTEND;TZID=America/Los_Angeles:20261019T203000
DTSTAMP:20260419T173721
CREATED:20260217T033309Z
LAST-MODIFIED:20260220T035953Z
UID:10003709-1792432800-1792441800@exploresisters.com
SUMMARY:Open Mic @ Spoons
DESCRIPTION:Grab dinner and a drink\, bring your talent (or just come cheer)\, and enjoy a night of local music\, poetry\, comedy\, and more. Whether you’re taking the mic or soaking it all in\, it’s always a good time at Spoons! Hosted by Jordan Lewis Lee\, half of the roots music duo Lickety Split\, with Gabrielle Monia. This is an acoustic-instrument-only set up.
URL:https://exploresisters.com/event/spoons-open-mic/2026-10-19/
LOCATION:Spoons Restaurant\, 473 E Hood Ave\, Sisters\, 97759\, United States
CATEGORIES:Music
ATTACH;FMTTYPE=image/jpeg:https://exploresisters.com/wp-content/uploads/2025/10/just-duets-1.jpg
END:VEVENT
BEGIN:VEVENT
DTSTART;TZID=America/Los_Angeles:20261026T180000
DTEND;TZID=America/Los_Angeles:20261026T203000
DTSTAMP:20260419T173721
CREATED:20260217T033309Z
LAST-MODIFIED:20260220T035953Z
UID:10003710-1793037600-1793046600@exploresisters.com
SUMMARY:Open Mic @ Spoons
DESCRIPTION:Grab dinner and a drink\, bring your talent (or just come cheer)\, and enjoy a night of local music\, poetry\, comedy\, and more. Whether you’re taking the mic or soaking it all in\, it’s always a good time at Spoons! Hosted by Jordan Lewis Lee\, half of the roots music duo Lickety Split\, with Gabrielle Monia. This is an acoustic-instrument-only set up.
URL:https://exploresisters.com/event/spoons-open-mic/2026-10-26/
LOCATION:Spoons Restaurant\, 473 E Hood Ave\, Sisters\, 97759\, United States
CATEGORIES:Music
ATTACH;FMTTYPE=image/jpeg:https://exploresisters.com/wp-content/uploads/2025/10/just-duets-1.jpg
END:VEVENT
BEGIN:VEVENT
DTSTART;TZID=America/Los_Angeles:20261102T180000
DTEND;TZID=America/Los_Angeles:20261102T203000
DTSTAMP:20260419T173721
CREATED:20260217T033309Z
LAST-MODIFIED:20260220T035953Z
UID:10003711-1793642400-1793651400@exploresisters.com
SUMMARY:Open Mic @ Spoons
DESCRIPTION:Grab dinner and a drink\, bring your talent (or just come cheer)\, and enjoy a night of local music\, poetry\, comedy\, and more. Whether you’re taking the mic or soaking it all in\, it’s always a good time at Spoons! Hosted by Jordan Lewis Lee\, half of the roots music duo Lickety Split\, with Gabrielle Monia. This is an acoustic-instrument-only set up.
URL:https://exploresisters.com/event/spoons-open-mic/2026-11-02/
LOCATION:Spoons Restaurant\, 473 E Hood Ave\, Sisters\, 97759\, United States
CATEGORIES:Music
ATTACH;FMTTYPE=image/jpeg:https://exploresisters.com/wp-content/uploads/2025/10/just-duets-1.jpg
END:VEVENT
BEGIN:VEVENT
DTSTART;TZID=America/Los_Angeles:20261109T180000
DTEND;TZID=America/Los_Angeles:20261109T203000
DTSTAMP:20260419T173721
CREATED:20260217T033309Z
LAST-MODIFIED:20260220T035953Z
UID:10003712-1794247200-1794256200@exploresisters.com
SUMMARY:Open Mic @ Spoons
DESCRIPTION:Grab dinner and a drink\, bring your talent (or just come cheer)\, and enjoy a night of local music\, poetry\, comedy\, and more. Whether you’re taking the mic or soaking it all in\, it’s always a good time at Spoons! Hosted by Jordan Lewis Lee\, half of the roots music duo Lickety Split\, with Gabrielle Monia. This is an acoustic-instrument-only set up.
URL:https://exploresisters.com/event/spoons-open-mic/2026-11-09/
LOCATION:Spoons Restaurant\, 473 E Hood Ave\, Sisters\, 97759\, United States
CATEGORIES:Music
ATTACH;FMTTYPE=image/jpeg:https://exploresisters.com/wp-content/uploads/2025/10/just-duets-1.jpg
END:VEVENT
END:VCALENDAR